Workbook
Name __JY1: #REF!
Name __KG1: #REF!
Name __kk1: #REF!
Name __KY1: #REF!
Name __SZ1: #REF!
Name __ty1: #REF!
Name __ty2: #REF!
Name __ty3: #REF!
Name _1_1号人孔: #REF!
Name _10D25_: #REF!
Name _11D29_: #REF!
Name _12D32_: #REF!
Name _13D35_: #REF!
Name _13P: #N/A
Name _14H1_: #REF!
Name _15H4_: #REF!
Name _16H5_: #REF!
Name _17H6_: #REF!
Name _17P: #N/A
Name _18H7_: #REF!
Name _18P: #N/A
Name _19NO.1_1立坑舗装: #REF!
Name _1AA11_: #REF!
Name _2_2号・3号集計: #REF!
Name _２￥: #REF!
Name _20NO.1_2立坑舗装: #REF!
Name _2AA12_: #REF!
Name _2次集計: #REF!
Name _3_2号人孔: #REF!
Name _3AA13_: #REF!
Name _4_3号人孔: #REF!
Name _4AA14_: #REF!
Name _5AA15_: #REF!
Name _5D10_: #REF!
Name _6AA16_: #REF!
Name _6D13_: #REF!
Name _7AA17_: #REF!
Name _7D16_: #REF!
Name _8D19_: #REF!
Name _9D22_: #REF!
Name _A1: #REF!
Name _A10: #REF!
Name _A11: #REF!
Name _A12: #REF!
Name _A13: #REF!
Name _A14: #REF!
Name _A15: #REF!
Name _A16: #REF!
Name _A17: #REF!
Name _A18: #REF!
Name _A19: #REF!
Name _A2: #REF!
Name _A20: #REF!
Name _A21: #REF!
Name _A22: #REF!
Name _A23: #REF!
Name _A24: #REF!
Name _A25: #REF!
Name _A26: #REF!
Name _A27: #REF!

Sheet 入札金額内訳書
A1: 入 札 金 額 見 積 内 訳 書
G2: 令和 年 月 日
A3: 工事名： | B3: R8重給管西部武里中野線（2-21)更新工事(概数設計)
A4: 工事箇所： | B4: 春日部市武里中野地内
E6: 会社名
E7: 代表者名
A9: 工 種 | B9: 数 量 | C9: 単 位 | D9: 単 価 | F9: 金 額 | G9: 摘 要
A10: 本工事費
A11: 水道施設整備 | B11: 1 | C11: 式
A12: 管路更新 | B12: 1 | C12: 式
A13: 管路布設替 | B13: 1 | C13: 式
A14: ダクタイル鋳鉄管（DIP-GX）φ250㎜布設工 | B14: 1 | C14: 式
A15: ポリエチレン管(HPPE)φ150㎜布設工 | B15: 1 | C15: 式
A16: ポリエチレン管(HPPE)φ100㎜布設工 | B16: 1 | C16: 式
A17: ポリエチレン管(HPPE)φ75㎜布設工 | B17: 1 | C17: 式
A18: 排泥弁設置工φ250×φ75 | B18: 1 | C18: 式
A19: 排泥弁設置工φ100×φ50 | B19: 1 | C19: 式
A20: 排泥弁設置工φ75×φ50 | B20: 1 | C20: 式
A21: 消火栓設置工 | B21: 1 | C21: 式
A22: 消火栓撤去工 | B22: 1 | C22: 式
... A52: 工事価格 | B52: 1 | C52: 式

Sheet 自己採点申請書(評価項目選択型) 
P1: Ｒ8年度版
P2: 自己採点申請書
B4: =IF(OR(L12="",L13="",L14="",L15="",L16=""),"（入札参加者）の欄を記入してください。","") -> （入札参加者）の欄を記入してください。
N5: 評価項目選択型
P6: （兼落札候補者用提出書）
B8: （あて先） | P8: 令和 年 月 日
B9: =[25]発注者入力!B9 -> 春日部市水道事業管理者 あて | P9: （電子入札での提出時には提出日の記入は必要ありません）
J11: （入札参加者）
J12: 所 在 地
J13: 名称・商号
J14: 代表者名
J15: 連絡担当者
J16: 電 話
B18: 下記工事について、総合評価自己採点方式に伴う関係書類を提出します。 なお、内容については事実と相違ないことを誓約します。
C20: 工事名： | E20: R8重給管西部武里中野線（2-21)更新工事(概数設計)
C22: 工事場所： | E22: 春日部市武里中野地内
B24: 評価項目 | P24: 該当 | Q24: 配点 | R24: 自己 採点 | S24: 提出様式 | W24: 確認,修正後 の自己採点
B25: 大項目 | I25: 小項目
B26: 必須評価項目 | C26: ア | D26: 企業の技術能力 | I26: (ア) | J26: 工事成績評定 | P26: =IF([25]発注者入力!P26="","",[25]発注者入力!P26) | Q26: =IF(P26="○",2,"－") -> － | S26: =IF(P26="○","様式ア(ア)","－") -> － | U26: =IF(AND(P26="○",R26=""),"←入力",IF(OR(AND(P26="○",R26<>""),AND(P26="",R26=""),AND(P26="",R26="－")),"","←入力不要"))
I27: (イ) | J27: =[25]発注者入力!J27 -> 施工実績【直径２５０mm以上のダクタイル鋳鉄管の新設または更新工事】 | P27: =IF([25]発注者入力!P27="","",[25]発注者入力!P27) -> ○ | Q27: =IF(P27="○",1,"－") -> 1 | S27: =IF(P27="○","様式ア(イ)","－") -> 様式ア(イ) | U27: =IF(AND(P27="○",R27=""),"←入力",IF(OR(AND(P27="○",R27<>""),AND(P27="",R27=""),AND(P27="",R27="－")),"","←入力不要")) -> ←入力
C28: イ | D28: 企業の社会的貢献度 | I28: (ア) | J28: 災害防止活動等の協定 | P28: =IF([25]発注者入力!P28="","",[25]発注者入力!P28) -> ○ | Q28: =IF(P28="○",1,"－") -> 1 | S28: =IF(P28="○","様式イ(ア)","－") -> 様式イ(ア) | U28: =IF(AND(P28="○",R28=""),"←入力",IF(OR(AND(P28="○",R28<>""),AND(P28="",R28=""),AND(P28="",R28="－")),"","←入力不要")) -> ←入力
I29: (イ) | J29: 災害防止活動等の実績 | P29: =IF([25]発注者入力!P29="","",[25]発注者入力!P29) -> ○ | Q29: =IF(P29="○",1,"－") -> 1 | S29: =IF(P29="○","様式イ(イ)","－") -> 様式イ(イ) | U29: =IF(AND(P29="○",R29=""),"←入力",IF(OR(AND(P29="○",R29<>""),AND(P29="",R29=""),AND(P29="",R29="－")),"","←入力不要")) -> ←入力
C30: ウ | D30: 配置予定技術者の技術能力 | I30: (ア) | J30: 工事成績評定 | P30: =IF([25]発注者入力!P30="","",[25]発注者入力!P30) -> ○ | Q30: =IF(P30="○",2,"－") -> 2 | S30: =IF(P30="○","様式ウ(ア)","－") -> 様式ウ(ア) | U30: =IF(AND(P30="○",R30=""),"←入力",IF(OR(AND(P30="○",R30<>""),AND(P30="",R30=""),AND(P30="",R30="－")),"","←入力不要")) -> ←入力
I31: (イ) | J31: =[25]発注者入力!J31 -> 施工経験 | P31: =IF([25]発注者入力!P31="","",[25]発注者入力!P31) | Q31: =IF(P31="○",1,"－") -> － | S31: =IF(P31="○","様式ウ(イ)","－") -> － | U31: =IF(AND(P31="○",R31=""),"←入力",IF(OR(AND(P31="○",R31<>""),AND(P31="",R31=""),AND(P31="",R31="－")),"","←入力不要"))
C32: カ | D32: 企業倫理や信頼性等 | I32: (ア) | J32: 入札契約に関する不当な強要行為等 | P32: =IF([25]発注者入力!P32="","",[25]発注者入力!P32) -> ○ | Q32: =IF(P32="○","-1～-6","－") -> -1～-6 | S32: =IF(P32="○","様式カ（ア）～（ウ）","－") -> 様式カ（ア）～（ウ） | U32: =IF(AND(P32="○",R32=""),"←入力",IF(OR(AND(P32="○",R32<>""),AND(P32="",R32=""),AND(P32="",R32="－")),"","←入力不要")) -> ←入力
I33: (イ) | J33: 総合評価の不履行 | P33: =IF([25]発注者入力!P33="","",[25]発注者入力!P33) -> ○ | Q33: =IF(P33="○",-1,"－") -> -1 | S33: =IF(P33="○","様式カ（ア）～（ウ）","－") -> 様式カ（ア）～（ウ） | U33: =IF(AND(P33="○",R33=""),"←入力",IF(OR(AND(P33="○",R33<>""),AND(P33="",R33=""),AND(P33="",R33="－")),"","←入力不要")) -> ←入力
I34: (ウ) | J34: カ（ア）からカ（イ）に該当しない入札参加停止措置 | P34: =IF([25]発注者入力!P34="","",[25]発注者入力!P34) -> ○ | Q34: =IF(P34="○",-1,"－") -> -1 | S34: =IF(P34="○","様式カ（ア）～（ウ）","－") -> 様式カ（ア）～（ウ） | U34: =IF(AND(P34="○",R34=""),"←入力",IF(OR(AND(P34="○",R34<>""),AND(P34="",R34=""),AND(P34="",R34="－")),"","←入力不要")) -> ←入力
C35: キ | D35: 企業の技術能力 | I35: (ア) | J35: 新技術情報提供システム（ＮＥＴＩＳ）の活用 | P35: =IF([25]発注者入力!P35="","",[25]発注者入力!P35) | Q35: =IF(P35="○",1,"－") -> － | S35: =IF(P35="○","様式キ(ア)","－") -> － | U35: =IF(AND(P35="○",R35=""),"←入力",IF(OR(AND(P35="○",R35<>""),AND(P35="",R35=""),AND(P35="",R35="－")),"","←入力不要"))
I36: (イ) | J36: 優秀工事表彰 | P36: =IF([25]発注者入力!P36="","",[25]発注者入力!P36) -> ○ | Q36: =IF(P36="○",1.5,"－") -> 1.5 | S36: =IF(P36="○","様式キ(イ)","－") -> 様式キ(イ) | U36: =IF(AND(P36="○",R36=""),"←入力",IF(OR(AND(P36="○",R36<>""),AND(P36="",R36=""),AND(P36="",R36="－")),"","←入力不要")) -> ←入力
I37: （ウ） | J37: 登録基幹技能者の配置 | P37: =IF([25]発注者入力!P37="","",[25]発注者入力!P37) | Q37: =IF(P37="○",0.5,"－") -> － | S37: =IF(P37="○","様式キ(ウ)","－") -> － | U37: =IF(AND(P37="○",R37=""),"←入力",IF(OR(AND(P37="○",R37<>""),AND(P37="",R37=""),AND(P37="",R37="－")),"","←入力不要"))
I38: （エ） | J38: 労働災害防止対策 | P38: =IF([25]発注者入力!P38="","",[25]発注者入力!P38) | Q38: =IF(P38="○",1,"－") -> － | S38: =IF(P38="○","様式キ(エ)","－") -> － | U38: =IF(AND(P38="○",R38=""),"←入力",IF(OR(AND(P38="○",R38<>""),AND(P38="",R38=""),AND(P38="",R38="－")),"","←入力不要"))
C39: ク | D39: 配置予定技術者の技術能力 | I39: (ア) | J39: 技術者の専門技術力（ﾋｱﾘﾝｸﾞ） | P39: =IF([25]発注者入力!P39="","",[25]発注者入力!P39) | Q39: =IF(P39="○",3,"－") -> － | S39: =IF(P39="○","不要","－") -> －
I40: (イ) | J40: 当該工事の理解度・取組姿勢（ﾋｱﾘﾝｸﾞ） | P40: =IF([25]発注者入力!P40="","",[25]発注者入力!P40) | Q40: =IF(P40="○",3,"－") -> － | S40: =IF(P40="○","不要","－") -> －
I41: (ウ) | J41: 技術者の対応能力（ﾋｱﾘﾝｸﾞ） | P41: =IF([25]発注者入力!P41="","",[25]発注者入力!P41) | Q41: =IF(P41="○",3,"－") -> － | S41: =IF(P41="○","不要","－") -> －
I42: (エ) | J42: =[25]発注者入力!J42 -> 保有する資格【一級土木施工管理技士】 | P42: =IF([25]発注者入力!P42="","",[25]発注者入力!P42) -> ○ | Q42: =IF(P42="○",1,"－") -> 1 | S42: =IF(P42="○","様式ク(エ)","－") -> 様式ク(エ) | U42: =IF(AND(P42="○",R42=""),"←入力",IF(OR(AND(P42="○",R42<>""),AND(P42="",R42=""),AND(P42="",R42="－")),"","←入力不要")) -> ←入力
I43: (オ) | J43: 優秀技術者表彰 | P43: =IF([25]発注者入力!P43="","",[25]発注者入力!P43) -> ○ | Q43: =IF(P43="○",1,"－") -> 1 | S43: =IF(P43="○","様式ク(オ)","－") -> 様式ク(オ) | U43: =IF(AND(P43="○",R43=""),"←入力",IF(OR(AND(P43="○",R43<>""),AND(P43="",R43=""),AND(P43="",R43="－")),"","←入力不要")) -> ←入力
I44: (カ) | J44: 継続教育（ＣＰＤ）への取組 | P44: =IF([25]発注者入力!P44="","",[25]発注者入力!P44) | Q44: =IF(P44="○",1,"－") -> － | S44: =IF(P44="○","様式ク(カ)","－") -> － | U44: =IF(AND(P44="○",R44=""),"←入力",IF(OR(AND(P44="○",R44<>""),AND(P44="",R44=""),AND(P44="",R44="－")),"","←入力不要"))
C45: ケ | D45: 企業の地域精通度 | I45: (ア) | J45: 地理的条件 | P45: =IF([25]発注者入力!P45="","",[25]発注者入力!P45) | Q45: =IF(P45="○",1,"－") -> － | S45: =IF(P45="○","不要","－") -> － | U45: =IF(AND(P45="○",R45=""),"←入力",IF(OR(AND(P45="○",R45<>""),AND(P45="",R45=""),AND(P45="",R45="－")),"","←入力不要"))
C46: コ | D46: 企業の社会的貢献度 | I46: (ア) | J46: 企業の社会的貢献の実績(施設管理への協力活動・研修) | P46: =IF([25]発注者入力!P46="","",[25]発注者入力!P46) -> ○ | Q46: =IF(P46="○",1.5,"－") -> 1.5 | S46: =IF(P46="○","様式コ(ア)","－") -> 様式コ(ア) | U46: =IF(AND(P46="○",R46=""),"←入力",IF(OR(AND(P46="○",R46<>""),AND(P46="",R46=""),AND(P46="",R46="－")),"","←入力不要")) -> ←入力
I47: (イ) | J47: 除雪契約実績 | P47: =IF([25]発注者入力!P47="","",[25]発注者入力!P47) -> ○ | Q47: =IF(P47="○",1,"－") -> 1 | S47: =IF(P47="○","様式コ(イ)","－") -> 様式コ(イ) | U47: =IF(AND(P47="○",R47=""),"←入力",IF(OR(AND(P47="○",R47<>""),AND(P47="",R47=""),AND(P47="",R47="－")),"","←入力不要")) -> ←入力
...

Sheet 低入調査事前申出書
A5: （あて先）
B6: =[25]発注者入力!B9 -> 春日部市水道事業管理者 あて
F9: 住所
F10: 商号又は名称
F11: 代表者氏名
A14: 低入札価格調査に係る事前申出書
A17: ="「"&[25]発注者入力!E20&"」について、春日部市建設工事低入札価格取扱要綱第２条第１項第5号の低価格入札者となった場合、第11条に規定する調査については下記のとおり申し出ます。" -> 「R8重給管西部武里中野線（2-21)更新工事(概数設計)」について、春日部市建設工事低入札価格取扱要綱第２条第１項第5号の低価格入札者となった場合、第11条に規定する調査については下記のとおり申し出ます。
A20: 記
B22: Ａ 調査を辞退します。
B23: この結果、失格となることについては、異存ありません。
B25: Ｂ 調査に協力します。
B28: 備考
B29: ・Ａ，Ｂのどちらかに〇をつけてください
B30: ・Ａを選択したことにより、不利益な取扱いを受けることはありません。
B31: ・Ｂを選択した場合でも、入札執行後に低入札価格調査確認資料等の提出に代わる申出書を提出することができます。
B32: ・記載がない場合は、第11条の調査を実施します。

Sheet 提出方法
A1: 「自己採点申請書」の提出方法について
A4: 画面イメージ
I40: ※埼玉県電子入札共同システム 電子入札システム 一般競争入札（ダイレクト型）操作マニュアル より
A46: ファイルイメージ
