Workbook

Sheet 4月
A1: 令和９年度 時間帯別送電計画（３０分値）
A3: 9 | B3: 4月 | AF3: 単位：ｋｗｈ
A4: =SUM(B4:AF4) -> 5 | B4: =IF(B6="日",1,"") | C4: =IF(C6="日",1,"") | D4: =IF(D6="日",1,"") | E4: =IF(E6="日",1,"") -> 1 | F4: =IF(F6="日",1,"") | G4: =IF(G6="日",1,"") | H4: =IF(H6="日",1,"") | I4: =IF(I6="日",1,"") | ... AC4: =IF(AC6="日",1,"") | AD4: 1 | AE4: =IF(AE6="日",1,"")
A5: 日 時間帯 | B5: 46478 | C5: =B5+1 -> 46479 | D5: =C5+1 -> 46480 | E5: =D5+1 -> 46481 | F5: =E5+1 -> 46482 | G5: =F5+1 -> 46483 | H5: =G5+1 -> 46484 | I5: =H5+1 -> 46485 | J5: =I5+1 -> 46486 | ... AE5: =AD5+1 -> 46507
B6: =TEXT(B5,"aaa") -> 木 | C6: =TEXT(C5,"aaa") -> 金 | D6: =TEXT(D5,"aaa") -> 土 | E6: =TEXT(E5,"aaa") -> 日 | F6: =TEXT(F5,"aaa") -> 月 | G6: =TEXT(G5,"aaa") -> 火 | H6: =TEXT(H5,"aaa") -> 水 | I6: =TEXT(I5,"aaa") -> 木 | ... AE6: =TEXT(AE5,"aaa") -> 金
A7: 0：30 | B7: 870 | C7: 870 | D7: 870 | E7: 870 | F7: 870 | G7: 870 | H7: 870 | I7: 870 | J7: 870 | K7: 870 | L7: 870 | M7: 870 | N7: 870 | O7: 870 | P7: 870 | Q7: 870 | R7: 870 | S7: 870 | T7: 870 | U7: 870 | V7: 870 | W7: 870 | X7: 870 | Y7: 870 | Z7: 870 | AA7: 870 | AB7: 870 | AC7: 870 | AD7: 870 | AE7: 870
A8: 1：00 | B8: 870 | C8: 870 | D8: 870 | E8: 870 | F8: 870 | G8: 870 | H8: 870 | I8: 870 | J8: 870 | K8: 870 | L8: 870 | M8: 870 | N8: 870 | O8: 870 | P8: 870 | Q8: 870 | R8: 870 | S8: 870 | T8: 870 | U8: 870 | V8: 870 | W8: 870 | X8: 870 | Y8: 870 | Z8: 870 | AA8: 870 | AB8: 870 | AC8: 870 | AD8: 870 | AE8: 870
A9: 1：30 | B9: 870 | C9: 870 | D9: 870 | E9: 870 | F9: 870 | G9: 870 | H9: 870 | I9: 870 | J9: 870 | K9: 870 | L9: 870 | M9: 870 | N9: 870 | O9: 870 | P9: 870 | Q9: 870 | R9: 870 | S9: 870 | T9: 870 | U9: 870 | V9: 870 | W9: 870 | X9: 870 | Y9: 870 | Z9: 870 | AA9: 870 | AB9: 870 | AC9: 870 | AD9: 870 | AE9: 870
A10: 2：00 | B10: 870 | C10: 870 | D10: 870 | E10: 870 | F10: 870 | G10: 870 | H10: 870 | I10: 870 | J10: 870 | K10: 870 | L10: 870 | M10: 870 | N10: 870 | O10: 870 | P10: 870 | Q10: 870 | R10: 870 | S10: 870 | T10: 870 | U10: 870 | V10: 870 | W10: 870 | X10: 870 | Y10: 870 | Z10: 870 | AA10: 870 | AB10: 870 | AC10: 870 | AD10: 870 | AE10: 870
A11: 2：30 | B11: 870 | C11: 870 | D11: 870 | E11: 870 | F11: 870 | G11: 870 | H11: 870 | I11: 870 | J11: 870 | K11: 870 | L11: 870 | M11: 870 | N11: 870 | O11: 870 | P11: 870 | Q11: 870 | R11: 870 | S11: 870 | T11: 870 | U11: 870 | V11: 870 | W11: 870 | X11: 870 | Y11: 870 | Z11: 870 | AA11: 870 | AB11: 870 | AC11: 870 | AD11: 870 | AE11: 870
A12: 3：00 | B12: 870 | C12: 870 | D12: 870 | E12: 870 | F12: 870 | G12: 870 | H12: 870 | I12: 870 | J12: 870 | K12: 870 | L12: 870 | M12: 870 | N12: 870 | O12: 870 | P12: 870 | Q12: 870 | R12: 870 | S12: 870 | T12: 870 | U12: 870 | V12: 870 | W12: 870 | X12: 870 | Y12: 870 | Z12: 870 | AA12: 870 | AB12: 870 | AC12: 870 | AD12: 870 | AE12: 870
A13: 3：30 | B13: 870 | C13: 870 | D13: 870 | E13: 870 | F13: 870 | G13: 870 | H13: 870 | I13: 870 | J13: 870 | K13: 870 | L13: 870 | M13: 870 | N13: 870 | O13: 870 | P13: 870 | Q13: 870 | R13: 870 | S13: 870 | T13: 870 | U13: 870 | V13: 870 | W13: 870 | X13: 870 | Y13: 870 | Z13: 870 | AA13: 870 | AB13: 870 | AC13: 870 | AD13: 870 | AE13: 870
A14: 4：00 | B14: 870 | C14: 870 | D14: 870 | E14: 870 | F14: 870 | G14: 870 | H14: 870 | I14: 870 | J14: 870 | K14: 870 | L14: 870 | M14: 870 | N14: 870 | O14: 870 | P14: 870 | Q14: 870 | R14: 870 | S14: 870 | T14: 870 | U14: 870 | V14: 870 | W14: 870 | X14: 870 | Y14: 870 | Z14: 870 | AA14: 870 | AB14: 870 | AC14: 870 | AD14: 870 | AE14: 870
A15: 4：30 | B15: 870 | C15: 870 | D15: 870 | E15: 870 | F15: 870 | G15: 870 | H15: 870 | I15: 870 | J15: 870 | K15: 870 | L15: 870 | M15: 870 | N15: 870 | O15: 870 | P15: 870 | Q15: 870 | R15: 870 | S15: 870 | T15: 870 | U15: 870 | V15: 870 | W15: 870 | X15: 870 | Y15: 870 | Z15: 870 | AA15: 870 | AB15: 870 | AC15: 870 | AD15: 870 | AE15: 870
A16: 5：00 | B16: 870 | C16: 870 | D16: 870 | E16: 870 | F16: 870 | G16: 870 | H16: 870 | I16: 870 | J16: 870 | K16: 870 | L16: 870 | M16: 870 | N16: 870 | O16: 870 | P16: 870 | Q16: 870 | R16: 870 | S16: 870 | T16: 870 | U16: 870 | V16: 870 | W16: 870 | X16: 870 | Y16: 870 | Z16: 870 | AA16: 870 | AB16: 870 | AC16: 870 | AD16: 870 | AE16: 870
A17: 5：30 | B17: 870 | C17: 870 | D17: 870 | E17: 870 | F17: 870 | G17: 870 | H17: 870 | I17: 870 | J17: 870 | K17: 870 | L17: 870 | M17: 870 | N17: 870 | O17: 870 | P17: 870 | Q17: 870 | R17: 870 | S17: 870 | T17: 870 | U17: 870 | V17: 870 | W17: 870 | X17: 870 | Y17: 870 | Z17: 870 | AA17: 870 | AB17: 870 | AC17: 870 | AD17: 870 | AE17: 870
A18: 6：00 | B18: 870 | C18: 870 | D18: 870 | E18: 870 | F18: 870 | G18: 870 | H18: 870 | I18: 870 | J18: 870 | K18: 870 | L18: 870 | M18: 870 | N18: 870 | O18: 870 | P18: 870 | Q18: 870 | R18: 870 | S18: 870 | T18: 870 | U18: 870 | V18: 870 | W18: 870 | X18: 870 | Y18: 870 | Z18: 870 | AA18: 870 | AB18: 870 | AC18: 870 | AD18: 870 | AE18: 870
... A52: 23：00 | B52: 870 | C52: 870 | D52: 870 | E52: 870 | F52: 870 | G52: 870 | H52: 870 | I52: 870 | J52: 870 | K52: 870 | L52: 870 | M52: 870 | N52: 870 | O52: 870 | P52: 870 | Q52: 870 | R52: 870 | S52: 870 | T52: 870 | U52: 870 | V52: 870 | W52: 870 | X52: 870 | Y52: 870 | Z52: 870 | AA52: 870 | AB52: 870 | AC52: 870 | AD52: 870 | AE52: 870
A53: 23：30 | B53: 870 | C53: 870 | D53: 870 | E53: 870 | F53: 870 | G53: 870 | H53: 870 | I53: 870 | J53: 870 | K53: 870 | L53: 870 | M53: 870 | N53: 870 | O53: 870 | P53: 870 | Q53: 870 | R53: 870 | S53: 870 | T53: 870 | U53: 870 | V53: 870 | W53: 870 | X53: 870 | Y53: 870 | Z53: 870 | AA53: 870 | AB53: 870 | AC53: 870 | AD53: 870 | AE53: 870 | AG53: =CONCATENATE(B3,"合計") -> 4月合計
A54: 24：00 | B54: 870 | C54: 870 | D54: 870 | E54: 870 | F54: 870 | G54: 870 | H54: 870 | I54: 870 | J54: 870 | K54: 870 | L54: 870 | M54: 870 | N54: 870 | O54: 870 | P54: 870 | Q54: 870 | R54: 870 | S54: 870 | T54: 870 | U54: 870 | V54: 870 | W54: 870 | X54: 870 | Y54: 870 | Z54: 870 | AA54: 870 | AB54: 870 | AC54: 870 | AD54: 870 | AE54: 870
A55: 計 | B55: =SUM(B7:B54) -> 41200 | C55: =SUM(C7:C54) -> 41200 | D55: =SUM(D7:D54) -> 41200 | E55: =SUM(E7:E54) -> 41760 | F55: =SUM(F7:F54) -> 41200 | G55: =SUM(G7:G54) -> 41200 | H55: =SUM(H7:H54) -> 41200 | I55: =SUM(I7:I54) -> 41200 | ... AE55: =SUM(AE7:AE54) -> 41200 | AG55: =SUM(B55:AE55) -> 1238800
A56: 平日昼間（その他季） | B56: =IF(B4="",SUM(B23:B50),0) -> 23800 | C56: =IF(C4="",SUM(C23:C50),0) -> 23800 | D56: =IF(D4="",SUM(D23:D50),0) -> 23800 | E56: =IF(E4="",SUM(E23:E50),0) -> 0 | F56: =IF(F4="",SUM(F23:F50),0) -> 23800 | G56: =IF(G4="",SUM(G23:G50),0) -> 23800 | H56: =IF(H4="",SUM(H23:H50),0) -> 23800 | I56: =IF(I4="",SUM(I23:I50),0) -> 23800 | ... AE56: =IF(AE4="",SUM(AE23:AE50),0) -> 23800 | AG56: =SUM(B56:AE56) -> 595000
A57: 夜間及び休日 | B57: =IF(B4="",SUM(B7:B22,B51:B54),SUM(B7:B54)) -> 17400 | C57: =IF(C4="",SUM(C7:C22,C51:C54),SUM(C7:C54)) -> 17400 | D57: =IF(D4="",SUM(D7:D22,D51:D54),SUM(D7:D54)) -> 17400 | E57: =IF(E4="",SUM(E7:E22,E51:E54),SUM(E7:E54)) -> 41760 | F57: =IF(F4="",SUM(F7:F22,F51:F54),SUM(F7:F54)) -> 17400 | G57: =IF(G4="",SUM(G7:G22,G51:G54),SUM(G7:G54)) -> 17400 | H57: =IF(H4="",SUM(H7:H22,H51:H54),SUM(H7:H54)) -> 17400 | I57: =IF(I4="",SUM(I7:I22,I51:I54),SUM(I7:I54)) -> 17400 | ... AE57: =IF(AE4="",SUM(AE7:AE22,AE51:AE54),SUM(AE7:AE54)) -> 17400 | AG57: =SUM(B57:AE57) -> 643800
A59: 平均値 | B59: =AVERAGE(B7:B54) -> 858.33333 | C59: =AVERAGE(C7:C54) -> 858.33333 | D59: =AVERAGE(D7:D54) -> 858.33333 | E59: =AVERAGE(E7:E54) -> 870 | F59: =AVERAGE(F7:F54) -> 858.33333 | G59: =AVERAGE(G7:G54) -> 858.33333 | H59: =AVERAGE(H7:H54) -> 858.33333 | I59: =AVERAGE(I7:I54) -> 858.33333 | ... AE59: =AVERAGE(AE7:AE54) -> 858.33333
A60: 最大値 | B60: =MAX(B7:B54) -> 870 | C60: =MAX(C7:C54) -> 870 | D60: =MAX(D7:D54) -> 870 | E60: =MAX(E7:E54) -> 870 | F60: =MAX(F7:F54) -> 870 | G60: =MAX(G7:G54) -> 870 | H60: =MAX(H7:H54) -> 870 | I60: =MAX(I7:I54) -> 870 | ... AE60: =MAX(AE7:AE54) -> 870
A61: 最小値 | B61: =MIN(B7:B54) -> 850 | C61: =MIN(C7:C54) -> 850 | D61: =MIN(D7:D54) -> 850 | E61: =MIN(E7:E54) -> 870 | F61: =MIN(F7:F54) -> 850 | G61: =MIN(G7:G54) -> 850 | H61: =MIN(H7:H54) -> 850 | I61: =MIN(I7:I54) -> 850 | ... AE61: =MIN(AE7:AE54) -> 850

Sheet 5月
A1: 令和９年度 時間帯別送電計画（３０分値）
A3: ='4月'!A3 -> 9 | B3: 5月 | AF3: 単位：ｋｗｈ
A4: =SUM(B4:AF4) -> 8 | C4: 1 | D4: 1 | E4: 1 | F4: 1 | G4: =IF(G6="日",1,"") | H4: =IF(H6="日",1,"") | I4: =IF(I6="日",1,"") | J4: =IF(J6="日",1,"") -> 1 | K4: =IF(K6="日",1,"") | L4: =IF(L6="日",1,"") | M4: =IF(M6="日",1,"") | N4: =IF(N6="日",1,"") | ... AF4: =IF(AF6="日",1,"")
A5: 日 時間帯 | B5: ='4月'!AE5+1 -> 46508 | C5: =B5+1 -> 46509 | D5: =C5+1 -> 46510 | E5: =D5+1 -> 46511 | F5: =E5+1 -> 46512 | G5: =F5+1 -> 46513 | H5: =G5+1 -> 46514 | I5: =H5+1 -> 46515 | J5: =I5+1 -> 46516 | ... AF5: =AE5+1 -> 46538
B6: =TEXT(B5,"aaa") -> 土 | C6: =TEXT(C5,"aaa") -> 日 | D6: =TEXT(D5,"aaa") -> 月 | E6: =TEXT(E5,"aaa") -> 火 | F6: =TEXT(F5,"aaa") -> 水 | G6: =TEXT(G5,"aaa") -> 木 | H6: =TEXT(H5,"aaa") -> 金 | I6: =TEXT(I5,"aaa") -> 土 | ... AF6: =TEXT(AF5,"aaa") -> 月
A7: 0：30 | B7: 870 | C7: 870 | D7: 870 | E7: 870 | F7: 870 | G7: 870 | H7: 870 | I7: 870 | J7: 870 | K7: 870 | L7: 870 | M7: 870 | N7: 870 | O7: 870 | P7: 870 | Q7: 870 | R7: 870 | S7: 870 | T7: 870 | U7: 870 | V7: 870 | W7: 870 | X7: 870 | Y7: 870 | Z7: 870 | AA7: 870 | AB7: 870 | AC7: 870 | AD7: 870 | AE7: 870 | AF7: 870
A8: 1：00 | B8: 870 | C8: 870 | D8: 870 | E8: 870 | F8: 870 | G8: 870 | H8: 870 | I8: 870 | J8: 870 | K8: 870 | L8: 870 | M8: 870 | N8: 870 | O8: 870 | P8: 870 | Q8: 870 | R8: 870 | S8: 870 | T8: 870 | U8: 870 | V8: 870 | W8: 870 | X8: 870 | Y8: 870 | Z8: 870 | AA8: 870 | AB8: 870 | AC8: 870 | AD8: 870 | AE8: 870 | AF8: 870
A9: 1：30 | B9: 870 | C9: 870 | D9: 870 | E9: 870 | F9: 870 | G9: 870 | H9: 870 | I9: 870 | J9: 870 | K9: 870 | L9: 870 | M9: 870 | N9: 870 | O9: 870 | P9: 870 | Q9: 870 | R9: 870 | S9: 870 | T9: 870 | U9: 870 | V9: 870 | W9: 870 | X9: 870 | Y9: 870 | Z9: 870 | AA9: 870 | AB9: 870 | AC9: 870 | AD9: 870 | AE9: 870 | AF9: 870
A10: 2：00 | B10: 870 | C10: 870 | D10: 870 | E10: 870 | F10: 870 | G10: 870 | H10: 870 | I10: 870 | J10: 870 | K10: 870 | L10: 870 | M10: 870 | N10: 870 | O10: 870 | P10: 870 | Q10: 870 | R10: 870 | S10: 870 | T10: 870 | U10: 870 | V10: 870 | W10: 870 | X10: 870 | Y10: 870 | Z10: 870 | AA10: 870 | AB10: 870 | AC10: 870 | AD10: 870 | AE10: 870 | AF10: 870
A11: 2：30 | B11: 870 | C11: 870 | D11: 870 | E11: 870 | F11: 870 | G11: 870 | H11: 870 | I11: 870 | J11: 870 | K11: 870 | L11: 870 | M11: 870 | N11: 870 | O11: 870 | P11: 870 | Q11: 870 | R11: 870 | S11: 870 | T11: 870 | U11: 870 | V11: 870 | W11: 870 | X11: 870 | Y11: 870 | Z11: 870 | AA11: 870 | AB11: 870 | AC11: 870 | AD11: 870 | AE11: 870 | AF11: 870
A12: 3：00 | B12: 870 | C12: 870 | D12: 870 | E12: 870 | F12: 870 | G12: 870 | H12: 870 | I12: 870 | J12: 870 | K12: 870 | L12: 870 | M12: 870 | N12: 870 | O12: 870 | P12: 870 | Q12: 870 | R12: 870 | S12: 870 | T12: 870 | U12: 870 | V12: 870 | W12: 870 | X12: 870 | Y12: 870 | Z12: 870 | AA12: 870 | AB12: 870 | AC12: 870 | AD12: 870 | AE12: 870 | AF12: 870
A13: 3：30 | B13: 870 | C13: 870 | D13: 870 | E13: 870 | F13: 870 | G13: 870 | H13: 870 | I13: 870 | J13: 870 | K13: 870 | L13: 870 | M13: 870 | N13: 870 | O13: 870 | P13: 870 | Q13: 870 | R13: 870 | S13: 870 | T13: 870 | U13: 870 | V13: 870 | W13: 870 | X13: 870 | Y13: 870 | Z13: 870 | AA13: 870 | AB13: 870 | AC13: 870 | AD13: 870 | AE13: 870 | AF13: 870
A14: 4：00 | B14: 870 | C14: 870 | D14: 870 | E14: 870 | F14: 870 | G14: 870 | H14: 870 | I14: 870 | J14: 870 | K14: 870 | L14: 870 | M14: 870 | N14: 870 | O14: 870 | P14: 870 | Q14: 870 | R14: 870 | S14: 870 | T14: 870 | U14: 870 | V14: 870 | W14: 870 | X14: 870 | Y14: 870 | Z14: 870 | AA14: 870 | AB14: 870 | AC14: 870 | AD14: 870 | AE14: 870 | AF14: 870
A15: 4：30 | B15: 870 | C15: 870 | D15: 870 | E15: 870 | F15: 870 | G15: 870 | H15: 870 | I15: 870 | J15: 870 | K15: 870 | L15: 870 | M15: 870 | N15: 870 | O15: 870 | P15: 870 | Q15: 870 | R15: 870 | S15: 870 | T15: 870 | U15: 870 | V15: 870 | W15: 870 | X15: 870 | Y15: 870 | Z15: 870 | AA15: 870 | AB15: 870 | AC15: 870 | AD15: 870 | AE15: 870 | AF15: 870
A16: 5：00 | B16: 870 | C16: 870 | D16: 870 | E16: 870 | F16: 870 | G16: 870 | H16: 870 | I16: 870 | J16: 870 | K16: 870 | L16: 870 | M16: 870 | N16: 870 | O16: 870 | P16: 870 | Q16: 870 | R16: 870 | S16: 870 | T16: 870 | U16: 870 | V16: 870 | W16: 870 | X16: 870 | Y16: 870 | Z16: 870 | AA16: 870 | AB16: 870 | AC16: 870 | AD16: 870 | AE16: 870 | AF16: 870
A17: 5：30 | B17: 870 | C17: 870 | D17: 870 | E17: 870 | F17: 870 | G17: 870 | H17: 870 | I17: 870 | J17: 870 | K17: 870 | L17: 870 | M17: 870 | N17: 870 | O17: 870 | P17: 870 | Q17: 870 | R17: 870 | S17: 870 | T17: 870 | U17: 870 | V17: 870 | W17: 870 | X17: 870 | Y17: 870 | Z17: 870 | AA17: 870 | AB17: 870 | AC17: 870 | AD17: 870 | AE17: 870 | AF17: 870
A18: 6：00 | B18: 870 | C18: 870 | D18: 870 | E18: 870 | F18: 870 | G18: 870 | H18: 870 | I18: 870 | J18: 870 | K18: 870 | L18: 870 | M18: 870 | N18: 870 | O18: 870 | P18: 870 | Q18: 870 | R18: 870 | S18: 870 | T18: 870 | U18: 870 | V18: 870 | W18: 870 | X18: 870 | Y18: 870 | Z18: 870 | AA18: 870 | AB18: 870 | AC18: 870 | AD18: 870 | AE18: 870 | AF18: 870
... A52: 23：00 | B52: 870 | C52: 870 | D52: 870 | E52: 870 | F52: 870 | G52: 870 | H52: 870 | I52: 870 | J52: 870 | K52: 870 | L52: 870 | M52: 870 | N52: 870 | O52: 870 | P52: 870 | Q52: 870 | R52: 870 | S52: 870 | T52: 870 | U52: 870 | V52: 870 | W52: 870 | X52: 870 | Y52: 870 | Z52: 870 | AA52: 870 | AB52: 870 | AC52: 870 | AD52: 870 | AE52: 870 | AF52: 870
A53: 23：30 | B53: 870 | C53: 870 | D53: 870 | E53: 870 | F53: 870 | G53: 870 | H53: 870 | I53: 870 | J53: 870 | K53: 870 | L53: 870 | M53: 870 | N53: 870 | O53: 870 | P53: 870 | Q53: 870 | R53: 870 | S53: 870 | T53: 870 | U53: 870 | V53: 870 | W53: 870 | X53: 870 | Y53: 870 | Z53: 870 | AA53: 870 | AB53: 870 | AC53: 870 | AD53: 870 | AE53: 870 | AF53: 870 | AG53: =CONCATENATE(B3,"合計") -> 5月合計
A54: 24：00 | B54: 870 | C54: 870 | D54: 870 | E54: 870 | F54: 870 | G54: 870 | H54: 870 | I54: 870 | J54: 870 | K54: 870 | L54: 870 | M54: 870 | N54: 870 | O54: 870 | P54: 870 | Q54: 870 | R54: 870 | S54: 870 | T54: 870 | U54: 870 | V54: 870 | W54: 870 | X54: 870 | Y54: 870 | Z54: 870 | AA54: 870 | AB54: 870 | AC54: 870 | AD54: 870 | AE54: 870 | AF54: 870
A55: 計 | B55: =SUM(B7:B54) -> 41200 | C55: =SUM(C7:C54) -> 41760 | D55: =SUM(D7:D54) -> 41760 | E55: =SUM(E7:E54) -> 41760 | F55: =SUM(F7:F54) -> 41760 | G55: =SUM(G7:G54) -> 41200 | H55: =SUM(H7:H54) -> 41200 | I55: =SUM(I7:I54) -> 41200 | ... AF55: =SUM(AF7:AF54) -> 41200 | AG55: =SUM(B55:AF55) -> 1281680
A56: 平日昼間（その他季） | B56: =IF(B4="",SUM(B23:B50),0) -> 23800 | C56: =IF(C4="",SUM(C23:C50),0) -> 0 | D56: =IF(D4="",SUM(D23:D50),0) -> 0 | E56: =IF(E4="",SUM(E23:E50),0) -> 0 | F56: =IF(F4="",SUM(F23:F50),0) -> 0 | G56: =IF(G4="",SUM(G23:G50),0) -> 23800 | H56: =IF(H4="",SUM(H23:H50),0) -> 23800 | I56: =IF(I4="",SUM(I23:I50),0) -> 23800 | ... AF56: =IF(AF4="",SUM(AF23:AF50),0) -> 23800 | AG56: =SUM(B56:AF56) -> 547400
A57: 夜間及び休日 | B57: =IF(B4="",SUM(B7:B22,B51:B54),SUM(B7:B54)) -> 17400 | C57: =IF(C4="",SUM(C7:C22,C51:C54),SUM(C7:C54)) -> 41760 | D57: =IF(D4="",SUM(D7:D22,D51:D54),SUM(D7:D54)) -> 41760 | E57: =IF(E4="",SUM(E7:E22,E51:E54),SUM(E7:E54)) -> 41760 | F57: =IF(F4="",SUM(F7:F22,F51:F54),SUM(F7:F54)) -> 41760 | G57: =IF(G4="",SUM(G7:G22,G51:G54),SUM(G7:G54)) -> 17400 | H57: =IF(H4="",SUM(H7:H22,H51:H54),SUM(H7:H54)) -> 17400 | I57: =IF(I4="",SUM(I7:I22,I51:I54),SUM(I7:I54)) -> 17400 | ... AF57: =IF(AF4="",SUM(AF7:AF22,AF51:AF54),SUM(AF7:AF54)) -> 17400 | AG57: =SUM(B57:AF57) -> 734280
A59: 平均値 | B59: =AVERAGE(B7:B54) -> 858.33333 | C59: =AVERAGE(C7:C54) -> 870 | D59: =AVERAGE(D7:D54) -> 870 | E59: =AVERAGE(E7:E54) -> 870 | F59: =AVERAGE(F7:F54) -> 870 | G59: =AVERAGE(G7:G54) -> 858.33333 | H59: =AVERAGE(H7:H54) -> 858.33333 | I59: =AVERAGE(I7:I54) -> 858.33333 | ... AF59: =AVERAGE(AF7:AF54) -> 858.33333
A60: 最大値 | B60: =MAX(B7:B54) -> 870 | C60: =MAX(C7:C54) -> 870 | D60: =MAX(D7:D54) -> 870 | E60: =MAX(E7:E54) -> 870 | F60: =MAX(F7:F54) -> 870 | G60: =MAX(G7:G54) -> 870 | H60: =MAX(H7:H54) -> 870 | I60: =MAX(I7:I54) -> 870 | ... AF60: =MAX(AF7:AF54) -> 870
A61: 最小値 | B61: =MIN(B7:B54) -> 850 | C61: =MIN(C7:C54) -> 870 | D61: =MIN(D7:D54) -> 870 | E61: =MIN(E7:E54) -> 870 | F61: =MIN(F7:F54) -> 870 | G61: =MIN(G7:G54) -> 850 | H61: =MIN(H7:H54) -> 850 | I61: =MIN(I7:I54) -> 850 | ... AF61: =MIN(AF7:AF54) -> 850

Sheet 6月
A1: 令和９年度 時間帯別送電計画（３０分値）
A3: ='4月'!A3 -> 9 | B3: 6月 | AF3: 単位：ｋｗｈ
A4: =SUM(B4:AF4) -> 4 | B4: =IF(B6="日",1,"") | C4: =IF(C6="日",1,"") | D4: =IF(D6="日",1,"") | E4: =IF(E6="日",1,"") | F4: =IF(F6="日",1,"") | G4: =IF(G6="日",1,"") -> 1 | H4: =IF(H6="日",1,"") | I4: =IF(I6="日",1,"") | ... AE4: =IF(AE6="日",1,"")
A5: 日 時間帯 | B5: ='5月'!AF5+1 -> 46539 | C5: =B5+1 -> 46540 | D5: =C5+1 -> 46541 | E5: =D5+1 -> 46542 | F5: =E5+1 -> 46543 | G5: =F5+1 -> 46544 | H5: =G5+1 -> 46545 | I5: =H5+1 -> 46546 | J5: =I5+1 -> 46547 | ... AE5: =AD5+1 -> 46568
B6: =TEXT(B5,"aaa") -> 火 | C6: =TEXT(C5,"aaa") -> 水 | D6: =TEXT(D5,"aaa") -> 木 | E6: =TEXT(E5,"aaa") -> 金 | F6: =TEXT(F5,"aaa") -> 土 | G6: =TEXT(G5,"aaa") -> 日 | H6: =TEXT(H5,"aaa") -> 月 | I6: =TEXT(I5,"aaa") -> 火 | ... AE6: =TEXT(AE5,"aaa") -> 水
A7: 0：30 | B7: 870 | C7: 870 | D7: 870 | E7: 870 | F7: 870 | G7: 870 | H7: 870 | I7: 870 | J7: 870 | K7: 870 | L7: 870 | M7: 870 | N7: 870 | O7: 870 | P7: 870 | Q7: 870 | R7: 870 | S7: 870 | T7: 870 | U7: 870 | V7: 870 | W7: 870 | X7: 870 | Y7: 870 | Z7: 870 | AA7: 870 | AB7: 870 | AC7: 870 | AD7: 870 | AE7: 870
A8: 1：00 | B8: 870 | C8: 870 | D8: 870 | E8: 870 | F8: 870 | G8: 870 | H8: 870 | I8: 870 | J8: 870 | K8: 870 | L8: 870 | M8: 870 | N8: 870 | O8: 870 | P8: 870 | Q8: 870 | R8: 870 | S8: 870 | T8: 870 | U8: 870 | V8: 870 | W8: 870 | X8: 870 | Y8: 870 | Z8: 870 | AA8: 870 | AB8: 870 | AC8: 870 | AD8: 870 | AE8: 870
A9: 1：30 | B9: 870 | C9: 870 | D9: 870 | E9: 870 | F9: 870 | G9: 870 | H9: 870 | I9: 870 | J9: 870 | K9: 870 | L9: 870 | M9: 870 | N9: 870 | O9: 870 | P9: 870 | Q9: 870 | R9: 870 | S9: 870 | T9: 870 | U9: 870 | V9: 870 | W9: 870 | X9: 870 | Y9: 870 | Z9: 870 | AA9: 870 | AB9: 870 | AC9: 870 | AD9: 870 | AE9: 870
A10: 2：00 | B10: 870 | C10: 870 | D10: 870 | E10: 870 | F10: 870 | G10: 870 | H10: 870 | I10: 870 | J10: 870 | K10: 870 | L10: 870 | M10: 870 | N10: 870 | O10: 870 | P10: 870 | Q10: 870 | R10: 870 | S10: 870 | T10: 870 | U10: 870 | V10: 870 | W10: 870 | X10: 870 | Y10: 870 | Z10: 870 | AA10: 870 | AB10: 870 | AC10: 870 | AD10: 870 | AE10: 870
A11: 2：30 | B11: 870 | C11: 870 | D11: 870 | E11: 870 | F11: 870 | G11: 870 | H11: 870 | I11: 870 | J11: 870 | K11: 870 | L11: 870 | M11: 870 | N11: 870 | O11: 870 | P11: 870 | Q11: 870 | R11: 870 | S11: 870 | T11: 870 | U11: 870 | V11: 870 | W11: 870 | X11: 870 | Y11: 870 | Z11: 870 | AA11: 870 | AB11: 870 | AC11: 870 | AD11: 870 | AE11: 870
A12: 3：00 | B12: 870 | C12: 870 | D12: 870 | E12: 870 | F12: 870 | G12: 870 | H12: 870 | I12: 870 | J12: 870 | K12: 870 | L12: 870 | M12: 870 | N12: 870 | O12: 870 | P12: 870 | Q12: 870 | R12: 870 | S12: 870 | T12: 870 | U12: 870 | V12: 870 | W12: 870 | X12: 870 | Y12: 870 | Z12: 870 | AA12: 870 | AB12: 870 | AC12: 870 | AD12: 870 | AE12: 870
A13: 3：30 | B13: 870 | C13: 870 | D13: 870 | E13: 870 | F13: 870 | G13: 870 | H13: 870 | I13: 870 | J13: 870 | K13: 870 | L13: 870 | M13: 870 | N13: 870 | O13: 870 | P13: 870 | Q13: 870 | R13: 870 | S13: 870 | T13: 870 | U13: 870 | V13: 870 | W13: 870 | X13: 870 | Y13: 870 | Z13: 870 | AA13: 870 | AB13: 870 | AC13: 870 | AD13: 870 | AE13: 870
A14: 4：00 | B14: 870 | C14: 870 | D14: 870 | E14: 870 | F14: 870 | G14: 870 | H14: 870 | I14: 870 | J14: 870 | K14: 870 | L14: 870 | M14: 870 | N14: 870 | O14: 870 | P14: 870 | Q14: 870 | R14: 870 | S14: 870 | T14: 870 | U14: 870 | V14: 870 | W14: 870 | X14: 870 | Y14: 870 | Z14: 870 | AA14: 870 | AB14: 870 | AC14: 870 | AD14: 870 | AE14: 870
A15: 4：30 | B15: 870 | C15: 870 | D15: 870 | E15: 870 | F15: 870 | G15: 870 | H15: 870 | I15: 870 | J15: 870 | K15: 870 | L15: 870 | M15: 870 | N15: 870 | O15: 870 | P15: 870 | Q15: 870 | R15: 870 | S15: 870 | T15: 870 | U15: 870 | V15: 870 | W15: 870 | X15: 870 | Y15: 870 | Z15: 870 | AA15: 870 | AB15: 870 | AC15: 870 | AD15: 870 | AE15: 870
A16: 5：00 | B16: 870 | C16: 870 | D16: 870 | E16: 870 | F16: 870 | G16: 870 | H16: 870 | I16: 870 | J16: 870 | K16: 870 | L16: 870 | M16: 870 | N16: 870 | O16: 870 | P16: 870 | Q16: 870 | R16: 870 | S16: 870 | T16: 870 | U16: 870 | V16: 870 | W16: 870 | X16: 870 | Y16: 870 | Z16: 870 | AA16: 870 | AB16: 870 | AC16: 870 | AD16: 870 | AE16: 870
A17: 5：30 | B17: 870 | C17: 870 | D17: 870 | E17: 870 | F17: 870 | G17: 870 | H17: 870 | I17: 870 | J17: 870 | K17: 870 | L17: 870 | M17: 870 | N17: 870 | O17: 870 | P17: 870 | Q17: 870 | R17: 870 | S17: 870 | T17: 870 | U17: 870 | V17: 870 | W17: 870 | X17: 870 | Y17: 870 | Z17: 870 | AA17: 870 | AB17: 870 | AC17: 870 | AD17: 870 | AE17: 870
A18: 6：00 | B18: 870 | C18: 870 | D18: 870 | E18: 870 | F18: 870 | G18: 870 | H18: 870 | I18: 870 | J18: 870 | K18: 870 | L18: 870 | M18: 870 | N18: 870 | O18: 870 | P18: 870 | Q18: 870 | R18: 870 | S18: 870 | T18: 870 | U18: 870 | V18: 870 | W18: 870 | X18: 870 | Y18: 870 | Z18: 870 | AA18: 870 | AB18: 870 | AC18: 870 | AD18: 870 | AE18: 870
... A52: 23：00 | B52: 870 | C52: 870 | D52: 870 | E52: 870 | F52: 870 | G52: 870 | H52: 870 | I52: 870 | J52: 870 | K52: 870 | L52: 870 | M52: 870 | N52: 870 | O52: 870 | P52: 870 | Q52: 870 | R52: 870 | S52: 870 | T52: 870 | U52: 870 | V52: 870 | W52: 870 | X52: 870 | Y52: 870 | Z52: 870 | AA52: 870 | AB52: 870 | AC52: 870 | AD52: 870 | AE52: 870
A53: 23：30 | B53: 870 | C53: 870 | D53: 870 | E53: 870 | F53: 870 | G53: 870 | H53: 870 | I53: 870 | J53: 870 | K53: 870 | L53: 870 | M53: 870 | N53: 870 | O53: 870 | P53: 870 | Q53: 870 | R53: 870 | S53: 870 | T53: 870 | U53: 870 | V53: 870 | W53: 870 | X53: 870 | Y53: 870 | Z53: 870 | AA53: 870 | AB53: 870 | AC53: 870 | AD53: 870 | AE53: 870 | AG53: =CONCATENATE(B3,"合計") -> 6月合計
A54: 24：00 | B54: 870 | C54: 870 | D54: 870 | E54: 870 | F54: 870 | G54: 870 | H54: 870 | I54: 870 | J54: 870 | K54: 870 | L54: 870 | M54: 870 | N54: 870 | O54: 870 | P54: 870 | Q54: 870 | R54: 870 | S54: 870 | T54: 870 | U54: 870 | V54: 870 | W54: 870 | X54: 870 | Y54: 870 | Z54: 870 | AA54: 870 | AB54: 870 | AC54: 870 | AD54: 870 | AE54: 870
A55: 計 | B55: =SUM(B7:B54) -> 41200 | C55: =SUM(C7:C54) -> 41200 | D55: =SUM(D7:D54) -> 41200 | E55: =SUM(E7:E54) -> 41200 | F55: =SUM(F7:F54) -> 41200 | G55: =SUM(G7:G54) -> 41760 | H55: =SUM(H7:H54) -> 41200 | I55: =SUM(I7:I54) -> 41200 | ... AE55: =SUM(AE7:AE54) -> 41200 | AG55: =SUM(B55:AE55) -> 1238240
A56: 平日昼間（その他季） | B56: =IF(B4="",SUM(B23:B50),0) -> 23800 | C56: =IF(C4="",SUM(C23:C50),0) -> 23800 | D56: =IF(D4="",SUM(D23:D50),0) -> 23800 | E56: =IF(E4="",SUM(E23:E50),0) -> 23800 | F56: =IF(F4="",SUM(F23:F50),0) -> 23800 | G56: =IF(G4="",SUM(G23:G50),0) -> 0 | H56: =IF(H4="",SUM(H23:H50),0) -> 23800 | I56: =IF(I4="",SUM(I23:I50),0) -> 23800 | ... AE56: =IF(AE4="",SUM(AE23:AE50),0) -> 23800 | AG56: =SUM(B56:AE56) -> 618800
A57: 夜間及び休日 | B57: =IF(B4="",SUM(B7:B22,B51:B54),SUM(B7:B54)) -> 17400 | C57: =IF(C4="",SUM(C7:C22,C51:C54),SUM(C7:C54)) -> 17400 | D57: =IF(D4="",SUM(D7:D22,D51:D54),SUM(D7:D54)) -> 17400 | E57: =IF(E4="",SUM(E7:E22,E51:E54),SUM(E7:E54)) -> 17400 | F57: =IF(F4="",SUM(F7:F22,F51:F54),SUM(F7:F54)) -> 17400 | G57: =IF(G4="",SUM(G7:G22,G51:G54),SUM(G7:G54)) -> 41760 | H57: =IF(H4="",SUM(H7:H22,H51:H54),SUM(H7:H54)) -> 17400 | I57: =IF(I4="",SUM(I7:I22,I51:I54),SUM(I7:I54)) -> 17400 | ... AE57: =IF(AE4="",SUM(AE7:AE22,AE51:AE54),SUM(AE7:AE54)) -> 17400 | AG57: =SUM(B57:AE57) -> 619440
A59: 平均値 | B59: =AVERAGE(B7:B54) -> 858.33333 | C59: =AVERAGE(C7:C54) -> 858.33333 | D59: =AVERAGE(D7:D54) -> 858.33333 | E59: =AVERAGE(E7:E54) -> 858.33333 | F59: =AVERAGE(F7:F54) -> 858.33333 | G59: =AVERAGE(G7:G54) -> 870 | H59: =AVERAGE(H7:H54) -> 858.33333 | I59: =AVERAGE(I7:I54) -> 858.33333 | ... AE59: =AVERAGE(AE7:AE54) -> 858.33333
A60: 最大値 | B60: =MAX(B7:B54) -> 870 | C60: =MAX(C7:C54) -> 870 | D60: =MAX(D7:D54) -> 870 | E60: =MAX(E7:E54) -> 870 | F60: =MAX(F7:F54) -> 870 | G60: =MAX(G7:G54) -> 870 | H60: =MAX(H7:H54) -> 870 | I60: =MAX(I7:I54) -> 870 | ... AE60: =MAX(AE7:AE54) -> 870
A61: 最小値 | B61: =MIN(B7:B54) -> 850 | C61: =MIN(C7:C54) -> 850 | D61: =MIN(D7:D54) -> 850 | E61: =MIN(E7:E54) -> 850 | F61: =MIN(F7:F54) -> 850 | G61: =MIN(G7:G54) -> 870 | H61: =MIN(H7:H54) -> 850 | I61: =MIN(I7:I54) -> 850 | ... AE61: =MIN(AE7:AE54) -> 850

Sheet 7月
A1: 令和９年度 時間帯別送電計画（３０分値）
A3: ='4月'!A3 -> 9 | B3: 7月 | AF3: 単位：ｋｗｈ
A4: =SUM(B4:AF4) -> 5 | B4: =IF(B6="日",1,"") | C4: =IF(C6="日",1,"") | D4: =IF(D6="日",1,"") | E4: =IF(E6="日",1,"") -> 1 | F4: =IF(F6="日",1,"") | G4: =IF(G6="日",1,"") | H4: =IF(H6="日",1,"") | I4: =IF(I6="日",1,"") | ... S4: =IF(S6="日",1,"") -> 1 | T4: 1 | U4: =IF(U6="日",1,"") | V4: =IF(V6="日",1,"") | W4: =IF(W6="日",1,"") | X4: =IF(X6="日",1,"") | Y4: =IF(Y6="日",1,"") | Z4: =IF(Z6="日",1,"") -> 1 | AA4: =IF(AA6="日",1,"") | AB4: =IF(AB6="日",1,"") | ... AF4: =IF(AF6="日",1,"")
A5: 日 時間帯 | B5: ='6月'!AE5+1 -> 46569 | C5: =B5+1 -> 46570 | D5: =C5+1 -> 46571 | E5: =D5+1 -> 46572 | F5: =E5+1 -> 46573 | G5: =F5+1 -> 46574 | H5: =G5+1 -> 46575 | I5: =H5+1 -> 46576 | J5: =I5+1 -> 46577 | ... AF5: =AE5+1 -> 46599
B6: =TEXT(B5,"aaa") -> 木 | C6: =TEXT(C5,"aaa") -> 金 | D6: =TEXT(D5,"aaa") -> 土 | E6: =TEXT(E5,"aaa") -> 日 | F6: =TEXT(F5,"aaa") -> 月 | G6: =TEXT(G5,"aaa") -> 火 | H6: =TEXT(H5,"aaa") -> 水 | I6: =TEXT(I5,"aaa") -> 木 | ... AF6: =TEXT(AF5,"aaa") -> 土
A7: 0：30 | B7: 870 | C7: 870 | D7: 870 | E7: 870 | F7: 870 | G7: 870 | H7: 870 | I7: 870 | J7: 870 | K7: 870 | L7: 870 | M7: 870 | N7: 870 | O7: 870 | P7: 870 | Q7: 870 | R7: 870 | S7: 870 | T7: 870 | U7: 870 | V7: 870 | W7: 870 | X7: 870 | Y7: 870 | Z7: 870 | AA7: 870 | AB7: 870 | AC7: 870 | AD7: 870 | AE7: 870 | AF7: 870
A8: 1：00 | B8: 870 | C8: 870 | D8: 870 | E8: 870 | F8: 870 | G8: 870 | H8: 870 | I8: 870 | J8: 870 | K8: 870 | L8: 870 | M8: 870 | N8: 870 | O8: 870 | P8: 870 | Q8: 870 | R8: 870 | S8: 870 | T8: 870 | U8: 870 | V8: 870 | W8: 870 | X8: 870 | Y8: 870 | Z8: 870 | AA8: 870 | AB8: 870 | AC8: 870 | AD8: 870 | AE8: 870 | AF8: 870
A9: 1：30 | B9: 870 | C9: 870 | D9: 870 | E9: 870 | F9: 870 | G9: 870 | H9: 870 | I9: 870 | J9: 870 | K9: 870 | L9: 870 | M9: 870 | N9: 870 | O9: 870 | P9: 870 | Q9: 870 | R9: 870 | S9: 870 | T9: 870 | U9: 870 | V9: 870 | W9: 870 | X9: 870 | Y9: 870 | Z9: 870 | AA9: 870 | AB9: 870 | AC9: 870 | AD9: 870 | AE9: 870 | AF9: 870
A10: 2：00 | B10: 870 | C10: 870 | D10: 870 | E10: 870 | F10: 870 | G10: 870 | H10: 870 | I10: 870 | J10: 870 | K10: 870 | L10: 870 | M10: 870 | N10: 870 | O10: 870 | P10: 870 | Q10: 870 | R10: 870 | S10: 870 | T10: 870 | U10: 870 | V10: 870 | W10: 870 | X10: 870 | Y10: 870 | Z10: 870 | AA10: 870 | AB10: 870 | AC10: 870 | AD10: 870 | AE10: 870 | AF10: 870
A11: 2：30 | B11: 870 | C11: 870 | D11: 870 | E11: 870 | F11: 870 | G11: 870 | H11: 870 | I11: 870 | J11: 870 | K11: 870 | L11: 870 | M11: 870 | N11: 870 | O11: 870 | P11: 870 | Q11: 870 | R11: 870 | S11: 870 | T11: 870 | U11: 870 | V11: 870 | W11: 870 | X11: 870 | Y11: 870 | Z11: 870 | AA11: 870 | AB11: 870 | AC11: 870 | AD11: 870 | AE11: 870 | AF11: 870
A12: 3：00 | B12: 870 | C12: 870 | D12: 870 | E12: 870 | F12: 870 | G12: 870 | H12: 870 | I12: 870 | J12: 870 | K12: 870 | L12: 870 | M12: 870 | N12: 870 | O12: 870 | P12: 870 | Q12: 870 | R12: 870 | S12: 870 | T12: 870 | U12: 870 | V12: 870 | W12: 870 | X12: 870 | Y12: 870 | Z12: 870 | AA12: 870 | AB12: 870 | AC12: 870 | AD12: 870 | AE12: 870 | AF12: 870
A13: 3：30 | B13: 870 | C13: 870 | D13: 870 | E13: 870 | F13: 870 | G13: 870 | H13: 870 | I13: 870 | J13: 870 | K13: 870 | L13: 870 | M13: 870 | N13: 870 | O13: 870 | P13: 870 | Q13: 870 | R13: 870 | S13: 870 | T13: 870 | U13: 870 | V13: 870 | W13: 870 | X13: 870 | Y13: 870 | Z13: 870 | AA13: 870 | AB13: 870 | AC13: 870 | AD13: 870 | AE13: 870 | AF13: 870
A14: 4：00 | B14: 870 | C14: 870 | D14: 870 | E14: 870 | F14: 870 | G14: 870 | H14: 870 | I14: 870 | J14: 870 | K14: 870 | L14: 870 | M14: 870 | N14: 870 | O14: 870 | P14: 870 | Q14: 870 | R14: 870 | S14: 870 | T14: 870 | U14: 870 | V14: 870 | W14: 870 | X14: 870 | Y14: 870 | Z14: 870 | AA14: 870 | AB14: 870 | AC14: 870 | AD14: 870 | AE14: 870 | AF14: 870
A15: 4：30 | B15: 870 | C15: 870 | D15: 870 | E15: 870 | F15: 870 | G15: 870 | H15: 870 | I15: 870 | J15: 870 | K15: 870 | L15: 870 | M15: 870 | N15: 870 | O15: 870 | P15: 870 | Q15: 870 | R15: 870 | S15: 870 | T15: 870 | U15: 870 | V15: 870 | W15: 870 | X15: 870 | Y15: 870 | Z15: 870 | AA15: 870 | AB15: 870 | AC15: 870 | AD15: 870 | AE15: 870 | AF15: 870
A16: 5：00 | B16: 870 | C16: 870 | D16: 870 | E16: 870 | F16: 870 | G16: 870 | H16: 870 | I16: 870 | J16: 870 | K16: 870 | L16: 870 | M16: 870 | N16: 870 | O16: 870 | P16: 870 | Q16: 870 | R16: 870 | S16: 870 | T16: 870 | U16: 870 | V16: 870 | W16: 870 | X16: 870 | Y16: 870 | Z16: 870 | AA16: 870 | AB16: 870 | AC16: 870 | AD16: 870 | AE16: 870 | AF16: 870
A17: 5：30 | B17: 870 | C17: 870 | D17: 870 | E17: 870 | F17: 870 | G17: 870 | H17: 870 | I17: 870 | J17: 870 | K17: 870 | L17: 870 | M17: 870 | N17: 870 | O17: 870 | P17: 870 | Q17: 870 | R17: 870 | S17: 870 | T17: 870 | U17: 870 | V17: 870 | W17: 870 | X17: 870 | Y17: 870 | Z17: 870 | AA17: 870 | AB17: 870 | AC17: 870 | AD17: 870 | AE17: 870 | AF17: 870
A18: 6：00 | B18: 870 | C18: 870 | D18: 870 | E18: 870 | F18: 870 | G18: 870 | H18: 870 | I18: 870 | J18: 870 | K18: 870 | L18: 870 | M18: 870 | N18: 870 | O18: 870 | P18: 870 | Q18: 870 | R18: 870 | S18: 870 | T18: 870 | U18: 870 | V18: 870 | W18: 870 | X18: 870 | Y18: 870 | Z18: 870 | AA18: 870 | AB18: 870 | AC18: 870 | AD18: 870 | AE18: 870 | AF18: 870
... A52: 23：00 | B52: 870 | C52: 870 | D52: 870 | E52: 870 | F52: 870 | G52: 870 | H52: 870 | I52: 870 | J52: 870 | K52: 870 | L52: 870 | M52: 870 | N52: 870 | O52: 870 | P52: 870 | Q52: 870 | R52: 870 | S52: 870 | T52: 870 | U52: 870 | V52: 870 | W52: 870 | X52: 870 | Y52: 870 | Z52: 870 | AA52: 870 | AB52: 870 | AC52: 870 | AD52: 870 | AE52: 870 | AF52: 870
A53: 23：30 | B53: 870 | C53: 870 | D53: 870 | E53: 870 | F53: 870 | G53: 870 | H53: 870 | I53: 870 | J53: 870 | K53: 870 | L53: 870 | M53: 870 | N53: 870 | O53: 870 | P53: 870 | Q53: 870 | R53: 870 | S53: 870 | T53: 870 | U53: 870 | V53: 870 | W53: 870 | X53: 870 | Y53: 870 | Z53: 870 | AA53: 870 | AB53: 870 | AC53: 870 | AD53: 870 | AE53: 870 | AF53: 870 | AG53: =CONCATENATE(B3,"合計") -> 7月合計
A54: 24：00 | B54: 870 | C54: 870 | D54: 870 | E54: 870 | F54: 870 | G54: 870 | H54: 870 | I54: 870 | J54: 870 | K54: 870 | L54: 870 | M54: 870 | N54: 870 | O54: 870 | P54: 870 | Q54: 870 | R54: 870 | S54: 870 | T54: 870 | U54: 870 | V54: 870 | W54: 870 | X54: 870 | Y54: 870 | Z54: 870 | AA54: 870 | AB54: 870 | AC54: 870 | AD54: 870 | AE54: 870 | AF54: 870
A55: 計 | B55: =SUM(B7:B54) -> 41200 | C55: =SUM(C7:C54) -> 41200 | D55: =SUM(D7:D54) -> 41200 | E55: =SUM(E7:E54) -> 41760 | F55: =SUM(F7:F54) -> 41200 | G55: =SUM(G7:G54) -> 41200 | H55: =SUM(H7:H54) -> 41200 | I55: =SUM(I7:I54) -> 41200 | ... AF55: =SUM(AF7:AF54) -> 41200 | AG55: =SUM(B55:AF55) -> 1280000
A56: 平日昼間（夏季） | B56: =IF(B4="",SUM(B23:B50),0) -> 23800 | C56: =IF(C4="",SUM(C23:C50),0) -> 23800 | D56: =IF(D4="",SUM(D23:D50),0) -> 23800 | E56: =IF(E4="",SUM(E23:E50),0) -> 0 | F56: =IF(F4="",SUM(F23:F50),0) -> 23800 | G56: =IF(G4="",SUM(G23:G50),0) -> 23800 | H56: =IF(H4="",SUM(H23:H50),0) -> 23800 | I56: =IF(I4="",SUM(I23:I50),0) -> 23800 | ... AF56: =IF(AF4="",SUM(AF23:AF50),0) -> 23800 | AG56: =SUM(B56:AF56) -> 618800
A57: 夜間及び休日 | B57: =IF(B4="",SUM(B7:B22,B51:B54),SUM(B7:B54)) -> 17400 | C57: =IF(C4="",SUM(C7:C22,C51:C54),SUM(C7:C54)) -> 17400 | D57: =IF(D4="",SUM(D7:D22,D51:D54),SUM(D7:D54)) -> 17400 | E57: =IF(E4="",SUM(E7:E22,E51:E54),SUM(E7:E54)) -> 41760 | F57: =IF(F4="",SUM(F7:F22,F51:F54),SUM(F7:F54)) -> 17400 | G57: =IF(G4="",SUM(G7:G22,G51:G54),SUM(G7:G54)) -> 17400 | H57: =IF(H4="",SUM(H7:H22,H51:H54),SUM(H7:H54)) -> 17400 | I57: =IF(I4="",SUM(I7:I22,I51:I54),SUM(I7:I54)) -> 17400 | ... AF57: =IF(AF4="",SUM(AF7:AF22,AF51:AF54),SUM(AF7:AF54)) -> 17400 | AG57: =SUM(B57:AF57) -> 661200
A59: 平均値 | B59: =AVERAGE(B7:B54) -> 858.33333 | C59: =AVERAGE(C7:C54) -> 858.33333 | D59: =AVERAGE(D7:D54) -> 858.33333 | E59: =AVERAGE(E7:E54) -> 870 | F59: =AVERAGE(F7:F54) -> 858.33333 | G59: =AVERAGE(G7:G54) -> 858.33333 | H59: =AVERAGE(H7:H54) -> 858.33333 | I59: =AVERAGE(I7:I54) -> 858.33333 | ... AF59: =AVERAGE(AF7:AF54) -> 858.33333
A60: 最大値 | B60: =MAX(B7:B54) -> 870 | C60: =MAX(C7:C54) -> 870 | D60: =MAX(D7:D54) -> 870 | E60: =MAX(E7:E54) -> 870 | F60: =MAX(F7:F54) -> 870 | G60: =MAX(G7:G54) -> 870 | H60: =MAX(H7:H54) -> 870 | I60: =MAX(I7:I54) -> 870 | ... AF60: =MAX(AF7:AF54) -> 870
A61: 最小値 | B61: =MIN(B7:B54) -> 850 | C61: =MIN(C7:C54) -> 850 | D61: =MIN(D7:D54) -> 850 | E61: =MIN(E7:E54) -> 870 | F61: =MIN(F7:F54) -> 850 | G61: =MIN(G7:G54) -> 850 | H61: =MIN(H7:H54) -> 850 | I61: =MIN(I7:I54) -> 850 | ... AF61: =MIN(AF7:AF54) -> 850

Sheet 8月
A1: 令和９年度 時間帯別送電計画（３０分値）
A3: ='4月'!A3 -> 9 | B3: 8月 | AF3: 単位：ｋｗｈ
A4: =SUM(B4:AF4) -> 6 | B4: =IF(B6="日",1,"") -> 1 | C4: =IF(C6="日",1,"") | D4: =IF(D6="日",1,"") | E4: =IF(E6="日",1,"") | F4: =IF(F6="日",1,"") | G4: =IF(G6="日",1,"") | H4: =IF(H6="日",1,"") | I4: =IF(I6="日",1,"") -> 1 | ... K4: =IF(K6="日",1,"") | L4: 1 | M4: =IF(M6="日",1,"") | N4: =IF(N6="日",1,"") | O4: =IF(O6="日",1,"") | P4: =IF(P6="日",1,"") -> 1 | Q4: =IF(Q6="日",1,"") | R4: =IF(R6="日",1,"") | S4: =IF(S6="日",1,"") | T4: =IF(T6="日",1,"") | ... AF4: =IF(AF6="日",1,"")
A5: 日 時間帯 | B5: ='7月'!AF5+1 -> 46600 | C5: =B5+1 -> 46601 | D5: =C5+1 -> 46602 | E5: =D5+1 -> 46603 | F5: =E5+1 -> 46604 | G5: =F5+1 -> 46605 | H5: =G5+1 -> 46606 | I5: =H5+1 -> 46607 | J5: =I5+1 -> 46608 | ... AF5: =AE5+1 -> 46630
B6: =TEXT(B5,"aaa") -> 日 | C6: =TEXT(C5,"aaa") -> 月 | D6: =TEXT(D5,"aaa") -> 火 | E6: =TEXT(E5,"aaa") -> 水 | F6: =TEXT(F5,"aaa") -> 木 | G6: =TEXT(G5,"aaa") -> 金 | H6: =TEXT(H5,"aaa") -> 土 | I6: =TEXT(I5,"aaa") -> 日 | ... AF6: =TEXT(AF5,"aaa") -> 火
A7: 0：30 | B7: 870 | C7: 870 | D7: 870 | E7: 870 | F7: 870 | G7: 870 | H7: 870 | I7: 870 | J7: 870 | K7: 870 | L7: 870 | M7: 870 | N7: 870 | O7: 870 | P7: 870 | Q7: 870 | R7: 870 | S7: 870 | T7: 870 | U7: 870 | V7: 870 | W7: 870 | X7: 870 | Y7: 870 | Z7: 870 | AA7: 870 | AB7: 870 | AC7: 870 | AD7: 870 | AE7: 870 | AF7: 870
A8: 1：00 | B8: 870 | C8: 870 | D8: 870 | E8: 870 | F8: 870 | G8: 870 | H8: 870 | I8: 870 | J8: 870 | K8: 870 | L8: 870 | M8: 870 | N8: 870 | O8: 870 | P8: 870 | Q8: 870 | R8: 870 | S8: 870 | T8: 870 | U8: 870 | V8: 870 | W8: 870 | X8: 870 | Y8: 870 | Z8: 870 | AA8: 870 | AB8: 870 | AC8: 870 | AD8: 870 | AE8: 870 | AF8: 870
A9: 1：30 | B9: 870 | C9: 870 | D9: 870 | E9: 870 | F9: 870 | G9: 870 | H9: 870 | I9: 870 | J9: 870 | K9: 870 | L9: 870 | M9: 870 | N9: 870 | O9: 870 | P9: 870 | Q9: 870 | R9: 870 | S9: 870 | T9: 870 | U9: 870 | V9: 870 | W9: 870 | X9: 870 | Y9: 870 | Z9: 870 | AA9: 870 | AB9: 870 | AC9: 870 | AD9: 870 | AE9: 870 | AF9: 870
A10: 2：00 | B10: 870 | C10: 870 | D10: 870 | E10: 870 | F10: 870 | G10: 870 | H10: 870 | I10: 870 | J10: 870 | K10: 870 | L10: 870 | M10: 870 | N10: 870 | O10: 870 | P10: 870 | Q10: 870 | R10: 870 | S10: 870 | T10: 870 | U10: 870 | V10: 870 | W10: 870 | X10: 870 | Y10: 870 | Z10: 870 | AA10: 870 | AB10: 870 | AC10: 870 | AD10: 870 | AE10: 870 | AF10: 870
A11: 2：30 | B11: 870 | C11: 870 | D11: 870 | E11: 870 | F11: 870 | G11: 870 | H11: 870 | I11: 870 | J11: 870 | K11: 870 | L11: 870 | M11: 870 | N11: 870 | O11: 870 | P11: 870 | Q11: 870 | R11: 870 | S11: 870 | T11: 870 | U11: 870 | V11: 870 | W11: 870 | X11: 870 | Y11: 870 | Z11: 870 | AA11: 870 | AB11: 870 | AC11: 870 | AD11: 870 | AE11: 870 | AF11: 870
A12: 3：00 | B12: 870 | C12: 870 | D12: 870 | E12: 870 | F12: 870 | G12: 870 | H12: 870 | I12: 870 | J12: 870 | K12: 870 | L12: 870 | M12: 870 | N12: 870 | O12: 870 | P12: 870 | Q12: 870 | R12: 870 | S12: 870 | T12: 870 | U12: 870 | V12: 870 | W12: 870 | X12: 870 | Y12: 870 | Z12: 870 | AA12: 870 | AB12: 870 | AC12: 870 | AD12: 870 | AE12: 870 | AF12: 870
A13: 3：30 | B13: 870 | C13: 870 | D13: 870 | E13: 870 | F13: 870 | G13: 870 | H13: 870 | I13: 870 | J13: 870 | K13: 870 | L13: 870 | M13: 870 | N13: 870 | O13: 870 | P13: 870 | Q13: 870 | R13: 870 | S13: 870 | T13: 870 | U13: 870 | V13: 870 | W13: 870 | X13: 870 | Y13: 870 | Z13: 870 | AA13: 870 | AB13: 870 | AC13: 870 | AD13: 870 | AE13: 870 | AF13: 870
A14: 4：00 | B14: 870 | C14: 870 | D14: 870 | E14: 870 | F14: 870 | G14: 870 | H14: 870 | I14: 870 | J14: 870 | K14: 870 | L14: 870 | M14: 870 | N14: 870 | O14: 870 | P14: 870 | Q14: 870 | R14: 870 | S14: 870 | T14: 870 | U14: 870 | V14: 870 | W14: 870 | X14: 870 | Y14: 870 | Z14: 870 | AA14: 870 | AB14: 870 | AC14: 870 | AD14: 870 | AE14: 870 | AF14: 870
A15: 4：30 | B15: 870 | C15: 870 | D15: 870 | E15: 870 | F15: 870 | G15: 870 | H15: 870 | I15: 870 | J15: 870 | K15: 870 | L15: 870 | M15: 870 | N15: 870 | O15: 870 | P15: 870 | Q15: 870 | R15: 870 | S15: 870 | T15: 870 | U15: 870 | V15: 870 | W15: 870 | X15: 870 | Y15: 870 | Z15: 870 | AA15: 870 | AB15: 870 | AC15: 870 | AD15: 870 | AE15: 870 | AF15: 870
A16: 5：00 | B16: 870 | C16: 870 | D16: 870 | E16: 870 | F16: 870 | G16: 870 | H16: 870 | I16: 870 | J16: 870 | K16: 870 | L16: 870 | M16: 870 | N16: 870 | O16: 870 | P16: 870 | Q16: 870 | R16: 870 | S16: 870 | T16: 870 | U16: 870 | V16: 870 | W16: 870 | X16: 870 | Y16: 870 | Z16: 870 | AA16: 870 | AB16: 870 | AC16: 870 | AD16: 870 | AE16: 870 | AF16: 870
A17: 5：30 | B17: 870 | C17: 870 | D17: 870 | E17: 870 | F17: 870 | G17: 870 | H17: 870 | I17: 870 | J17: 870 | K17: 870 | L17: 870 | M17: 870 | N17: 870 | O17: 870 | P17: 870 | Q17: 870 | R17: 870 | S17: 870 | T17: 870 | U17: 870 | V17: 870 | W17: 870 | X17: 870 | Y17: 870 | Z17: 870 | AA17: 870 | AB17: 870 | AC17: 870 | AD17: 870 | AE17: 870 | AF17: 870
A18: 6：00 | B18: 870 | C18: 870 | D18: 870 | E18: 870 | F18: 870 | G18: 870 | H18: 870 | I18: 870 | J18: 870 | K18: 870 | L18: 870 | M18: 870 | N18: 870 | O18: 870 | P18: 870 | Q18: 870 | R18: 870 | S18: 870 | T18: 870 | U18: 870 | V18: 870 | W18: 870 | X18: 870 | Y18: 870 | Z18: 870 | AA18: 870 | AB18: 870 | AC18: 870 | AD18: 870 | AE18: 870 | AF18: 870
... A52: 23：00 | B52: 870 | C52: 870 | D52: 870 | E52: 870 | F52: 870 | G52: 870 | H52: 870 | I52: 870 | J52: 870 | K52: 870 | L52: 870 | M52: 870 | N52: 870 | O52: 870 | P52: 870 | Q52: 870 | R52: 870 | S52: 870 | T52: 870 | U52: 870 | V52: 870 | W52: 870 | X52: 870 | Y52: 870 | Z52: 870 | AA52: 870 | AB52: 870 | AC52: 870 | AD52: 870 | AE52: 870 | AF52: 870
A53: 23：30 | B53: 870 | C53: 870 | D53: 870 | E53: 870 | F53: 870 | G53: 870 | H53: 870 | I53: 870 | J53: 870 | K53: 870 | L53: 870 | M53: 870 | N53: 870 | O53: 870 | P53: 870 | Q53: 870 | R53: 870 | S53: 870 | T53: 870 | U53: 870 | V53: 870 | W53: 870 | X53: 870 | Y53: 870 | Z53: 870 | AA53: 870 | AB53: 870 | AC53: 870 | AD53: 870 | AE53: 870 | AF53: 870 | AG53: =CONCATENATE(B3,"合計") -> 8月合計
A54: 24：00 | B54: 870 | C54: 870 | D54: 870 | E54: 870 | F54: 870 | G54: 870 | H54: 870 | I54: 870 | J54: 870 | K54: 870 | L54: 870 | M54: 870 | N54: 870 | O54: 870 | P54: 870 | Q54: 870 | R54: 870 | S54: 870 | T54: 870 | U54: 870 | V54: 870 | W54: 870 | X54: 870 | Y54: 870 | Z54: 870 | AA54: 870 | AB54: 870 | AC54: 870 | AD54: 870 | AE54: 870 | AF54: 870
A55: 計 | B55: =SUM(B7:B54) -> 41760 | C55: =SUM(C7:C54) -> 41200 | D55: =SUM(D7:D54) -> 41200 | E55: =SUM(E7:E54) -> 41200 | F55: =SUM(F7:F54) -> 41200 | G55: =SUM(G7:G54) -> 41200 | H55: =SUM(H7:H54) -> 41200 | I55: =SUM(I7:I54) -> 41760 | ... AF55: =SUM(AF7:AF54) -> 41200 | AG55: =SUM(B55:AF55) -> 1280560
A56: 平日昼間（夏季） | B56: =IF(B4="",SUM(B23:B50),0) -> 0 | C56: =IF(C4="",SUM(C23:C50),0) -> 23800 | D56: =IF(D4="",SUM(D23:D50),0) -> 23800 | E56: =IF(E4="",SUM(E23:E50),0) -> 23800 | F56: =IF(F4="",SUM(F23:F50),0) -> 23800 | G56: =IF(G4="",SUM(G23:G50),0) -> 23800 | H56: =IF(H4="",SUM(H23:H50),0) -> 23800 | I56: =IF(I4="",SUM(I23:I50),0) -> 0 | ... AF56: =IF(AF4="",SUM(AF23:AF50),0) -> 23800 | AG56: =SUM(B56:AF56) -> 595000
A57: 夜間及び休日 | B57: =IF(B4="",SUM(B7:B22,B51:B54),SUM(B7:B54)) -> 41760 | C57: =IF(C4="",SUM(C7:C22,C51:C54),SUM(C7:C54)) -> 17400 | D57: =IF(D4="",SUM(D7:D22,D51:D54),SUM(D7:D54)) -> 17400 | E57: =IF(E4="",SUM(E7:E22,E51:E54),SUM(E7:E54)) -> 17400 | F57: =IF(F4="",SUM(F7:F22,F51:F54),SUM(F7:F54)) -> 17400 | G57: =IF(G4="",SUM(G7:G22,G51:G54),SUM(G7:G54)) -> 17400 | H57: =IF(H4="",SUM(H7:H22,H51:H54),SUM(H7:H54)) -> 17400 | I57: =IF(I4="",SUM(I7:I22,I51:I54),SUM(I7:I54)) -> 41760 | ... AF57: =IF(AF4="",SUM(AF7:AF22,AF51:AF54),SUM(AF7:AF54)) -> 17400 | AG57: =SUM(B57:AF57) -> 685560
A59: 平均値 | B59: =AVERAGE(B7:B54) -> 870 | C59: =AVERAGE(C7:C54) -> 858.33333 | D59: =AVERAGE(D7:D54) -> 858.33333 | E59: =AVERAGE(E7:E54) -> 858.33333 | F59: =AVERAGE(F7:F54) -> 858.33333 | G59: =AVERAGE(G7:G54) -> 858.33333 | H59: =AVERAGE(H7:H54) -> 858.33333 | I59: =AVERAGE(I7:I54) -> 870 | ... AF59: =AVERAGE(AF7:AF54) -> 858.33333
A60: 最大値 | B60: =MAX(B7:B54) -> 870 | C60: =MAX(C7:C54) -> 870 | D60: =MAX(D7:D54) -> 870 | E60: =MAX(E7:E54) -> 870 | F60: =MAX(F7:F54) -> 870 | G60: =MAX(G7:G54) -> 870 | H60: =MAX(H7:H54) -> 870 | I60: =MAX(I7:I54) -> 870 | ... AF60: =MAX(AF7:AF54) -> 870
A61: 最小値 | B61: =MIN(B7:B54) -> 870 | C61: =MIN(C7:C54) -> 850 | D61: =MIN(D7:D54) -> 850 | E61: =MIN(E7:E54) -> 850 | F61: =MIN(F7:F54) -> 850 | G61: =MIN(G7:G54) -> 850 | H61: =MIN(H7:H54) -> 850 | I61: =MIN(I7:I54) -> 870 | ... AF61: =MIN(AF7:AF54) -> 850

Sheet 9月
A1: 令和９年度 時間帯別送電計画（３０分値）
A3: ='4月'!A3 -> 9 | B3: 9月 | AF3: 単位：ｋｗｈ
A4: =SUM(B4:AF4) -> 6 | B4: =IF(B6="日",1,"") | C4: =IF(C6="日",1,"") | D4: =IF(D6="日",1,"") | E4: =IF(E6="日",1,"") | F4: =IF(F6="日",1,"") -> 1 | G4: =IF(G6="日",1,"") | H4: =IF(H6="日",1,"") | I4: =IF(I6="日",1,"") | ... T4: =IF(T6="日",1,"") -> 1 | U4: 1 | V4: =IF(V6="日",1,"") | W4: =IF(W6="日",1,"") | X4: 1 | Y4: =IF(Y6="日",1,"") | Z4: =IF(Z6="日",1,"") | AA4: =IF(AA6="日",1,"") -> 1 | AB4: =IF(AB6="日",1,"") | AC4: =IF(AC6="日",1,"") | AD4: =IF(AD6="日",1,"") | AE4: =IF(AE6="日",1,"")
A5: 日 時間帯 | B5: ='8月'!AF5+1 -> 46631 | C5: =B5+1 -> 46632 | D5: =C5+1 -> 46633 | E5: =D5+1 -> 46634 | F5: =E5+1 -> 46635 | G5: =F5+1 -> 46636 | H5: =G5+1 -> 46637 | I5: =H5+1 -> 46638 | J5: =I5+1 -> 46639 | ... AE5: =AD5+1 -> 46660
B6: =TEXT(B5,"aaa") -> 水 | C6: =TEXT(C5,"aaa") -> 木 | D6: =TEXT(D5,"aaa") -> 金 | E6: =TEXT(E5,"aaa") -> 土 | F6: =TEXT(F5,"aaa") -> 日 | G6: =TEXT(G5,"aaa") -> 月 | H6: =TEXT(H5,"aaa") -> 火 | I6: =TEXT(I5,"aaa") -> 水 | ... AE6: =TEXT(AE5,"aaa") -> 木
A7: 0：30 | B7: 870 | C7: 870 | D7: 870 | E7: 870 | F7: 870 | G7: 870 | H7: 870 | I7: 870 | J7: 870 | K7: 870 | L7: 870 | M7: 870 | N7: 870 | O7: 870 | P7: 870 | Q7: 870 | R7: 870 | S7: 870 | T7: 870 | U7: 870 | V7: 870 | W7: 870 | X7: 870 | Y7: 870 | Z7: 870 | AA7: 870 | AB7: 870 | AC7: 870 | AD7: 870 | AE7: 870
A8: 1：00 | B8: 870 | C8: 870 | D8: 870 | E8: 870 | F8: 870 | G8: 870 | H8: 870 | I8: 870 | J8: 870 | K8: 870 | L8: 870 | M8: 870 | N8: 870 | O8: 870 | P8: 870 | Q8: 870 | R8: 870 | S8: 870 | T8: 870 | U8: 870 | V8: 870 | W8: 870 | X8: 870 | Y8: 870 | Z8: 870 | AA8: 870 | AB8: 870 | AC8: 870 | AD8: 870 | AE8: 870
A9: 1：30 | B9: 870 | C9: 870 | D9: 870 | E9: 870 | F9: 870 | G9: 870 | H9: 870 | I9: 870 | J9: 870 | K9: 870 | L9: 870 | M9: 870 | N9: 870 | O9: 870 | P9: 870 | Q9: 870 | R9: 870 | S9: 870 | T9: 870 | U9: 870 | V9: 870 | W9: 870 | X9: 870 | Y9: 870 | Z9: 870 | AA9: 870 | AB9: 870 | AC9: 870 | AD9: 870 | AE9: 870
A10: 2：00 | B10: 870 | C10: 870 | D10: 870 | E10: 870 | F10: 870 | G10: 870 | H10: 870 | I10: 870 | J10: 870 | K10: 870 | L10: 870 | M10: 870 | N10: 870 | O10: 870 | P10: 870 | Q10: 870 | R10: 870 | S10: 870 | T10: 870 | U10: 870 | V10: 870 | W10: 870 | X10: 870 | Y10: 870 | Z10: 870 | AA10: 870 | AB10: 870 | AC10: 870 | AD10: 870 | AE10: 870
A11: 2：30 | B11: 870 | C11: 870 | D11: 870 | E11: 870 | F11: 870 | G11: 870 | H11: 870 | I11: 870 | J11: 870 | K11: 870 | L11: 870 | M11: 870 | N11: 870 | O11: 870 | P11: 870 | Q11: 870 | R11: 870 | S11: 870 | T11: 870 | U11: 870 | V11: 870 | W11: 870 | X11: 870 | Y11: 870 | Z11: 870 | AA11: 870 | AB11: 870 | AC11: 870 | AD11: 870 | AE11: 870
A12: 3：00 | B12: 870 | C12: 870 | D12: 870 | E12: 870 | F12: 870 | G12: 870 | H12: 870 | I12: 870 | J12: 870 | K12: 870 | L12: 870 | M12: 870 | N12: 870 | O12: 870 | P12: 870 | Q12: 870 | R12: 870 | S12: 870 | T12: 870 | U12: 870 | V12: 870 | W12: 870 | X12: 870 | Y12: 870 | Z12: 870 | AA12: 870 | AB12: 870 | AC12: 870 | AD12: 870 | AE12: 870
A13: 3：30 | B13: 870 | C13: 870 | D13: 870 | E13: 870 | F13: 870 | G13: 870 | H13: 870 | I13: 870 | J13: 870 | K13: 870 | L13: 870 | M13: 870 | N13: 870 | O13: 870 | P13: 870 | Q13: 870 | R13: 870 | S13: 870 | T13: 870 | U13: 870 | V13: 870 | W13: 870 | X13: 870 | Y13: 870 | Z13: 870 | AA13: 870 | AB13: 870 | AC13: 870 | AD13: 870 | AE13: 870
A14: 4：00 | B14: 870 | C14: 870 | D14: 870 | E14: 870 | F14: 870 | G14: 870 | H14: 870 | I14: 870 | J14: 870 | K14: 870 | L14: 870 | M14: 870 | N14: 870 | O14: 870 | P14: 870 | Q14: 870 | R14: 870 | S14: 870 | T14: 870 | U14: 870 | V14: 870 | W14: 870 | X14: 870 | Y14: 870 | Z14: 870 | AA14: 870 | AB14: 870 | AC14: 870 | AD14: 870 | AE14: 870
A15: 4：30 | B15: 870 | C15: 870 | D15: 870 | E15: 870 | F15: 870 | G15: 870 | H15: 870 | I15: 870 | J15: 870 | K15: 870 | L15: 870 | M15: 870 | N15: 870 | O15: 870 | P15: 870 | Q15: 870 | R15: 870 | S15: 870 | T15: 870 | U15: 870 | V15: 870 | W15: 870 | X15: 870 | Y15: 870 | Z15: 870 | AA15: 870 | AB15: 870 | AC15: 870 | AD15: 870 | AE15: 870
A16: 5：00 | B16: 870 | C16: 870 | D16: 870 | E16: 870 | F16: 870 | G16: 870 | H16: 870 | I16: 870 | J16: 870 | K16: 870 | L16: 870 | M16: 870 | N16: 870 | O16: 870 | P16: 870 | Q16: 870 | R16: 870 | S16: 870 | T16: 870 | U16: 870 | V16: 870 | W16: 870 | X16: 870 | Y16: 870 | Z16: 870 | AA16: 870 | AB16: 870 | AC16: 870 | AD16: 870 | AE16: 870
A17: 5：30 | B17: 870 | C17: 870 | D17: 870 | E17: 870 | F17: 870 | G17: 870 | H17: 870 | I17: 870 | J17: 870 | K17: 870 | L17: 870 | M17: 870 | N17: 870 | O17: 870 | P17: 870 | Q17: 870 | R17: 870 | S17: 870 | T17: 870 | U17: 870 | V17: 870 | W17: 870 | X17: 870 | Y17: 870 | Z17: 870 | AA17: 870 | AB17: 870 | AC17: 870 | AD17: 870 | AE17: 870
A18: 6：00 | B18: 870 | C18: 870 | D18: 870 | E18: 870 | F18: 870 | G18: 870 | H18: 870 | I18: 870 | J18: 870 | K18: 870 | L18: 870 | M18: 870 | N18: 870 | O18: 870 | P18: 870 | Q18: 870 | R18: 870 | S18: 870 | T18: 870 | U18: 870 | V18: 870 | W18: 870 | X18: 870 | Y18: 870 | Z18: 870 | AA18: 870 | AB18: 870 | AC18: 870 | AD18: 870 | AE18: 870
... A52: 23：00 | B52: 870 | C52: 870 | D52: 870 | E52: 870 | F52: 870 | G52: 870 | H52: 870 | I52: 870 | J52: 870 | K52: 870 | L52: 870 | M52: 870 | N52: 870 | O52: 870 | P52: 870 | Q52: 870 | R52: 870 | S52: 870 | T52: 870 | U52: 870 | V52: 870 | W52: 870 | X52: 870 | Y52: 870 | Z52: 870 | AA52: 870 | AB52: 870 | AC52: 870 | AD52: 870 | AE52: 870
A53: 23：30 | B53: 870 | C53: 870 | D53: 870 | E53: 870 | F53: 870 | G53: 870 | H53: 870 | I53: 870 | J53: 870 | K53: 870 | L53: 870 | M53: 870 | N53: 870 | O53: 870 | P53: 870 | Q53: 870 | R53: 870 | S53: 870 | T53: 870 | U53: 870 | V53: 870 | W53: 870 | X53: 870 | Y53: 870 | Z53: 870 | AA53: 870 | AB53: 870 | AC53: 870 | AD53: 870 | AE53: 870 | AG53: =CONCATENATE(B3,"合計") -> 9月合計
A54: 24：00 | B54: 870 | C54: 870 | D54: 870 | E54: 870 | F54: 870 | G54: 870 | H54: 870 | I54: 870 | J54: 870 | K54: 870 | L54: 870 | M54: 870 | N54: 870 | O54: 870 | P54: 870 | Q54: 870 | R54: 870 | S54: 870 | T54: 870 | U54: 870 | V54: 870 | W54: 870 | X54: 870 | Y54: 870 | Z54: 870 | AA54: 870 | AB54: 870 | AC54: 870 | AD54: 870 | AE54: 870
A55: 計 | B55: =SUM(B7:B54) -> 41200 | C55: =SUM(C7:C54) -> 41200 | D55: =SUM(D7:D54) -> 41200 | E55: =SUM(E7:E54) -> 41200 | F55: =SUM(G7:G54) -> 41200 | G55: =SUM(F7:F54) -> 41760 | H55: =SUM(H7:H54) -> 41200 | I55: =SUM(I7:I54) -> 41200 | J55: =SUM(J7:J54) -> 41200 | K55: =SUM(K7:K54) -> 41200 | L55: =SUM(L7:L54) -> 41200 | M55: =SUM(N7:N54) -> 41200 | N55: =SUM(M7:M54) -> 41760 | O55: =SUM(O7:O54) -> 41200 | P55: =SUM(P7:P54) -> 41200 | Q55: =SUM(Q7:Q54) -> 41200 | R55: =SUM(R7:R54) -> 41200 | S55: =SUM(S7:S54) -> 41200 | T55: =SUM(U7:U54) -> 41760 | U55: =SUM(T7:T54) -> 41760 | V55: =SUM(X7:X54) -> 41760 | W55: =SUM(Y7:Y54) -> 41200 | X55: =SUM(V7:V54) -> 41200 | Y55: =SUM(W7:W54) -> 41200 | Z55: =SUM(Z7:Z54) -> 41200 | AA55: =SUM(AB7:AB54) -> 41200 | AB55: =SUM(AA7:AA54) -> 41760 | AC55: =SUM(AC7:AC54) -> 41200 | AD55: =SUM(AD7:AD54) -> 41200 | AE55: =SUM(AE7:AE54) -> 41200 | AG55: =SUM(B55:AE55) -> 1239360
A56: 平日昼間（夏季） | B56: =IF(B4="",SUM(B23:B50),0) -> 23800 | C56: =IF(C4="",SUM(C23:C50),0) -> 23800 | D56: =IF(D4="",SUM(D23:D50),0) -> 23800 | E56: =IF(E4="",SUM(E23:E50),0) -> 23800 | F56: =IF(F4="",SUM(F23:F50),0) -> 0 | G56: =IF(G4="",SUM(G23:G50),0) -> 23800 | H56: =IF(H4="",SUM(H23:H50),0) -> 23800 | I56: =IF(I4="",SUM(I23:I50),0) -> 23800 | ... AE56: =IF(AE4="",SUM(AE23:AE50),0) -> 23800 | AG56: =SUM(B56:AE56) -> 571200
A57: 夜間及び休日 | B57: =IF(B4="",SUM(B7:B22,B51:B54),SUM(B7:B54)) -> 17400 | C57: =IF(C4="",SUM(C7:C22,C51:C54),SUM(C7:C54)) -> 17400 | D57: =IF(D4="",SUM(D7:D22,D51:D54),SUM(D7:D54)) -> 17400 | E57: =IF(E4="",SUM(E7:E22,E51:E54),SUM(E7:E54)) -> 17400 | F57: =IF(F4="",SUM(F7:F22,F51:F54),SUM(F7:F54)) -> 41760 | G57: =IF(G4="",SUM(G7:G22,G51:G54),SUM(G7:G54)) -> 17400 | H57: =IF(H4="",SUM(H7:H22,H51:H54),SUM(H7:H54)) -> 17400 | I57: =IF(I4="",SUM(I7:I22,I51:I54),SUM(I7:I54)) -> 17400 | ... AE57: =IF(AE4="",SUM(AE7:AE22,AE51:AE54),SUM(AE7:AE54)) -> 17400 | AG57: =SUM(B57:AE57) -> 668160
A59: 平均値 | B59: =AVERAGE(B7:B54) -> 858.33333 | C59: =AVERAGE(C7:C54) -> 858.33333 | D59: =AVERAGE(D7:D54) -> 858.33333 | E59: =AVERAGE(E7:E54) -> 858.33333 | F59: =AVERAGE(G7:G54) -> 858.33333 | G59: =AVERAGE(F7:F54) -> 870 | H59: =AVERAGE(H7:H54) -> 858.33333 | I59: =AVERAGE(I7:I54) -> 858.33333 | J59: =AVERAGE(J7:J54) -> 858.33333 | K59: =AVERAGE(K7:K54) -> 858.33333 | L59: =AVERAGE(L7:L54) -> 858.33333 | M59: =AVERAGE(N7:N54) -> 858.33333 | N59: =AVERAGE(M7:M54) -> 870 | O59: =AVERAGE(O7:O54) -> 858.33333 | P59: =AVERAGE(P7:P54) -> 858.33333 | Q59: =AVERAGE(Q7:Q54) -> 858.33333 | R59: =AVERAGE(R7:R54) -> 858.33333 | S59: =AVERAGE(S7:S54) -> 858.33333 | T59: =AVERAGE(U7:U54) -> 870 | U59: =AVERAGE(T7:T54) -> 870 | V59: =AVERAGE(X7:X54) -> 870 | W59: =AVERAGE(Y7:Y54) -> 858.33333 | X59: =AVERAGE(V7:V54) -> 858.33333 | Y59: =AVERAGE(W7:W54) -> 858.33333 | Z59: =AVERAGE(Z7:Z54) -> 858.33333 | AA59: =AVERAGE(AB7:AB54) -> 858.33333 | AB59: =AVERAGE(AA7:AA54) -> 870 | AC59: =AVERAGE(AC7:AC54) -> 858.33333 | AD59: =AVERAGE(AD7:AD54) -> 858.33333 | AE59: =AVERAGE(AE7:AE54) -> 858.33333
A60: 最大値 | B60: =MAX(B7:B54) -> 870 | C60: =MAX(C7:C54) -> 870 | D60: =MAX(D7:D54) -> 870 | E60: =MAX(E7:E54) -> 870 | F60: =MAX(F7:F54) -> 870 | G60: =MAX(G7:G54) -> 870 | H60: =MAX(H7:H54) -> 870 | I60: =MAX(I7:I54) -> 870 | ... AE60: =MAX(AE7:AE54) -> 870
A61: 最小値 | B61: =MIN(B7:B54) -> 850 | C61: =MIN(C7:C54) -> 850 | D61: =MIN(D7:D54) -> 850 | E61: =MIN(E7:E54) -> 850 | F61: =MIN(F7:F54) -> 870 | G61: =MIN(G7:G54) -> 850 | H61: =MIN(H7:H54) -> 850 | I61: =MIN(I7:I54) -> 850 | ... AE61: =MIN(AE7:AE54) -> 850

Sheet 10月
A1: 令和９年度 時間帯別送電計画（３０分値）
A3: ='4月'!A3 -> 9 | B3: 10月 | AF3: 単位：ｋｗｈ
A4: =SUM(B4:AF4) -> 6 | B4: =IF(B6="日",1,"") | C4: =IF(C6="日",1,"") | D4: =IF(D6="日",1,"") -> 1 | E4: =IF(E6="日",1,"") | F4: =IF(F6="日",1,"") | G4: =IF(G6="日",1,"") | H4: =IF(H6="日",1,"") | I4: =IF(I6="日",1,"") | ... K4: =IF(K6="日",1,"") -> 1 | L4: 1 | M4: =IF(M6="日",1,"") | N4: =IF(N6="日",1,"") | O4: =IF(O6="日",1,"") | P4: =IF(P6="日",1,"") | Q4: =IF(Q6="日",1,"") | R4: =IF(R6="日",1,"") -> 1 | S4: =IF(S6="日",1,"") | T4: =IF(T6="日",1,"") | ... AF4: =IF(AF6="日",1,"") -> 1
A5: 日 時間帯 | B5: ='9月'!AE5+1 -> 46661 | C5: =B5+1 -> 46662 | D5: =C5+1 -> 46663 | E5: =D5+1 -> 46664 | F5: =E5+1 -> 46665 | G5: =F5+1 -> 46666 | H5: =G5+1 -> 46667 | I5: =H5+1 -> 46668 | J5: =I5+1 -> 46669 | ... AF5: =AE5+1 -> 46691
B6: =TEXT(B5,"aaa") -> 金 | C6: =TEXT(C5,"aaa") -> 土 | D6: =TEXT(D5,"aaa") -> 日 | E6: =TEXT(E5,"aaa") -> 月 | F6: =TEXT(F5,"aaa") -> 火 | G6: =TEXT(G5,"aaa") -> 水 | H6: =TEXT(H5,"aaa") -> 木 | I6: =TEXT(I5,"aaa") -> 金 | ... AF6: =TEXT(AF5,"aaa") -> 日
A7: 0：30 | B7: 870 | C7: 870 | D7: 870 | E7: 870 | F7: 870 | G7: 870 | H7: 870 | I7: 0 | J7: 0 | K7: 0 | L7: 0 | M7: 0 | N7: 0 | O7: 0 | P7: 0 | Q7: 0 | R7: 0 | S7: 0 | T7: 0 | U7: 0 | V7: 0 | W7: 0 | X7: 0 | Y7: 0 | Z7: 0 | AA7: 0 | AB7: 450 | AC7: 870 | AD7: 870 | AE7: 870 | AF7: 870
A8: 1：00 | B8: 870 | C8: 870 | D8: 870 | E8: 870 | F8: 870 | G8: 870 | H8: 870 | I8: 0 | J8: 0 | K8: 0 | L8: 0 | M8: 0 | N8: 0 | O8: 0 | P8: 0 | Q8: 0 | R8: 0 | S8: 0 | T8: 0 | U8: 0 | V8: 0 | W8: 0 | X8: 0 | Y8: 0 | Z8: 0 | AA8: 0 | AB8: 450 | AC8: 870 | AD8: 870 | AE8: 870 | AF8: 870
A9: 1：30 | B9: 870 | C9: 870 | D9: 870 | E9: 870 | F9: 870 | G9: 870 | H9: 870 | I9: 0 | J9: 0 | K9: 0 | L9: 0 | M9: 0 | N9: 0 | O9: 0 | P9: 0 | Q9: 0 | R9: 0 | S9: 0 | T9: 0 | U9: 0 | V9: 0 | W9: 0 | X9: 0 | Y9: 0 | Z9: 0 | AA9: 0 | AB9: 450 | AC9: 870 | AD9: 870 | AE9: 870 | AF9: 870
A10: 2：00 | B10: 870 | C10: 870 | D10: 870 | E10: 870 | F10: 870 | G10: 870 | H10: 870 | I10: 0 | J10: 0 | K10: 0 | L10: 0 | M10: 0 | N10: 0 | O10: 0 | P10: 0 | Q10: 0 | R10: 0 | S10: 0 | T10: 0 | U10: 0 | V10: 0 | W10: 0 | X10: 0 | Y10: 0 | Z10: 0 | AA10: 0 | AB10: 450 | AC10: 870 | AD10: 870 | AE10: 870 | AF10: 870
A11: 2：30 | B11: 870 | C11: 870 | D11: 870 | E11: 870 | F11: 870 | G11: 870 | H11: 870 | I11: 0 | J11: 0 | K11: 0 | L11: 0 | M11: 0 | N11: 0 | O11: 0 | P11: 0 | Q11: 0 | R11: 0 | S11: 0 | T11: 0 | U11: 0 | V11: 0 | W11: 0 | X11: 0 | Y11: 0 | Z11: 0 | AA11: 0 | AB11: 450 | AC11: 870 | AD11: 870 | AE11: 870 | AF11: 870
A12: 3：00 | B12: 870 | C12: 870 | D12: 870 | E12: 870 | F12: 870 | G12: 870 | H12: 870 | I12: 0 | J12: 0 | K12: 0 | L12: 0 | M12: 0 | N12: 0 | O12: 0 | P12: 0 | Q12: 0 | R12: 0 | S12: 0 | T12: 0 | U12: 0 | V12: 0 | W12: 0 | X12: 0 | Y12: 0 | Z12: 0 | AA12: 0 | AB12: 450 | AC12: 870 | AD12: 870 | AE12: 870 | AF12: 870
A13: 3：30 | B13: 870 | C13: 870 | D13: 870 | E13: 870 | F13: 870 | G13: 870 | H13: 870 | I13: 0 | J13: 0 | K13: 0 | L13: 0 | M13: 0 | N13: 0 | O13: 0 | P13: 0 | Q13: 0 | R13: 0 | S13: 0 | T13: 0 | U13: 0 | V13: 0 | W13: 0 | X13: 0 | Y13: 0 | Z13: 0 | AA13: 0 | AB13: 450 | AC13: 870 | AD13: 870 | AE13: 870 | AF13: 870
A14: 4：00 | B14: 870 | C14: 870 | D14: 870 | E14: 870 | F14: 870 | G14: 870 | H14: 870 | I14: 0 | J14: 0 | K14: 0 | L14: 0 | M14: 0 | N14: 0 | O14: 0 | P14: 0 | Q14: 0 | R14: 0 | S14: 0 | T14: 0 | U14: 0 | V14: 0 | W14: 0 | X14: 0 | Y14: 0 | Z14: 0 | AA14: 0 | AB14: 450 | AC14: 870 | AD14: 870 | AE14: 870 | AF14: 870
A15: 4：30 | B15: 870 | C15: 870 | D15: 870 | E15: 870 | F15: 870 | G15: 870 | H15: 870 | I15: 0 | J15: 0 | K15: 0 | L15: 0 | M15: 0 | N15: 0 | O15: 0 | P15: 0 | Q15: 0 | R15: 0 | S15: 0 | T15: 0 | U15: 0 | V15: 0 | W15: 0 | X15: 0 | Y15: 0 | Z15: 0 | AA15: 0 | AB15: 450 | AC15: 870 | AD15: 870 | AE15: 870 | AF15: 870
A16: 5：00 | B16: 870 | C16: 870 | D16: 870 | E16: 870 | F16: 870 | G16: 870 | H16: 870 | I16: 0 | J16: 0 | K16: 0 | L16: 0 | M16: 0 | N16: 0 | O16: 0 | P16: 0 | Q16: 0 | R16: 0 | S16: 0 | T16: 0 | U16: 0 | V16: 0 | W16: 0 | X16: 0 | Y16: 0 | Z16: 0 | AA16: 0 | AB16: 450 | AC16: 870 | AD16: 870 | AE16: 870 | AF16: 870
A17: 5：30 | B17: 870 | C17: 870 | D17: 870 | E17: 870 | F17: 870 | G17: 870 | H17: 870 | I17: 0 | J17: 0 | K17: 0 | L17: 0 | M17: 0 | N17: 0 | O17: 0 | P17: 0 | Q17: 0 | R17: 0 | S17: 0 | T17: 0 | U17: 0 | V17: 0 | W17: 0 | X17: 0 | Y17: 0 | Z17: 0 | AA17: 0 | AB17: 450 | AC17: 870 | AD17: 870 | AE17: 870 | AF17: 870
A18: 6：00 | B18: 870 | C18: 870 | D18: 870 | E18: 870 | F18: 870 | G18: 870 | H18: 870 | I18: 0 | J18: 0 | K18: 0 | L18: 0 | M18: 0 | N18: 0 | O18: 0 | P18: 0 | Q18: 0 | R18: 0 | S18: 0 | T18: 0 | U18: 0 | V18: 0 | W18: 0 | X18: 0 | Y18: 0 | Z18: 0 | AA18: 0 | AB18: 450 | AC18: 870 | AD18: 870 | AE18: 870 | AF18: 870
... A52: 23：00 | B52: 870 | C52: 870 | D52: 870 | E52: 870 | F52: 870 | G52: 870 | H52: 0 | I52: 0 | J52: 0 | K52: 0 | L52: 0 | M52: 0 | N52: 0 | O52: 0 | P52: 0 | Q52: 0 | R52: 0 | S52: 0 | T52: 0 | U52: 0 | V52: 0 | W52: 0 | X52: 0 | Y52: 0 | Z52: 0 | AA52: 450 | AB52: 870 | AC52: 870 | AD52: 870 | AE52: 870 | AF52: 870
A53: 23：30 | B53: 870 | C53: 870 | D53: 870 | E53: 870 | F53: 870 | G53: 870 | H53: 0 | I53: 0 | J53: 0 | K53: 0 | L53: 0 | M53: 0 | N53: 0 | O53: 0 | P53: 0 | Q53: 0 | R53: 0 | S53: 0 | T53: 0 | U53: 0 | V53: 0 | W53: 0 | X53: 0 | Y53: 0 | Z53: 0 | AA53: 450 | AB53: 870 | AC53: 870 | AD53: 870 | AE53: 870 | AF53: 870 | AG53: =CONCATENATE(B3,"合計") -> 10月合計
A54: 24：00 | B54: 870 | C54: 870 | D54: 870 | E54: 870 | F54: 870 | G54: 870 | H54: 0 | I54: 0 | J54: 0 | K54: 0 | L54: 0 | M54: 0 | N54: 0 | O54: 0 | P54: 0 | Q54: 0 | R54: 0 | S54: 0 | T54: 0 | U54: 0 | V54: 0 | W54: 0 | X54: 0 | Y54: 0 | Z54: 0 | AA54: 450 | AB54: 870 | AC54: 870 | AD54: 870 | AE54: 870 | AF54: 870
A55: 計 | B55: =SUM(B7:B54) -> 41200 | C55: =SUM(C7:C54) -> 41200 | D55: =SUM(D7:D54) -> 41760 | E55: =SUM(E7:E54) -> 41200 | F55: =SUM(F7:F54) -> 41200 | G55: =SUM(G7:G54) -> 41200 | H55: =SUM(H7:H54) -> 18170 | I55: =SUM(I7:I54) -> 0 | ... AF55: =SUM(AF7:AF54) -> 41760 | AG55: =SUM(B55:AF55) -> 471320
A56: 平日昼間（その他季） | B56: =IF(B4="",SUM(B23:B50),0) -> 23800 | C56: =IF(C4="",SUM(C23:C50),0) -> 23800 | D56: =IF(D4="",SUM(D23:D50),0) -> 0 | E56: =IF(E4="",SUM(E23:E50),0) -> 23800 | F56: =IF(F4="",SUM(F23:F50),0) -> 23800 | G56: =IF(G4="",SUM(G23:G50),0) -> 23800 | H56: =IF(H4="",SUM(H23:H50),0) -> 4250 | I56: =IF(I4="",SUM(I23:I50),0) -> 0 | ... AF56: =IF(AF4="",SUM(AF23:AF50),0) -> 0 | AG56: =SUM(B56:AF56) -> 222200
A57: 夜間及び休日 | B57: =IF(B4="",SUM(B7:B22,B51:B54),SUM(B7:B54)) -> 17400 | C57: =IF(C4="",SUM(C7:C22,C51:C54),SUM(C7:C54)) -> 17400 | D57: =IF(D4="",SUM(D7:D22,D51:D54),SUM(D7:D54)) -> 41760 | E57: =IF(E4="",SUM(E7:E22,E51:E54),SUM(E7:E54)) -> 17400 | F57: =IF(F4="",SUM(F7:F22,F51:F54),SUM(F7:F54)) -> 17400 | G57: =IF(G4="",SUM(G7:G22,G51:G54),SUM(G7:G54)) -> 17400 | H57: =IF(H4="",SUM(H7:H22,H51:H54),SUM(H7:H54)) -> 13920 | I57: =IF(I4="",SUM(I7:I22,I51:I54),SUM(I7:I54)) -> 0 | ... AF57: =IF(AF4="",SUM(AF7:AF22,AF51:AF54),SUM(AF7:AF54)) -> 41760 | AG57: =SUM(B57:AF57) -> 249120
A59: 平均値 | B59: =AVERAGE(B7:B54) -> 858.33333 | C59: =AVERAGE(C7:C54) -> 858.33333 | D59: =AVERAGE(D7:D54) -> 870 | E59: =AVERAGE(E7:E54) -> 858.33333 | F59: =AVERAGE(F7:F54) -> 858.33333 | G59: =AVERAGE(G7:G54) -> 858.33333 | H59: =AVERAGE(H7:H54) -> 378.54167 | I59: =AVERAGE(I7:I54) -> 0 | ... AF59: =AVERAGE(AF7:AF54) -> 870
A60: 最大値 | B60: =MAX(B7:B54) -> 870 | C60: =MAX(C7:C54) -> 870 | D60: =MAX(D7:D54) -> 870 | E60: =MAX(E7:E54) -> 870 | F60: =MAX(F7:F54) -> 870 | G60: =MAX(G7:G54) -> 870 | H60: =MAX(H7:H54) -> 870 | I60: =MAX(I7:I54) -> 0 | ... AF60: =MAX(AF7:AF54) -> 870
A61: 最小値 | B61: =MIN(B7:B54) -> 850 | C61: =MIN(C7:C54) -> 850 | D61: =MIN(D7:D54) -> 870 | E61: =MIN(E7:E54) -> 850 | F61: =MIN(F7:F54) -> 850 | G61: =MIN(G7:G54) -> 850 | H61: =MIN(H7:H54) -> 0 | I61: =MIN(I7:I54) -> 0 | ... AF61: =MIN(AF7:AF54) -> 870

Sheet 11月
A1: 令和９年度 時間帯別送電計画（３０分値）
A3: ='4月'!A3 -> 9 | B3: 11月 | AF3: 単位：ｋｗｈ
A4: =SUM(B4:AF4) -> 6 | B4: =IF(B6="日",1,"") | C4: =IF(C6="日",1,"") | D4: 1 | E4: =IF(E6="日",1,"") | F4: =IF(F6="日",1,"") | G4: =IF(G6="日",1,"") | H4: =IF(H6="日",1,"") -> 1 | I4: =IF(I6="日",1,"") | J4: =IF(J6="日",1,"") | K4: =IF(K6="日",1,"") | L4: =IF(L6="日",1,"") | ... W4: =IF(W6="日",1,"") | X4: 1 | Y4: =IF(Y6="日",1,"") | Z4: =IF(Z6="日",1,"") | AA4: =IF(AA6="日",1,"") | AB4: =IF(AB6="日",1,"") | AC4: =IF(AC6="日",1,"") -> 1 | AD4: =IF(AD6="日",1,"") | AE4: =IF(AE6="日",1,"")
A5: 日 時間帯 | B5: ='10月'!AF5+1 -> 46692 | C5: =B5+1 -> 46693 | D5: =C5+1 -> 46694 | E5: =D5+1 -> 46695 | F5: =E5+1 -> 46696 | G5: =F5+1 -> 46697 | H5: =G5+1 -> 46698 | I5: =H5+1 -> 46699 | J5: =I5+1 -> 46700 | ... AE5: =AD5+1 -> 46721
B6: =TEXT(B5,"aaa") -> 月 | C6: =TEXT(C5,"aaa") -> 火 | D6: =TEXT(D5,"aaa") -> 水 | E6: =TEXT(E5,"aaa") -> 木 | F6: =TEXT(F5,"aaa") -> 金 | G6: =TEXT(G5,"aaa") -> 土 | H6: =TEXT(H5,"aaa") -> 日 | I6: =TEXT(I5,"aaa") -> 月 | ... AE6: =TEXT(AE5,"aaa") -> 火
A7: 0：30 | B7: 870 | C7: 870 | D7: 870 | E7: 870 | F7: 870 | G7: 870 | H7: 870 | I7: 870 | J7: 870 | K7: 870 | L7: 870 | M7: 870 | N7: 870 | O7: 870 | P7: 870 | Q7: 870 | R7: 870 | S7: 870 | T7: 870 | U7: 870 | V7: 870 | W7: 870 | X7: 870 | Y7: 870 | Z7: 870 | AA7: 870 | AB7: 870 | AC7: 870 | AD7: 870 | AE7: 870
A8: 1：00 | B8: 870 | C8: 870 | D8: 870 | E8: 870 | F8: 870 | G8: 870 | H8: 870 | I8: 870 | J8: 870 | K8: 870 | L8: 870 | M8: 870 | N8: 870 | O8: 870 | P8: 870 | Q8: 870 | R8: 870 | S8: 870 | T8: 870 | U8: 870 | V8: 870 | W8: 870 | X8: 870 | Y8: 870 | Z8: 870 | AA8: 870 | AB8: 870 | AC8: 870 | AD8: 870 | AE8: 870
A9: 1：30 | B9: 870 | C9: 870 | D9: 870 | E9: 870 | F9: 870 | G9: 870 | H9: 870 | I9: 870 | J9: 870 | K9: 870 | L9: 870 | M9: 870 | N9: 870 | O9: 870 | P9: 870 | Q9: 870 | R9: 870 | S9: 870 | T9: 870 | U9: 870 | V9: 870 | W9: 870 | X9: 870 | Y9: 870 | Z9: 870 | AA9: 870 | AB9: 870 | AC9: 870 | AD9: 870 | AE9: 870
A10: 2：00 | B10: 870 | C10: 870 | D10: 870 | E10: 870 | F10: 870 | G10: 870 | H10: 870 | I10: 870 | J10: 870 | K10: 870 | L10: 870 | M10: 870 | N10: 870 | O10: 870 | P10: 870 | Q10: 870 | R10: 870 | S10: 870 | T10: 870 | U10: 870 | V10: 870 | W10: 870 | X10: 870 | Y10: 870 | Z10: 870 | AA10: 870 | AB10: 870 | AC10: 870 | AD10: 870 | AE10: 870
A11: 2：30 | B11: 870 | C11: 870 | D11: 870 | E11: 870 | F11: 870 | G11: 870 | H11: 870 | I11: 870 | J11: 870 | K11: 870 | L11: 870 | M11: 870 | N11: 870 | O11: 870 | P11: 870 | Q11: 870 | R11: 870 | S11: 870 | T11: 870 | U11: 870 | V11: 870 | W11: 870 | X11: 870 | Y11: 870 | Z11: 870 | AA11: 870 | AB11: 870 | AC11: 870 | AD11: 870 | AE11: 870
A12: 3：00 | B12: 870 | C12: 870 | D12: 870 | E12: 870 | F12: 870 | G12: 870 | H12: 870 | I12: 870 | J12: 870 | K12: 870 | L12: 870 | M12: 870 | N12: 870 | O12: 870 | P12: 870 | Q12: 870 | R12: 870 | S12: 870 | T12: 870 | U12: 870 | V12: 870 | W12: 870 | X12: 870 | Y12: 870 | Z12: 870 | AA12: 870 | AB12: 870 | AC12: 870 | AD12: 870 | AE12: 870
A13: 3：30 | B13: 870 | C13: 870 | D13: 870 | E13: 870 | F13: 870 | G13: 870 | H13: 870 | I13: 870 | J13: 870 | K13: 870 | L13: 870 | M13: 870 | N13: 870 | O13: 870 | P13: 870 | Q13: 870 | R13: 870 | S13: 870 | T13: 870 | U13: 870 | V13: 870 | W13: 870 | X13: 870 | Y13: 870 | Z13: 870 | AA13: 870 | AB13: 870 | AC13: 870 | AD13: 870 | AE13: 870
A14: 4：00 | B14: 870 | C14: 870 | D14: 870 | E14: 870 | F14: 870 | G14: 870 | H14: 870 | I14: 870 | J14: 870 | K14: 870 | L14: 870 | M14: 870 | N14: 870 | O14: 870 | P14: 870 | Q14: 870 | R14: 870 | S14: 870 | T14: 870 | U14: 870 | V14: 870 | W14: 870 | X14: 870 | Y14: 870 | Z14: 870 | AA14: 870 | AB14: 870 | AC14: 870 | AD14: 870 | AE14: 870
A15: 4：30 | B15: 870 | C15: 870 | D15: 870 | E15: 870 | F15: 870 | G15: 870 | H15: 870 | I15: 870 | J15: 870 | K15: 870 | L15: 870 | M15: 870 | N15: 870 | O15: 870 | P15: 870 | Q15: 870 | R15: 870 | S15: 870 | T15: 870 | U15: 870 | V15: 870 | W15: 870 | X15: 870 | Y15: 870 | Z15: 870 | AA15: 870 | AB15: 870 | AC15: 870 | AD15: 870 | AE15: 870
A16: 5：00 | B16: 870 | C16: 870 | D16: 870 | E16: 870 | F16: 870 | G16: 870 | H16: 870 | I16: 870 | J16: 870 | K16: 870 | L16: 870 | M16: 870 | N16: 870 | O16: 870 | P16: 870 | Q16: 870 | R16: 870 | S16: 870 | T16: 870 | U16: 870 | V16: 870 | W16: 870 | X16: 870 | Y16: 870 | Z16: 870 | AA16: 870 | AB16: 870 | AC16: 870 | AD16: 870 | AE16: 870
A17: 5：30 | B17: 870 | C17: 870 | D17: 870 | E17: 870 | F17: 870 | G17: 870 | H17: 870 | I17: 870 | J17: 870 | K17: 870 | L17: 870 | M17: 870 | N17: 870 | O17: 870 | P17: 870 | Q17: 870 | R17: 870 | S17: 870 | T17: 870 | U17: 870 | V17: 870 | W17: 870 | X17: 870 | Y17: 870 | Z17: 870 | AA17: 870 | AB17: 870 | AC17: 870 | AD17: 870 | AE17: 870
A18: 6：00 | B18: 870 | C18: 870 | D18: 870 | E18: 870 | F18: 870 | G18: 870 | H18: 870 | I18: 870 | J18: 870 | K18: 870 | L18: 870 | M18: 870 | N18: 870 | O18: 870 | P18: 870 | Q18: 870 | R18: 870 | S18: 870 | T18: 870 | U18: 870 | V18: 870 | W18: 870 | X18: 870 | Y18: 870 | Z18: 870 | AA18: 870 | AB18: 870 | AC18: 870 | AD18: 870 | AE18: 870
... A52: 23：00 | B52: 870 | C52: 870 | D52: 870 | E52: 870 | F52: 870 | G52: 870 | H52: 870 | I52: 870 | J52: 870 | K52: 870 | L52: 870 | M52: 870 | N52: 870 | O52: 870 | P52: 870 | Q52: 870 | R52: 870 | S52: 870 | T52: 870 | U52: 870 | V52: 870 | W52: 870 | X52: 870 | Y52: 870 | Z52: 870 | AA52: 870 | AB52: 870 | AC52: 870 | AD52: 870 | AE52: 870
A53: 23：30 | B53: 870 | C53: 870 | D53: 870 | E53: 870 | F53: 870 | G53: 870 | H53: 870 | I53: 870 | J53: 870 | K53: 870 | L53: 870 | M53: 870 | N53: 870 | O53: 870 | P53: 870 | Q53: 870 | R53: 870 | S53: 870 | T53: 870 | U53: 870 | V53: 870 | W53: 870 | X53: 870 | Y53: 870 | Z53: 870 | AA53: 870 | AB53: 870 | AC53: 870 | AD53: 870 | AE53: 870 | AG53: =CONCATENATE(B3,"合計") -> 11月合計
A54: 24：00 | B54: 870 | C54: 870 | D54: 870 | E54: 870 | F54: 870 | G54: 870 | H54: 870 | I54: 870 | J54: 870 | K54: 870 | L54: 870 | M54: 870 | N54: 870 | O54: 870 | P54: 870 | Q54: 870 | R54: 870 | S54: 870 | T54: 870 | U54: 870 | V54: 870 | W54: 870 | X54: 870 | Y54: 870 | Z54: 870 | AA54: 870 | AB54: 870 | AC54: 870 | AD54: 870 | AE54: 870
A55: 計 | B55: =SUM(B7:B54) -> 41200 | C55: =SUM(C7:C54) -> 41200 | D55: =SUM(D7:D54) -> 41760 | E55: =SUM(E7:E54) -> 41200 | F55: =SUM(F7:F54) -> 41200 | G55: =SUM(G7:G54) -> 41200 | H55: =SUM(H7:H54) -> 41760 | I55: =SUM(I7:I54) -> 41200 | ... AE55: =SUM(AE7:AE54) -> 41200 | AG55: =SUM(B55:AE55) -> 1239360
A56: 平日昼間（その他季） | B56: =IF(B4="",SUM(B23:B50),0) -> 23800 | C56: =IF(C4="",SUM(C23:C50),0) -> 23800 | D56: =IF(D4="",SUM(D23:D50),0) -> 0 | E56: =IF(E4="",SUM(E23:E50),0) -> 23800 | F56: =IF(F4="",SUM(F23:F50),0) -> 23800 | G56: =IF(G4="",SUM(G23:G50),0) -> 23800 | H56: =IF(H4="",SUM(H23:H50),0) -> 0 | I56: =IF(I4="",SUM(I23:I50),0) -> 23800 | ... AE56: =IF(AE4="",SUM(AE23:AE50),0) -> 23800 | AG56: =SUM(B56:AE56) -> 571200
A57: 夜間及び休日 | B57: =IF(B4="",SUM(B7:B22,B51:B54),SUM(B7:B54)) -> 17400 | C57: =IF(C4="",SUM(C7:C22,C51:C54),SUM(C7:C54)) -> 17400 | D57: =IF(D4="",SUM(D7:D22,D51:D54),SUM(D7:D54)) -> 41760 | E57: =IF(E4="",SUM(E7:E22,E51:E54),SUM(E7:E54)) -> 17400 | F57: =IF(F4="",SUM(F7:F22,F51:F54),SUM(F7:F54)) -> 17400 | G57: =IF(G4="",SUM(G7:G22,G51:G54),SUM(G7:G54)) -> 17400 | H57: =IF(H4="",SUM(H7:H22,H51:H54),SUM(H7:H54)) -> 41760 | I57: =IF(I4="",SUM(I7:I22,I51:I54),SUM(I7:I54)) -> 17400 | ... AE57: =IF(AE4="",SUM(AE7:AE22,AE51:AE54),SUM(AE7:AE54)) -> 17400 | AG57: =SUM(B57:AE57) -> 668160
A59: 平均値 | B59: =AVERAGE(B7:B54) -> 858.33333 | C59: =AVERAGE(C7:C54) -> 858.33333 | D59: =AVERAGE(D7:D54) -> 870 | E59: =AVERAGE(E7:E54) -> 858.33333 | F59: =AVERAGE(F7:F54) -> 858.33333 | G59: =AVERAGE(G7:G54) -> 858.33333 | H59: =AVERAGE(H7:H54) -> 870 | I59: =AVERAGE(I7:I54) -> 858.33333 | ... AE59: =AVERAGE(AE7:AE54) -> 858.33333
A60: 最大値 | B60: =MAX(B7:B54) -> 870 | C60: =MAX(C7:C54) -> 870 | D60: =MAX(D7:D54) -> 870 | E60: =MAX(E7:E54) -> 870 | F60: =MAX(F7:F54) -> 870 | G60: =MAX(G7:G54) -> 870 | H60: =MAX(H7:H54) -> 870 | I60: =MAX(I7:I54) -> 870 | ... AE60: =MAX(AE7:AE54) -> 870
A61: 最小値 | B61: =MIN(B7:B54) -> 850 | C61: =MIN(C7:C54) -> 850 | D61: =MIN(D7:D54) -> 870 | E61: =MIN(E7:E54) -> 850 | F61: =MIN(F7:F54) -> 850 | G61: =MIN(G7:G54) -> 850 | H61: =MIN(H7:H54) -> 870 | I61: =MIN(I7:I54) -> 850 | ... AE61: =MIN(AE7:AE54) -> 850

Sheet 12月
A1: 令和９年度 時間帯別送電計画（３０分値）
A3: ='4月'!A3 -> 9 | B3: 12月 | AF3: 単位：ｋｗｈ
A4: =SUM(B4:AF4) -> 6 | B4: =IF(B6="日",1,"") | C4: =IF(C6="日",1,"") | D4: =IF(D6="日",1,"") | E4: =IF(E6="日",1,"") | F4: =IF(F6="日",1,"") -> 1 | G4: =IF(G6="日",1,"") | H4: =IF(H6="日",1,"") | I4: =IF(I6="日",1,"") | ... AD4: =IF(AD6="日",1,"") | AE4: 1 | AF4: 1
A5: 日 時間帯 | B5: ='11月'!AE5+1 -> 46722 | C5: =B5+1 -> 46723 | D5: =C5+1 -> 46724 | E5: =D5+1 -> 46725 | F5: =E5+1 -> 46726 | G5: =F5+1 -> 46727 | H5: =G5+1 -> 46728 | I5: =H5+1 -> 46729 | J5: =I5+1 -> 46730 | ... AF5: =AE5+1 -> 46752
B6: =TEXT(B5,"aaa") -> 水 | C6: =TEXT(C5,"aaa") -> 木 | D6: =TEXT(D5,"aaa") -> 金 | E6: =TEXT(E5,"aaa") -> 土 | F6: =TEXT(F5,"aaa") -> 日 | G6: =TEXT(G5,"aaa") -> 月 | H6: =TEXT(H5,"aaa") -> 火 | I6: =TEXT(I5,"aaa") -> 水 | ... AF6: =TEXT(AF5,"aaa") -> 金
A7: 0：30 | B7: 870 | C7: 870 | D7: 870 | E7: 870 | F7: 870 | G7: 870 | H7: 870 | I7: 870 | J7: 870 | K7: 870 | L7: 870 | M7: 870 | N7: 870 | O7: 870 | P7: 870 | Q7: 870 | R7: 870 | S7: 870 | T7: 870 | U7: 870 | V7: 870 | W7: 870 | X7: 870 | Y7: 870 | Z7: 870 | AA7: 870 | AB7: 870 | AC7: 870 | AD7: 870 | AE7: 870 | AF7: 870
A8: 1：00 | B8: 870 | C8: 870 | D8: 870 | E8: 870 | F8: 870 | G8: 870 | H8: 870 | I8: 870 | J8: 870 | K8: 870 | L8: 870 | M8: 870 | N8: 870 | O8: 870 | P8: 870 | Q8: 870 | R8: 870 | S8: 870 | T8: 870 | U8: 870 | V8: 870 | W8: 870 | X8: 870 | Y8: 870 | Z8: 870 | AA8: 870 | AB8: 870 | AC8: 870 | AD8: 870 | AE8: 870 | AF8: 870
A9: 1：30 | B9: 870 | C9: 870 | D9: 870 | E9: 870 | F9: 870 | G9: 870 | H9: 870 | I9: 870 | J9: 870 | K9: 870 | L9: 870 | M9: 870 | N9: 870 | O9: 870 | P9: 870 | Q9: 870 | R9: 870 | S9: 870 | T9: 870 | U9: 870 | V9: 870 | W9: 870 | X9: 870 | Y9: 870 | Z9: 870 | AA9: 870 | AB9: 870 | AC9: 870 | AD9: 870 | AE9: 870 | AF9: 870
A10: 2：00 | B10: 870 | C10: 870 | D10: 870 | E10: 870 | F10: 870 | G10: 870 | H10: 870 | I10: 870 | J10: 870 | K10: 870 | L10: 870 | M10: 870 | N10: 870 | O10: 870 | P10: 870 | Q10: 870 | R10: 870 | S10: 870 | T10: 870 | U10: 870 | V10: 870 | W10: 870 | X10: 870 | Y10: 870 | Z10: 870 | AA10: 870 | AB10: 870 | AC10: 870 | AD10: 870 | AE10: 870 | AF10: 870
A11: 2：30 | B11: 870 | C11: 870 | D11: 870 | E11: 870 | F11: 870 | G11: 870 | H11: 870 | I11: 870 | J11: 870 | K11: 870 | L11: 870 | M11: 870 | N11: 870 | O11: 870 | P11: 870 | Q11: 870 | R11: 870 | S11: 870 | T11: 870 | U11: 870 | V11: 870 | W11: 870 | X11: 870 | Y11: 870 | Z11: 870 | AA11: 870 | AB11: 870 | AC11: 870 | AD11: 870 | AE11: 870 | AF11: 870
A12: 3：00 | B12: 870 | C12: 870 | D12: 870 | E12: 870 | F12: 870 | G12: 870 | H12: 870 | I12: 870 | J12: 870 | K12: 870 | L12: 870 | M12: 870 | N12: 870 | O12: 870 | P12: 870 | Q12: 870 | R12: 870 | S12: 870 | T12: 870 | U12: 870 | V12: 870 | W12: 870 | X12: 870 | Y12: 870 | Z12: 870 | AA12: 870 | AB12: 870 | AC12: 870 | AD12: 870 | AE12: 870 | AF12: 870
A13: 3：30 | B13: 870 | C13: 870 | D13: 870 | E13: 870 | F13: 870 | G13: 870 | H13: 870 | I13: 870 | J13: 870 | K13: 870 | L13: 870 | M13: 870 | N13: 870 | O13: 870 | P13: 870 | Q13: 870 | R13: 870 | S13: 870 | T13: 870 | U13: 870 | V13: 870 | W13: 870 | X13: 870 | Y13: 870 | Z13: 870 | AA13: 870 | AB13: 870 | AC13: 870 | AD13: 870 | AE13: 870 | AF13: 870
A14: 4：00 | B14: 870 | C14: 870 | D14: 870 | E14: 870 | F14: 870 | G14: 870 | H14: 870 | I14: 870 | J14: 870 | K14: 870 | L14: 870 | M14: 870 | N14: 870 | O14: 870 | P14: 870 | Q14: 870 | R14: 870 | S14: 870 | T14: 870 | U14: 870 | V14: 870 | W14: 870 | X14: 870 | Y14: 870 | Z14: 870 | AA14: 870 | AB14: 870 | AC14: 870 | AD14: 870 | AE14: 870 | AF14: 870
A15: 4：30 | B15: 870 | C15: 870 | D15: 870 | E15: 870 | F15: 870 | G15: 870 | H15: 870 | I15: 870 | J15: 870 | K15: 870 | L15: 870 | M15: 870 | N15: 870 | O15: 870 | P15: 870 | Q15: 870 | R15: 870 | S15: 870 | T15: 870 | U15: 870 | V15: 870 | W15: 870 | X15: 870 | Y15: 870 | Z15: 870 | AA15: 870 | AB15: 870 | AC15: 870 | AD15: 870 | AE15: 870 | AF15: 870
A16: 5：00 | B16: 870 | C16: 870 | D16: 870 | E16: 870 | F16: 870 | G16: 870 | H16: 870 | I16: 870 | J16: 870 | K16: 870 | L16: 870 | M16: 870 | N16: 870 | O16: 870 | P16: 870 | Q16: 870 | R16: 870 | S16: 870 | T16: 870 | U16: 870 | V16: 870 | W16: 870 | X16: 870 | Y16: 870 | Z16: 870 | AA16: 870 | AB16: 870 | AC16: 870 | AD16: 870 | AE16: 870 | AF16: 870
A17: 5：30 | B17: 870 | C17: 870 | D17: 870 | E17: 870 | F17: 870 | G17: 870 | H17: 870 | I17: 870 | J17: 870 | K17: 870 | L17: 870 | M17: 870 | N17: 870 | O17: 870 | P17: 870 | Q17: 870 | R17: 870 | S17: 870 | T17: 870 | U17: 870 | V17: 870 | W17: 870 | X17: 870 | Y17: 870 | Z17: 870 | AA17: 870 | AB17: 870 | AC17: 870 | AD17: 870 | AE17: 870 | AF17: 870
A18: 6：00 | B18: 870 | C18: 870 | D18: 870 | E18: 870 | F18: 870 | G18: 870 | H18: 870 | I18: 870 | J18: 870 | K18: 870 | L18: 870 | M18: 870 | N18: 870 | O18: 870 | P18: 870 | Q18: 870 | R18: 870 | S18: 870 | T18: 870 | U18: 870 | V18: 870 | W18: 870 | X18: 870 | Y18: 870 | Z18: 870 | AA18: 870 | AB18: 870 | AC18: 870 | AD18: 870 | AE18: 870 | AF18: 870
... A52: 23：00 | B52: 870 | C52: 870 | D52: 870 | E52: 870 | F52: 870 | G52: 870 | H52: 870 | I52: 870 | J52: 870 | K52: 870 | L52: 870 | M52: 870 | N52: 870 | O52: 870 | P52: 870 | Q52: 870 | R52: 870 | S52: 870 | T52: 870 | U52: 870 | V52: 870 | W52: 870 | X52: 870 | Y52: 870 | Z52: 870 | AA52: 870 | AB52: 870 | AC52: 870 | AD52: 870 | AE52: 870 | AF52: 870
A53: 23：30 | B53: 870 | C53: 870 | D53: 870 | E53: 870 | F53: 870 | G53: 870 | H53: 870 | I53: 870 | J53: 870 | K53: 870 | L53: 870 | M53: 870 | N53: 870 | O53: 870 | P53: 870 | Q53: 870 | R53: 870 | S53: 870 | T53: 870 | U53: 870 | V53: 870 | W53: 870 | X53: 870 | Y53: 870 | Z53: 870 | AA53: 870 | AB53: 870 | AC53: 870 | AD53: 870 | AE53: 870 | AF53: 870 | AG53: =CONCATENATE(B3,"合計") -> 12月合計
A54: 24：00 | B54: 870 | C54: 870 | D54: 870 | E54: 870 | F54: 870 | G54: 870 | H54: 870 | I54: 870 | J54: 870 | K54: 870 | L54: 870 | M54: 870 | N54: 870 | O54: 870 | P54: 870 | Q54: 870 | R54: 870 | S54: 870 | T54: 870 | U54: 870 | V54: 870 | W54: 870 | X54: 870 | Y54: 870 | Z54: 870 | AA54: 870 | AB54: 870 | AC54: 870 | AD54: 870 | AE54: 870 | AF54: 870
A55: 計 | B55: =SUM(B7:B54) -> 41200 | C55: =SUM(C7:C54) -> 41200 | D55: =SUM(D7:D54) -> 41200 | E55: =SUM(E7:E54) -> 41200 | F55: =SUM(F7:F54) -> 41760 | G55: =SUM(G7:G54) -> 41200 | H55: =SUM(H7:H54) -> 41200 | I55: =SUM(I7:I54) -> 41200 | ... AF55: =SUM(AF7:AF54) -> 41760 | AG55: =SUM(B55:AF55) -> 1280560
A56: 平日昼間（その他季） | B56: =IF(B4="",SUM(B23:B50),0) -> 23800 | C56: =IF(C4="",SUM(C23:C50),0) -> 23800 | D56: =IF(D4="",SUM(D23:D50),0) -> 23800 | E56: =IF(E4="",SUM(E23:E50),0) -> 23800 | F56: =IF(F4="",SUM(F23:F50),0) -> 0 | G56: =IF(G4="",SUM(G23:G50),0) -> 23800 | H56: =IF(H4="",SUM(H23:H50),0) -> 23800 | I56: =IF(I4="",SUM(I23:I50),0) -> 23800 | ... AF56: =IF(AF4="",SUM(AF23:AF50),0) -> 0 | AG56: =SUM(B56:AF56) -> 595000
A57: 夜間及び休日 | B57: =IF(B4="",SUM(B7:B22,B51:B54),SUM(B7:B54)) -> 17400 | C57: =IF(C4="",SUM(C7:C22,C51:C54),SUM(C7:C54)) -> 17400 | D57: =IF(D4="",SUM(D7:D22,D51:D54),SUM(D7:D54)) -> 17400 | E57: =IF(E4="",SUM(E7:E22,E51:E54),SUM(E7:E54)) -> 17400 | F57: =IF(F4="",SUM(F7:F22,F51:F54),SUM(F7:F54)) -> 41760 | G57: =IF(G4="",SUM(G7:G22,G51:G54),SUM(G7:G54)) -> 17400 | H57: =IF(H4="",SUM(H7:H22,H51:H54),SUM(H7:H54)) -> 17400 | I57: =IF(I4="",SUM(I7:I22,I51:I54),SUM(I7:I54)) -> 17400 | ... AF57: =IF(AF4="",SUM(AF7:AF22,AF51:AF54),SUM(AF7:AF54)) -> 41760 | AG57: =SUM(B57:AF57) -> 685560
A59: 平均値 | B59: =AVERAGE(B7:B54) -> 858.33333 | C59: =AVERAGE(C7:C54) -> 858.33333 | D59: =AVERAGE(D7:D54) -> 858.33333 | E59: =AVERAGE(E7:E54) -> 858.33333 | F59: =AVERAGE(F7:F54) -> 870 | G59: =AVERAGE(G7:G54) -> 858.33333 | H59: =AVERAGE(H7:H54) -> 858.33333 | I59: =AVERAGE(I7:I54) -> 858.33333 | ... AF59: =AVERAGE(AF7:AF54) -> 870
A60: 最大値 | B60: =MAX(B7:B54) -> 870 | C60: =MAX(C7:C54) -> 870 | D60: =MAX(D7:D54) -> 870 | E60: =MAX(E7:E54) -> 870 | F60: =MAX(F7:F54) -> 870 | G60: =MAX(G7:G54) -> 870 | H60: =MAX(H7:H54) -> 870 | I60: =MAX(I7:I54) -> 870 | ... AF60: =MAX(AF7:AF54) -> 870
A61: 最小値 | B61: =MIN(B7:B54) -> 850 | C61: =MIN(C7:C54) -> 850 | D61: =MIN(D7:D54) -> 850 | E61: =MIN(E7:E54) -> 850 | F61: =MIN(F7:F54) -> 870 | G61: =MIN(G7:G54) -> 850 | H61: =MIN(H7:H54) -> 850 | I61: =MIN(I7:I54) -> 850 | ... AF61: =MIN(AF7:AF54) -> 870

Sheet 1月
A1: 令和９年度 時間帯別送電計画（３０分値）
A3: ='12月'!A3+1 -> 10 | B3: 1月 | AF3: 単位：ｋｗｈ
A4: =SUM(B4:AF4) -> 8 | B4: 1 | C4: 1 | D4: 1 | E4: =IF(E6="日",1,"") | F4: =IF(F6="日",1,"") | G4: =IF(G6="日",1,"") | H4: =IF(H6="日",1,"") | I4: =IF(I6="日",1,"") | J4: =IF(J6="日",1,"") -> 1 | K4: 1 | L4: =IF(L6="日",1,"") | M4: =IF(M6="日",1,"") | N4: =IF(N6="日",1,"") | O4: =IF(O6="日",1,"") | P4: =IF(P6="日",1,"") | Q4: =IF(Q6="日",1,"") -> 1 | R4: =IF(R6="日",1,"") | S4: =IF(S6="日",1,"") | ... AF4: =IF(AF6="日",1,"")
A5: 日 時間帯 | B5: ='12月'!AF5+1 -> 46753 | C5: =B5+1 -> 46754 | D5: =C5+1 -> 46755 | E5: =D5+1 -> 46756 | F5: =E5+1 -> 46757 | G5: =F5+1 -> 46758 | H5: =G5+1 -> 46759 | I5: =H5+1 -> 46760 | J5: =I5+1 -> 46761 | ... AF5: =AE5+1 -> 46783
B6: =TEXT(B5,"aaa") -> 土 | C6: =TEXT(C5,"aaa") -> 日 | D6: =TEXT(D5,"aaa") -> 月 | E6: =TEXT(E5,"aaa") -> 火 | F6: =TEXT(F5,"aaa") -> 水 | G6: =TEXT(G5,"aaa") -> 木 | H6: =TEXT(H5,"aaa") -> 金 | I6: =TEXT(I5,"aaa") -> 土 | ... AF6: =TEXT(AF5,"aaa") -> 月
A7: 0：30 | B7: 870 | C7: 870 | D7: 870 | E7: 870 | F7: 870 | G7: 870 | H7: 870 | I7: 870 | J7: 870 | K7: 870 | L7: 870 | M7: 870 | N7: 870 | O7: 870 | P7: 870 | Q7: 870 | R7: 870 | S7: 870 | T7: 870 | U7: 870 | V7: 870 | W7: 870 | X7: 870 | Y7: 870 | Z7: 870 | AA7: 870 | AB7: 870 | AC7: 870 | AD7: 870 | AE7: 870 | AF7: 870
A8: 1：00 | B8: 870 | C8: 870 | D8: 870 | E8: 870 | F8: 870 | G8: 870 | H8: 870 | I8: 870 | J8: 870 | K8: 870 | L8: 870 | M8: 870 | N8: 870 | O8: 870 | P8: 870 | Q8: 870 | R8: 870 | S8: 870 | T8: 870 | U8: 870 | V8: 870 | W8: 870 | X8: 870 | Y8: 870 | Z8: 870 | AA8: 870 | AB8: 870 | AC8: 870 | AD8: 870 | AE8: 870 | AF8: 870
A9: 1：30 | B9: 870 | C9: 870 | D9: 870 | E9: 870 | F9: 870 | G9: 870 | H9: 870 | I9: 870 | J9: 870 | K9: 870 | L9: 870 | M9: 870 | N9: 870 | O9: 870 | P9: 870 | Q9: 870 | R9: 870 | S9: 870 | T9: 870 | U9: 870 | V9: 870 | W9: 870 | X9: 870 | Y9: 870 | Z9: 870 | AA9: 870 | AB9: 870 | AC9: 870 | AD9: 870 | AE9: 870 | AF9: 870
A10: 2：00 | B10: 870 | C10: 870 | D10: 870 | E10: 870 | F10: 870 | G10: 870 | H10: 870 | I10: 870 | J10: 870 | K10: 870 | L10: 870 | M10: 870 | N10: 870 | O10: 870 | P10: 870 | Q10: 870 | R10: 870 | S10: 870 | T10: 870 | U10: 870 | V10: 870 | W10: 870 | X10: 870 | Y10: 870 | Z10: 870 | AA10: 870 | AB10: 870 | AC10: 870 | AD10: 870 | AE10: 870 | AF10: 870
A11: 2：30 | B11: 870 | C11: 870 | D11: 870 | E11: 870 | F11: 870 | G11: 870 | H11: 870 | I11: 870 | J11: 870 | K11: 870 | L11: 870 | M11: 870 | N11: 870 | O11: 870 | P11: 870 | Q11: 870 | R11: 870 | S11: 870 | T11: 870 | U11: 870 | V11: 870 | W11: 870 | X11: 870 | Y11: 870 | Z11: 870 | AA11: 870 | AB11: 870 | AC11: 870 | AD11: 870 | AE11: 870 | AF11: 870
A12: 3：00 | B12: 870 | C12: 870 | D12: 870 | E12: 870 | F12: 870 | G12: 870 | H12: 870 | I12: 870 | J12: 870 | K12: 870 | L12: 870 | M12: 870 | N12: 870 | O12: 870 | P12: 870 | Q12: 870 | R12: 870 | S12: 870 | T12: 870 | U12: 870 | V12: 870 | W12: 870 | X12: 870 | Y12: 870 | Z12: 870 | AA12: 870 | AB12: 870 | AC12: 870 | AD12: 870 | AE12: 870 | AF12: 870
A13: 3：30 | B13: 870 | C13: 870 | D13: 870 | E13: 870 | F13: 870 | G13: 870 | H13: 870 | I13: 870 | J13: 870 | K13: 870 | L13: 870 | M13: 870 | N13: 870 | O13: 870 | P13: 870 | Q13: 870 | R13: 870 | S13: 870 | T13: 870 | U13: 870 | V13: 870 | W13: 870 | X13: 870 | Y13: 870 | Z13: 870 | AA13: 870 | AB13: 870 | AC13: 870 | AD13: 870 | AE13: 870 | AF13: 870
A14: 4：00 | B14: 870 | C14: 870 | D14: 870 | E14: 870 | F14: 870 | G14: 870 | H14: 870 | I14: 870 | J14: 870 | K14: 870 | L14: 870 | M14: 870 | N14: 870 | O14: 870 | P14: 870 | Q14: 870 | R14: 870 | S14: 870 | T14: 870 | U14: 870 | V14: 870 | W14: 870 | X14: 870 | Y14: 870 | Z14: 870 | AA14: 870 | AB14: 870 | AC14: 870 | AD14: 870 | AE14: 870 | AF14: 870
A15: 4：30 | B15: 870 | C15: 870 | D15: 870 | E15: 870 | F15: 870 | G15: 870 | H15: 870 | I15: 870 | J15: 870 | K15: 870 | L15: 870 | M15: 870 | N15: 870 | O15: 870 | P15: 870 | Q15: 870 | R15: 870 | S15: 870 | T15: 870 | U15: 870 | V15: 870 | W15: 870 | X15: 870 | Y15: 870 | Z15: 870 | AA15: 870 | AB15: 870 | AC15: 870 | AD15: 870 | AE15: 870 | AF15: 870
A16: 5：00 | B16: 870 | C16: 870 | D16: 870 | E16: 870 | F16: 870 | G16: 870 | H16: 870 | I16: 870 | J16: 870 | K16: 870 | L16: 870 | M16: 870 | N16: 870 | O16: 870 | P16: 870 | Q16: 870 | R16: 870 | S16: 870 | T16: 870 | U16: 870 | V16: 870 | W16: 870 | X16: 870 | Y16: 870 | Z16: 870 | AA16: 870 | AB16: 870 | AC16: 870 | AD16: 870 | AE16: 870 | AF16: 870
A17: 5：30 | B17: 870 | C17: 870 | D17: 870 | E17: 870 | F17: 870 | G17: 870 | H17: 870 | I17: 870 | J17: 870 | K17: 870 | L17: 870 | M17: 870 | N17: 870 | O17: 870 | P17: 870 | Q17: 870 | R17: 870 | S17: 870 | T17: 870 | U17: 870 | V17: 870 | W17: 870 | X17: 870 | Y17: 870 | Z17: 870 | AA17: 870 | AB17: 870 | AC17: 870 | AD17: 870 | AE17: 870 | AF17: 870
A18: 6：00 | B18: 870 | C18: 870 | D18: 870 | E18: 870 | F18: 870 | G18: 870 | H18: 870 | I18: 870 | J18: 870 | K18: 870 | L18: 870 | M18: 870 | N18: 870 | O18: 870 | P18: 870 | Q18: 870 | R18: 870 | S18: 870 | T18: 870 | U18: 870 | V18: 870 | W18: 870 | X18: 870 | Y18: 870 | Z18: 870 | AA18: 870 | AB18: 870 | AC18: 870 | AD18: 870 | AE18: 870 | AF18: 870
... A52: 23：00 | B52: 870 | C52: 870 | D52: 870 | E52: 870 | F52: 870 | G52: 870 | H52: 870 | I52: 870 | J52: 870 | K52: 870 | L52: 870 | M52: 870 | N52: 870 | O52: 870 | P52: 870 | Q52: 870 | R52: 870 | S52: 870 | T52: 870 | U52: 870 | V52: 870 | W52: 870 | X52: 870 | Y52: 870 | Z52: 870 | AA52: 870 | AB52: 870 | AC52: 870 | AD52: 870 | AE52: 870 | AF52: 870
A53: 23：30 | B53: 870 | C53: 870 | D53: 870 | E53: 870 | F53: 870 | G53: 870 | H53: 870 | I53: 870 | J53: 870 | K53: 870 | L53: 870 | M53: 870 | N53: 870 | O53: 870 | P53: 870 | Q53: 870 | R53: 870 | S53: 870 | T53: 870 | U53: 870 | V53: 870 | W53: 870 | X53: 870 | Y53: 870 | Z53: 870 | AA53: 870 | AB53: 870 | AC53: 870 | AD53: 870 | AE53: 870 | AF53: 870 | AG53: =CONCATENATE(B3,"合計") -> 1月合計
A54: 24：00 | B54: 870 | C54: 870 | D54: 870 | E54: 870 | F54: 870 | G54: 870 | H54: 870 | I54: 870 | J54: 870 | K54: 870 | L54: 870 | M54: 870 | N54: 870 | O54: 870 | P54: 870 | Q54: 870 | R54: 870 | S54: 870 | T54: 870 | U54: 870 | V54: 870 | W54: 870 | X54: 870 | Y54: 870 | Z54: 870 | AA54: 870 | AB54: 870 | AC54: 870 | AD54: 870 | AE54: 870 | AF54: 870
A55: 計 | B55: =SUM(B7:B54) -> 41760 | C55: =SUM(C7:C54) -> 41760 | D55: =SUM(D7:D54) -> 41760 | E55: =SUM(E7:E54) -> 41200 | F55: =SUM(F7:F54) -> 41200 | G55: =SUM(G7:G54) -> 41200 | H55: =SUM(H7:H54) -> 41200 | I55: =SUM(I7:I54) -> 41200 | ... AF55: =SUM(AF7:AF54) -> 41200 | AG55: =SUM(B55:AF55) -> 1281680
A56: 平日昼間（その他季） | B56: =IF(B4="",SUM(B23:B50),0) -> 0 | C56: =IF(C4="",SUM(C23:C50),0) -> 0 | D56: =IF(D4="",SUM(D23:D50),0) -> 0 | E56: =IF(E4="",SUM(E23:E50),0) -> 23800 | F56: =IF(F4="",SUM(F23:F50),0) -> 23800 | G56: =IF(G4="",SUM(G23:G50),0) -> 23800 | H56: =IF(H4="",SUM(H23:H50),0) -> 23800 | I56: =IF(I4="",SUM(I23:I50),0) -> 23800 | ... AF56: =IF(AF4="",SUM(AF23:AF50),0) -> 23800 | AG56: =SUM(B56:AF56) -> 547400
A57: 夜間及び休日 | B57: =IF(B4="",SUM(B7:B22,B51:B54),SUM(B7:B54)) -> 41760 | C57: =IF(C4="",SUM(C7:C22,C51:C54),SUM(C7:C54)) -> 41760 | D57: =IF(D4="",SUM(D7:D22,D51:D54),SUM(D7:D54)) -> 41760 | E57: =IF(E4="",SUM(E7:E22,E51:E54),SUM(E7:E54)) -> 17400 | F57: =IF(F4="",SUM(F7:F22,F51:F54),SUM(F7:F54)) -> 17400 | G57: =IF(G4="",SUM(G7:G22,G51:G54),SUM(G7:G54)) -> 17400 | H57: =IF(H4="",SUM(H7:H22,H51:H54),SUM(H7:H54)) -> 17400 | I57: =IF(I4="",SUM(I7:I22,I51:I54),SUM(I7:I54)) -> 17400 | ... AF57: =IF(AF4="",SUM(AF7:AF22,AF51:AF54),SUM(AF7:AF54)) -> 17400 | AG57: =SUM(B57:AF57) -> 734280
A59: 平均値 | B59: =AVERAGE(B7:B54) -> 870 | C59: =AVERAGE(C7:C54) -> 870 | D59: =AVERAGE(D7:D54) -> 870 | E59: =AVERAGE(E7:E54) -> 858.33333 | F59: =AVERAGE(F7:F54) -> 858.33333 | G59: =AVERAGE(G7:G54) -> 858.33333 | H59: =AVERAGE(H7:H54) -> 858.33333 | I59: =AVERAGE(I7:I54) -> 858.33333 | ... AF59: =AVERAGE(AF7:AF54) -> 858.33333
A60: 最大値 | B60: =MAX(B7:B54) -> 870 | C60: =MAX(C7:C54) -> 870 | D60: =MAX(D7:D54) -> 870 | E60: =MAX(E7:E54) -> 870 | F60: =MAX(F7:F54) -> 870 | G60: =MAX(G7:G54) -> 870 | H60: =MAX(H7:H54) -> 870 | I60: =MAX(I7:I54) -> 870 | ... AF60: =MAX(AF7:AF54) -> 870
A61: 最小値 | B61: =MIN(B7:B54) -> 870 | C61: =MIN(C7:C54) -> 870 | D61: =MIN(D7:D54) -> 870 | E61: =MIN(E7:E54) -> 850 | F61: =MIN(F7:F54) -> 850 | G61: =MIN(G7:G54) -> 850 | H61: =MIN(H7:H54) -> 850 | I61: =MIN(I7:I54) -> 850 | ... AF61: =MIN(AF7:AF54) -> 850

Sheet 2月
A1: 令和９年度 時間帯別送電計画（３０分値）
A3: ='1月'!A3 -> 10 | B3: 2月 | AF3: 単位：ｋｗｈ
A4: =SUM(B4:AF4) -> 6 | B4: =IF(B6="日",1,"") | C4: =IF(C6="日",1,"") | D4: =IF(D6="日",1,"") | E4: =IF(E6="日",1,"") | F4: =IF(F6="日",1,"") | G4: =IF(G6="日",1,"") -> 1 | H4: =IF(H6="日",1,"") | I4: =IF(I6="日",1,"") | ... K4: =IF(K6="日",1,"") | L4: 1 | M4: =IF(M6="日",1,"") | N4: =IF(N6="日",1,"") -> 1 | O4: =IF(O6="日",1,"") | P4: =IF(P6="日",1,"") | Q4: =IF(Q6="日",1,"") | R4: =IF(R6="日",1,"") | S4: =IF(S6="日",1,"") | T4: =IF(T6="日",1,"") | ... W4: =IF(W6="日",1,"") | X4: 1 | Y4: =IF(Y6="日",1,"") | Z4: =IF(Z6="日",1,"") | AA4: =IF(AA6="日",1,"") | AB4: =IF(AB6="日",1,"") -> 1 | AC4: =IF(AC6="日",1,"") | AD4: =IF(AD6="日",1,"") | AE4: =IF(AE6="日",1,"") | AF4: =IF(AF6="日",1,"")
A5: 日 時間帯 | B5: ='1月'!AF5+1 -> 46784 | C5: =B5+1 -> 46785 | D5: =C5+1 -> 46786 | E5: =D5+1 -> 46787 | F5: =E5+1 -> 46788 | G5: =F5+1 -> 46789 | H5: =G5+1 -> 46790 | I5: =H5+1 -> 46791 | J5: =I5+1 -> 46792 | ... AD5: =AC5+1 -> 46812
B6: =TEXT(B5,"aaa") -> 火 | C6: =TEXT(C5,"aaa") -> 水 | D6: =TEXT(D5,"aaa") -> 木 | E6: =TEXT(E5,"aaa") -> 金 | F6: =TEXT(F5,"aaa") -> 土 | G6: =TEXT(G5,"aaa") -> 日 | H6: =TEXT(H5,"aaa") -> 月 | I6: =TEXT(I5,"aaa") -> 火 | ... AD6: =TEXT(AD5,"aaa") -> 火
A7: 0：30 | B7: 870 | C7: 870 | D7: 870 | E7: 870 | F7: 870 | G7: 870 | H7: 870 | I7: 870 | J7: 870 | K7: 870 | L7: 870 | M7: 870 | N7: 870 | O7: 870 | P7: 870 | Q7: 870 | R7: 870 | S7: 870 | T7: 870 | U7: 870 | V7: 870 | W7: 870 | X7: 870 | Y7: 870 | Z7: 870 | AA7: 870 | AB7: 870 | AC7: 870 | AD7: 870
A8: 1：00 | B8: 870 | C8: 870 | D8: 870 | E8: 870 | F8: 870 | G8: 870 | H8: 870 | I8: 870 | J8: 870 | K8: 870 | L8: 870 | M8: 870 | N8: 870 | O8: 870 | P8: 870 | Q8: 870 | R8: 870 | S8: 870 | T8: 870 | U8: 870 | V8: 870 | W8: 870 | X8: 870 | Y8: 870 | Z8: 870 | AA8: 870 | AB8: 870 | AC8: 870 | AD8: 870
A9: 1：30 | B9: 870 | C9: 870 | D9: 870 | E9: 870 | F9: 870 | G9: 870 | H9: 870 | I9: 870 | J9: 870 | K9: 870 | L9: 870 | M9: 870 | N9: 870 | O9: 870 | P9: 870 | Q9: 870 | R9: 870 | S9: 870 | T9: 870 | U9: 870 | V9: 870 | W9: 870 | X9: 870 | Y9: 870 | Z9: 870 | AA9: 870 | AB9: 870 | AC9: 870 | AD9: 870
A10: 2：00 | B10: 870 | C10: 870 | D10: 870 | E10: 870 | F10: 870 | G10: 870 | H10: 870 | I10: 870 | J10: 870 | K10: 870 | L10: 870 | M10: 870 | N10: 870 | O10: 870 | P10: 870 | Q10: 870 | R10: 870 | S10: 870 | T10: 870 | U10: 870 | V10: 870 | W10: 870 | X10: 870 | Y10: 870 | Z10: 870 | AA10: 870 | AB10: 870 | AC10: 870 | AD10: 870
A11: 2：30 | B11: 870 | C11: 870 | D11: 870 | E11: 870 | F11: 870 | G11: 870 | H11: 870 | I11: 870 | J11: 870 | K11: 870 | L11: 870 | M11: 870 | N11: 870 | O11: 870 | P11: 870 | Q11: 870 | R11: 870 | S11: 870 | T11: 870 | U11: 870 | V11: 870 | W11: 870 | X11: 870 | Y11: 870 | Z11: 870 | AA11: 870 | AB11: 870 | AC11: 870 | AD11: 870
A12: 3：00 | B12: 870 | C12: 870 | D12: 870 | E12: 870 | F12: 870 | G12: 870 | H12: 870 | I12: 870 | J12: 870 | K12: 870 | L12: 870 | M12: 870 | N12: 870 | O12: 870 | P12: 870 | Q12: 870 | R12: 870 | S12: 870 | T12: 870 | U12: 870 | V12: 870 | W12: 870 | X12: 870 | Y12: 870 | Z12: 870 | AA12: 870 | AB12: 870 | AC12: 870 | AD12: 870
A13: 3：30 | B13: 870 | C13: 870 | D13: 870 | E13: 870 | F13: 870 | G13: 870 | H13: 870 | I13: 870 | J13: 870 | K13: 870 | L13: 870 | M13: 870 | N13: 870 | O13: 870 | P13: 870 | Q13: 870 | R13: 870 | S13: 870 | T13: 870 | U13: 870 | V13: 870 | W13: 870 | X13: 870 | Y13: 870 | Z13: 870 | AA13: 870 | AB13: 870 | AC13: 870 | AD13: 870
A14: 4：00 | B14: 870 | C14: 870 | D14: 870 | E14: 870 | F14: 870 | G14: 870 | H14: 870 | I14: 870 | J14: 870 | K14: 870 | L14: 870 | M14: 870 | N14: 870 | O14: 870 | P14: 870 | Q14: 870 | R14: 870 | S14: 870 | T14: 870 | U14: 870 | V14: 870 | W14: 870 | X14: 870 | Y14: 870 | Z14: 870 | AA14: 870 | AB14: 870 | AC14: 870 | AD14: 870
A15: 4：30 | B15: 870 | C15: 870 | D15: 870 | E15: 870 | F15: 870 | G15: 870 | H15: 870 | I15: 870 | J15: 870 | K15: 870 | L15: 870 | M15: 870 | N15: 870 | O15: 870 | P15: 870 | Q15: 870 | R15: 870 | S15: 870 | T15: 870 | U15: 870 | V15: 870 | W15: 870 | X15: 870 | Y15: 870 | Z15: 870 | AA15: 870 | AB15: 870 | AC15: 870 | AD15: 870
A16: 5：00 | B16: 870 | C16: 870 | D16: 870 | E16: 870 | F16: 870 | G16: 870 | H16: 870 | I16: 870 | J16: 870 | K16: 870 | L16: 870 | M16: 870 | N16: 870 | O16: 870 | P16: 870 | Q16: 870 | R16: 870 | S16: 870 | T16: 870 | U16: 870 | V16: 870 | W16: 870 | X16: 870 | Y16: 870 | Z16: 870 | AA16: 870 | AB16: 870 | AC16: 870 | AD16: 870
A17: 5：30 | B17: 870 | C17: 870 | D17: 870 | E17: 870 | F17: 870 | G17: 870 | H17: 870 | I17: 870 | J17: 870 | K17: 870 | L17: 870 | M17: 870 | N17: 870 | O17: 870 | P17: 870 | Q17: 870 | R17: 870 | S17: 870 | T17: 870 | U17: 870 | V17: 870 | W17: 870 | X17: 870 | Y17: 870 | Z17: 870 | AA17: 870 | AB17: 870 | AC17: 870 | AD17: 870
A18: 6：00 | B18: 870 | C18: 870 | D18: 870 | E18: 870 | F18: 870 | G18: 870 | H18: 870 | I18: 870 | J18: 870 | K18: 870 | L18: 870 | M18: 870 | N18: 870 | O18: 870 | P18: 870 | Q18: 870 | R18: 870 | S18: 870 | T18: 870 | U18: 870 | V18: 870 | W18: 870 | X18: 870 | Y18: 870 | Z18: 870 | AA18: 870 | AB18: 870 | AC18: 870 | AD18: 870
... A52: 23：00 | B52: 870 | C52: 870 | D52: 870 | E52: 870 | F52: 870 | G52: 870 | H52: 870 | I52: 870 | J52: 870 | K52: 870 | L52: 870 | M52: 870 | N52: 870 | O52: 870 | P52: 870 | Q52: 870 | R52: 870 | S52: 870 | T52: 870 | U52: 870 | V52: 870 | W52: 870 | X52: 870 | Y52: 870 | Z52: 870 | AA52: 870 | AB52: 870 | AC52: 870 | AD52: 870
A53: 23：30 | B53: 870 | C53: 870 | D53: 870 | E53: 870 | F53: 870 | G53: 870 | H53: 870 | I53: 870 | J53: 870 | K53: 870 | L53: 870 | M53: 870 | N53: 870 | O53: 870 | P53: 870 | Q53: 870 | R53: 870 | S53: 870 | T53: 870 | U53: 870 | V53: 870 | W53: 870 | X53: 870 | Y53: 870 | Z53: 870 | AA53: 870 | AB53: 870 | AC53: 870 | AD53: 870 | AG53: =CONCATENATE(B3,"合計") -> 2月合計
A54: 24：00 | B54: 870 | C54: 870 | D54: 870 | E54: 870 | F54: 870 | G54: 870 | H54: 870 | I54: 870 | J54: 870 | K54: 870 | L54: 870 | M54: 870 | N54: 870 | O54: 870 | P54: 870 | Q54: 870 | R54: 870 | S54: 870 | T54: 870 | U54: 870 | V54: 870 | W54: 870 | X54: 870 | Y54: 870 | Z54: 870 | AA54: 870 | AB54: 870 | AC54: 870 | AD54: 870
A55: 計 | B55: =SUM(B7:B54) -> 41200 | C55: =SUM(C7:C54) -> 41200 | D55: =SUM(D7:D54) -> 41200 | E55: =SUM(E7:E54) -> 41200 | F55: =SUM(F7:F54) -> 41200 | G55: =SUM(G7:G54) -> 41760 | H55: =SUM(H7:H54) -> 41200 | I55: =SUM(I7:I54) -> 41200 | ... AC55: =SUM(AC7:AC54) -> 41200 | AD55: =IF(AD5="","",SUM(AD7:AD54)) -> 41200 | AG55: =SUM(B55:AF55) -> 1198160
A56: 平日昼間（その他季） | B56: =IF(B4="",SUM(B23:B50),0) -> 23800 | C56: =IF(C4="",SUM(C23:C50),0) -> 23800 | D56: =IF(D4="",SUM(D23:D50),0) -> 23800 | E56: =IF(E4="",SUM(E23:E50),0) -> 23800 | F56: =IF(F4="",SUM(F23:F50),0) -> 23800 | G56: =IF(G4="",SUM(G23:G50),0) -> 0 | H56: =IF(H4="",SUM(H23:H50),0) -> 23800 | I56: =IF(I4="",SUM(I23:I50),0) -> 23800 | ... AD56: =IF(AD4="",SUM(AD23:AD50),0) -> 23800 | AG56: =SUM(B56:AF56) -> 547400
A57: 夜間及び休日 | B57: =IF(B4="",SUM(B7:B22,B51:B54),SUM(B7:B54)) -> 17400 | C57: =IF(C4="",SUM(C7:C22,C51:C54),SUM(C7:C54)) -> 17400 | D57: =IF(D4="",SUM(D7:D22,D51:D54),SUM(D7:D54)) -> 17400 | E57: =IF(E4="",SUM(E7:E22,E51:E54),SUM(E7:E54)) -> 17400 | F57: =IF(F4="",SUM(F7:F22,F51:F54),SUM(F7:F54)) -> 17400 | G57: =IF(G4="",SUM(G7:G22,G51:G54),SUM(G7:G54)) -> 41760 | H57: =IF(H4="",SUM(H7:H22,H51:H54),SUM(H7:H54)) -> 17400 | I57: =IF(I4="",SUM(I7:I22,I51:I54),SUM(I7:I54)) -> 17400 | ... AC57: =IF(AC4="",SUM(AC7:AC22,AC51:AC54),SUM(AC7:AC54)) -> 17400 | AD57: =IF(AD5="","",IF(AD4="",SUM(AD7:AD22,AD51:AD54),SUM(AD7:AD54))) -> 17400 | AG57: =SUM(B57:AF57) -> 650760
A59: 平均値 | B59: =AVERAGE(B7:B54) -> 858.33333 | C59: =AVERAGE(C7:C54) -> 858.33333 | D59: =AVERAGE(D7:D54) -> 858.33333 | E59: =AVERAGE(E7:E54) -> 858.33333 | F59: =AVERAGE(F7:F54) -> 858.33333 | G59: =AVERAGE(G7:G54) -> 870 | H59: =AVERAGE(H7:H54) -> 858.33333 | I59: =AVERAGE(I7:I54) -> 858.33333 | ... AC59: =AVERAGE(AC7:AC54) -> 858.33333 | AD59: =IF(AD5="","",AVERAGE(AD7:AD54)) -> 858.33333
A60: 最大値 | B60: =MAX(B7:B54) -> 870 | C60: =MAX(C7:C54) -> 870 | D60: =MAX(D7:D54) -> 870 | E60: =MAX(E7:E54) -> 870 | F60: =MAX(F7:F54) -> 870 | G60: =MAX(G7:G54) -> 870 | H60: =MAX(H7:H54) -> 870 | I60: =MAX(I7:I54) -> 870 | ... AC60: =MAX(AC7:AC54) -> 870 | AD60: =IF(AD5="","",MAX(AD7:AD54)) -> 870
A61: 最小値 | B61: =MIN(B7:B54) -> 850 | C61: =MIN(C7:C54) -> 850 | D61: =MIN(D7:D54) -> 850 | E61: =MIN(E7:E54) -> 850 | F61: =MIN(F7:F54) -> 850 | G61: =MIN(G7:G54) -> 870 | H61: =MIN(H7:H54) -> 850 | I61: =MIN(I7:I54) -> 850 | ... AC61: =MIN(AC7:AC54) -> 850 | AD61: =IF(AD5="","",MIN(AD7:AD54)) -> 850

Sheet 3月
A1: 令和９年度 時間帯別送電計画（３０分値）
A3: ='1月'!A3 -> 10 | B3: 3月 | AF3: 単位：ｋｗｈ
A4: =SUM(B4:AF4) -> 5 | B4: =IF(B6="日",1,"") | C4: =IF(C6="日",1,"") | D4: =IF(D6="日",1,"") | E4: =IF(E6="日",1,"") | F4: =IF(F6="日",1,"") -> 1 | G4: =IF(G6="日",1,"") | H4: =IF(H6="日",1,"") | I4: =IF(I6="日",1,"") | ... T4: =IF(T6="日",1,"") -> 1 | U4: 1 | V4: =IF(V6="日",1,"") | W4: =IF(W6="日",1,"") | X4: =IF(X6="日",1,"") | Y4: =IF(Y6="日",1,"") | Z4: =IF(Z6="日",1,"") | AA4: =IF(AA6="日",1,"") -> 1 | AB4: =IF(AB6="日",1,"") | AC4: =IF(AC6="日",1,"") | ... AF4: =IF(AF6="日",1,"")
A5: 日 時間帯 | B5: =IF('2月'!AD5="",'2月'!AC5+1,'2月'!AD5+1) -> 46813 | C5: =B5+1 -> 46814 | D5: =C5+1 -> 46815 | E5: =D5+1 -> 46816 | F5: =E5+1 -> 46817 | G5: =F5+1 -> 46818 | H5: =G5+1 -> 46819 | I5: =H5+1 -> 46820 | J5: =I5+1 -> 46821 | ... AF5: =AE5+1 -> 46843
B6: =TEXT(B5,"aaa") -> 水 | C6: =TEXT(C5,"aaa") -> 木 | D6: =TEXT(D5,"aaa") -> 金 | E6: =TEXT(E5,"aaa") -> 土 | F6: =TEXT(F5,"aaa") -> 日 | G6: =TEXT(G5,"aaa") -> 月 | H6: =TEXT(H5,"aaa") -> 火 | I6: =TEXT(I5,"aaa") -> 水 | ... AF6: =TEXT(AF5,"aaa") -> 金
A7: 0：30 | B7: 870 | C7: 870 | D7: 870 | E7: 870 | F7: 870 | G7: 870 | H7: 870 | I7: 870 | J7: 870 | K7: 870 | L7: 870 | M7: 870 | N7: 870 | O7: 870 | P7: 870 | Q7: 870 | R7: 870 | S7: 870 | T7: 870 | U7: 870 | V7: 870 | W7: 870 | X7: 870 | Y7: 870 | Z7: 870 | AA7: 870 | AB7: 870 | AC7: 870 | AD7: 870 | AE7: 870 | AF7: 870
A8: 1：00 | B8: 870 | C8: 870 | D8: 870 | E8: 870 | F8: 870 | G8: 870 | H8: 870 | I8: 870 | J8: 870 | K8: 870 | L8: 870 | M8: 870 | N8: 870 | O8: 870 | P8: 870 | Q8: 870 | R8: 870 | S8: 870 | T8: 870 | U8: 870 | V8: 870 | W8: 870 | X8: 870 | Y8: 870 | Z8: 870 | AA8: 870 | AB8: 870 | AC8: 870 | AD8: 870 | AE8: 870 | AF8: 870
A9: 1：30 | B9: 870 | C9: 870 | D9: 870 | E9: 870 | F9: 870 | G9: 870 | H9: 870 | I9: 870 | J9: 870 | K9: 870 | L9: 870 | M9: 870 | N9: 870 | O9: 870 | P9: 870 | Q9: 870 | R9: 870 | S9: 870 | T9: 870 | U9: 870 | V9: 870 | W9: 870 | X9: 870 | Y9: 870 | Z9: 870 | AA9: 870 | AB9: 870 | AC9: 870 | AD9: 870 | AE9: 870 | AF9: 870
A10: 2：00 | B10: 870 | C10: 870 | D10: 870 | E10: 870 | F10: 870 | G10: 870 | H10: 870 | I10: 870 | J10: 870 | K10: 870 | L10: 870 | M10: 870 | N10: 870 | O10: 870 | P10: 870 | Q10: 870 | R10: 870 | S10: 870 | T10: 870 | U10: 870 | V10: 870 | W10: 870 | X10: 870 | Y10: 870 | Z10: 870 | AA10: 870 | AB10: 870 | AC10: 870 | AD10: 870 | AE10: 870 | AF10: 870
A11: 2：30 | B11: 870 | C11: 870 | D11: 870 | E11: 870 | F11: 870 | G11: 870 | H11: 870 | I11: 870 | J11: 870 | K11: 870 | L11: 870 | M11: 870 | N11: 870 | O11: 870 | P11: 870 | Q11: 870 | R11: 870 | S11: 870 | T11: 870 | U11: 870 | V11: 870 | W11: 870 | X11: 870 | Y11: 870 | Z11: 870 | AA11: 870 | AB11: 870 | AC11: 870 | AD11: 870 | AE11: 870 | AF11: 870
A12: 3：00 | B12: 870 | C12: 870 | D12: 870 | E12: 870 | F12: 870 | G12: 870 | H12: 870 | I12: 870 | J12: 870 | K12: 870 | L12: 870 | M12: 870 | N12: 870 | O12: 870 | P12: 870 | Q12: 870 | R12: 870 | S12: 870 | T12: 870 | U12: 870 | V12: 870 | W12: 870 | X12: 870 | Y12: 870 | Z12: 870 | AA12: 870 | AB12: 870 | AC12: 870 | AD12: 870 | AE12: 870 | AF12: 870
A13: 3：30 | B13: 870 | C13: 870 | D13: 870 | E13: 870 | F13: 870 | G13: 870 | H13: 870 | I13: 870 | J13: 870 | K13: 870 | L13: 870 | M13: 870 | N13: 870 | O13: 870 | P13: 870 | Q13: 870 | R13: 870 | S13: 870 | T13: 870 | U13: 870 | V13: 870 | W13: 870 | X13: 870 | Y13: 870 | Z13: 870 | AA13: 870 | AB13: 870 | AC13: 870 | AD13: 870 | AE13: 870 | AF13: 870
A14: 4：00 | B14: 870 | C14: 870 | D14: 870 | E14: 870 | F14: 870 | G14: 870 | H14: 870 | I14: 870 | J14: 870 | K14: 870 | L14: 870 | M14: 870 | N14: 870 | O14: 870 | P14: 870 | Q14: 870 | R14: 870 | S14: 870 | T14: 870 | U14: 870 | V14: 870 | W14: 870 | X14: 870 | Y14: 870 | Z14: 870 | AA14: 870 | AB14: 870 | AC14: 870 | AD14: 870 | AE14: 870 | AF14: 870
A15: 4：30 | B15: 870 | C15: 870 | D15: 870 | E15: 870 | F15: 870 | G15: 870 | H15: 870 | I15: 870 | J15: 870 | K15: 870 | L15: 870 | M15: 870 | N15: 870 | O15: 870 | P15: 870 | Q15: 870 | R15: 870 | S15: 870 | T15: 870 | U15: 870 | V15: 870 | W15: 870 | X15: 870 | Y15: 870 | Z15: 870 | AA15: 870 | AB15: 870 | AC15: 870 | AD15: 870 | AE15: 870 | AF15: 870
A16: 5：00 | B16: 870 | C16: 870 | D16: 870 | E16: 870 | F16: 870 | G16: 870 | H16: 870 | I16: 870 | J16: 870 | K16: 870 | L16: 870 | M16: 870 | N16: 870 | O16: 870 | P16: 870 | Q16: 870 | R16: 870 | S16: 870 | T16: 870 | U16: 870 | V16: 870 | W16: 870 | X16: 870 | Y16: 870 | Z16: 870 | AA16: 870 | AB16: 870 | AC16: 870 | AD16: 870 | AE16: 870 | AF16: 870
A17: 5：30 | B17: 870 | C17: 870 | D17: 870 | E17: 870 | F17: 870 | G17: 870 | H17: 870 | I17: 870 | J17: 870 | K17: 870 | L17: 870 | M17: 870 | N17: 870 | O17: 870 | P17: 870 | Q17: 870 | R17: 870 | S17: 870 | T17: 870 | U17: 870 | V17: 870 | W17: 870 | X17: 870 | Y17: 870 | Z17: 870 | AA17: 870 | AB17: 870 | AC17: 870 | AD17: 870 | AE17: 870 | AF17: 870
A18: 6：00 | B18: 870 | C18: 870 | D18: 870 | E18: 870 | F18: 870 | G18: 870 | H18: 870 | I18: 870 | J18: 870 | K18: 870 | L18: 870 | M18: 870 | N18: 870 | O18: 870 | P18: 870 | Q18: 870 | R18: 870 | S18: 870 | T18: 870 | U18: 870 | V18: 870 | W18: 870 | X18: 870 | Y18: 870 | Z18: 870 | AA18: 870 | AB18: 870 | AC18: 870 | AD18: 870 | AE18: 870 | AF18: 870
... A52: 23：00 | B52: 870 | C52: 870 | D52: 870 | E52: 870 | F52: 870 | G52: 870 | H52: 870 | I52: 870 | J52: 870 | K52: 870 | L52: 870 | M52: 870 | N52: 870 | O52: 870 | P52: 870 | Q52: 870 | R52: 870 | S52: 870 | T52: 870 | U52: 870 | V52: 870 | W52: 870 | X52: 870 | Y52: 870 | Z52: 870 | AA52: 870 | AB52: 870 | AC52: 870 | AD52: 870 | AE52: 870 | AF52: 870
A53: 23：30 | B53: 870 | C53: 870 | D53: 870 | E53: 870 | F53: 870 | G53: 870 | H53: 870 | I53: 870 | J53: 870 | K53: 870 | L53: 870 | M53: 870 | N53: 870 | O53: 870 | P53: 870 | Q53: 870 | R53: 870 | S53: 870 | T53: 870 | U53: 870 | V53: 870 | W53: 870 | X53: 870 | Y53: 870 | Z53: 870 | AA53: 870 | AB53: 870 | AC53: 870 | AD53: 870 | AE53: 870 | AF53: 870 | AG53: =CONCATENATE(B3,"合計") -> 3月合計
A54: 24：00 | B54: 870 | C54: 870 | D54: 870 | E54: 870 | F54: 870 | G54: 870 | H54: 870 | I54: 870 | J54: 870 | K54: 870 | L54: 870 | M54: 870 | N54: 870 | O54: 870 | P54: 870 | Q54: 870 | R54: 870 | S54: 870 | T54: 870 | U54: 870 | V54: 870 | W54: 870 | X54: 870 | Y54: 870 | Z54: 870 | AA54: 870 | AB54: 870 | AC54: 870 | AD54: 870 | AE54: 870 | AF54: 870
A55: 計 | B55: =SUM(B7:B54) -> 41200 | C55: =SUM(C7:C54) -> 41200 | D55: =SUM(D7:D54) -> 41200 | E55: =SUM(E7:E54) -> 41200 | F55: =SUM(F7:F54) -> 41760 | G55: =SUM(G7:G54) -> 41200 | H55: =SUM(H7:H54) -> 41200 | I55: =SUM(I7:I54) -> 41200 | ... AF55: =SUM(AF7:AF54) -> 41200 | AG55: =SUM(B55:AF55) -> 1280000
A56: 平日昼間（その他季） | B56: =IF(B4="",SUM(B23:B50),0) -> 23800 | C56: =IF(C4="",SUM(C23:C50),0) -> 23800 | D56: =IF(D4="",SUM(D23:D50),0) -> 23800 | E56: =IF(E4="",SUM(E23:E50),0) -> 23800 | F56: =IF(F4="",SUM(F23:F50),0) -> 0 | G56: =IF(G4="",SUM(G23:G50),0) -> 23800 | H56: =IF(H4="",SUM(H23:H50),0) -> 23800 | I56: =IF(I4="",SUM(I23:I50),0) -> 23800 | ... AF56: =IF(AF4="",SUM(AF23:AF50),0) -> 23800 | AG56: =SUM(B56:AF56) -> 618800
A57: 夜間及び休日 | B57: =IF(B4="",SUM(B7:B22,B51:B54),SUM(B7:B54)) -> 17400 | C57: =IF(C4="",SUM(C7:C22,C51:C54),SUM(C7:C54)) -> 17400 | D57: =IF(D4="",SUM(D7:D22,D51:D54),SUM(D7:D54)) -> 17400 | E57: =IF(E4="",SUM(E7:E22,E51:E54),SUM(E7:E54)) -> 17400 | F57: =IF(F4="",SUM(F7:F22,F51:F54),SUM(F7:F54)) -> 41760 | G57: =IF(G4="",SUM(G7:G22,G51:G54),SUM(G7:G54)) -> 17400 | H57: =IF(H4="",SUM(H7:H22,H51:H54),SUM(H7:H54)) -> 17400 | I57: =IF(I4="",SUM(I7:I22,I51:I54),SUM(I7:I54)) -> 17400 | ... AF57: =IF(AF4="",SUM(AF7:AF22,AF51:AF54),SUM(AF7:AF54)) -> 17400 | AG57: =SUM(B57:AF57) -> 661200
A59: 平均値 | B59: =AVERAGE(B7:B54) -> 858.33333 | C59: =AVERAGE(C7:C54) -> 858.33333 | D59: =AVERAGE(D7:D54) -> 858.33333 | E59: =AVERAGE(E7:E54) -> 858.33333 | F59: =AVERAGE(F7:F54) -> 870 | G59: =AVERAGE(G7:G54) -> 858.33333 | H59: =AVERAGE(H7:H54) -> 858.33333 | I59: =AVERAGE(I7:I54) -> 858.33333 | ... AF59: =AVERAGE(AF7:AF54) -> 858.33333
A60: 最大値 | B60: =MAX(B7:B54) -> 870 | C60: =MAX(C7:C54) -> 870 | D60: =MAX(D7:D54) -> 870 | E60: =MAX(E7:E54) -> 870 | F60: =MAX(F7:F54) -> 870 | G60: =MAX(G7:G54) -> 870 | H60: =MAX(H7:H54) -> 870 | I60: =MAX(I7:I54) -> 870 | ... AF60: =MAX(AF7:AF54) -> 870
A61: 最小値 | B61: =MIN(B7:B54) -> 850 | C61: =MIN(C7:C54) -> 850 | D61: =MIN(D7:D54) -> 850 | E61: =MIN(E7:E54) -> 850 | F61: =MIN(F7:F54) -> 870 | G61: =MIN(G7:G54) -> 850 | H61: =MIN(H7:H54) -> 850 | I61: =MIN(I7:I54) -> 850 | ... AF61: =MIN(AF7:AF54) -> 850
