Workbook

Sheet 4月
A1: 令和８年度 時間帯別送電実績（３０分値）
A3: 8 | B3: 4月 | AF3: 単位：ｋｗｈ
A4: =SUM(B4:AF4) -> 6 | B4: =IF(B6="日",1,"") | C4: =IF(C6="日",1,"") | D4: =IF(D6="日",1,"") | E4: =IF(E6="日",1,"") | F4: =IF(F6="日",1,"") -> 1 | G4: =IF(G6="日",1,"") | H4: =IF(H6="日",1,"") | I4: =IF(I6="日",1,"") | ... AC4: =IF(AC6="日",1,"") | AD4: 1 | AE4: 1
A5: 日 時間帯 | B5: 46113 | C5: =B5+1 -> 46114 | D5: =C5+1 -> 46115 | E5: =D5+1 -> 46116 | F5: =E5+1 -> 46117 | G5: =F5+1 -> 46118 | H5: =G5+1 -> 46119 | I5: =H5+1 -> 46120 | J5: =I5+1 -> 46121 | ... AE5: =AD5+1 -> 46142
B6: =TEXT(B5,"aaa") -> 水 | C6: =TEXT(C5,"aaa") -> 木 | D6: =TEXT(D5,"aaa") -> 金 | E6: =TEXT(E5,"aaa") -> 土 | F6: =TEXT(F5,"aaa") -> 日 | G6: =TEXT(G5,"aaa") -> 月 | H6: =TEXT(H5,"aaa") -> 火 | I6: =TEXT(I5,"aaa") -> 水 | ... AE6: =TEXT(AE5,"aaa") -> 木
A7: 0：30 | B7: 942 | C7: 912 | D7: 924 | E7: 906 | F7: 918 | G7: 924 | H7: 900 | I7: 924 | J7: 882 | K7: 984 | L7: 978 | M7: 966 | N7: 948 | O7: 966 | P7: 936 | Q7: 960 | R7: 966 | S7: 960 | T7: 942 | U7: 966 | V7: 930 | W7: 954 | X7: 954 | Y7: 936 | Z7: 948 | AA7: 942 | AB7: 966 | AC7: 954 | AD7: 936 | AE7: 948
A8: 1：00 | B8: 936 | C8: 924 | D8: 930 | E8: 924 | F8: 930 | G8: 900 | H8: 924 | I8: 936 | J8: 894 | K8: 960 | L8: 978 | M8: 960 | N8: 954 | O8: 966 | P8: 954 | Q8: 966 | R8: 954 | S8: 960 | T8: 942 | U8: 978 | V8: 930 | W8: 972 | X8: 972 | Y8: 930 | Z8: 954 | AA8: 948 | AB8: 960 | AC8: 960 | AD8: 960 | AE8: 942
A9: 1：30 | B9: 930 | C9: 930 | D9: 930 | E9: 906 | F9: 924 | G9: 900 | H9: 900 | I9: 936 | J9: 888 | K9: 966 | L9: 990 | M9: 966 | N9: 960 | O9: 948 | P9: 948 | Q9: 954 | R9: 966 | S9: 960 | T9: 960 | U9: 960 | V9: 930 | W9: 936 | X9: 960 | Y9: 954 | Z9: 948 | AA9: 948 | AB9: 948 | AC9: 942 | AD9: 954 | AE9: 942
A10: 2：00 | B10: 936 | C10: 912 | D10: 918 | E10: 894 | F10: 918 | G10: 900 | H10: 912 | I10: 906 | J10: 900 | K10: 984 | L10: 984 | M10: 966 | N10: 936 | O10: 960 | P10: 960 | Q10: 942 | R10: 936 | S10: 960 | T10: 972 | U10: 966 | V10: 948 | W10: 954 | X10: 948 | Y10: 960 | Z10: 912 | AA10: 930 | AB10: 942 | AC10: 918 | AD10: 948 | AE10: 954
A11: 2：30 | B11: 840 | C11: 840 | D11: 852 | E11: 828 | F11: 840 | G11: 828 | H11: 918 | I11: 834 | J11: 804 | K11: 858 | L11: 900 | M11: 870 | N11: 918 | O11: 846 | P11: 870 | Q11: 882 | R11: 870 | S11: 858 | T11: 882 | U11: 882 | V11: 864 | W11: 870 | X11: 876 | Y11: 870 | Z11: 870 | AA11: 870 | AB11: 882 | AC11: 870 | AD11: 858 | AE11: 858
A12: 3：00 | B12: 846 | C12: 828 | D12: 930 | E12: 840 | F12: 912 | G12: 852 | H12: 894 | I12: 858 | J12: 834 | K12: 888 | L12: 894 | M12: 870 | N12: 924 | O12: 900 | P12: 888 | Q12: 906 | R12: 882 | S12: 888 | T12: 876 | U12: 864 | V12: 936 | W12: 888 | X12: 900 | Y12: 906 | Z12: 882 | AA12: 882 | AB12: 894 | AC12: 888 | AD12: 888 | AE12: 870
A13: 3：30 | B13: 960 | C13: 918 | D13: 834 | E13: 918 | F13: 918 | G13: 924 | H13: 900 | I13: 912 | J13: 900 | K13: 966 | L13: 966 | M13: 960 | N13: 876 | O13: 978 | P13: 942 | Q13: 978 | R13: 960 | S13: 924 | T13: 960 | U13: 972 | V13: 858 | W13: 954 | X13: 960 | Y13: 942 | Z13: 942 | AA13: 966 | AB13: 930 | AC13: 948 | AD13: 960 | AE13: 936
A14: 4：00 | B14: 966 | C14: 906 | D14: 912 | E14: 924 | F14: 918 | G14: 942 | H14: 864 | I14: 900 | J14: 906 | K14: 948 | L14: 972 | M14: 948 | N14: 960 | O14: 942 | P14: 960 | Q14: 960 | R14: 948 | S14: 936 | T14: 954 | U14: 966 | V14: 936 | W14: 960 | X14: 960 | Y14: 960 | Z14: 948 | AA14: 966 | AB14: 966 | AC14: 966 | AD14: 966 | AE14: 954
A15: 4：30 | B15: 972 | C15: 942 | D15: 930 | E15: 930 | F15: 810 | G15: 918 | H15: 972 | I15: 972 | J15: 912 | K15: 972 | L15: 972 | M15: 960 | N15: 948 | O15: 960 | P15: 972 | Q15: 948 | R15: 948 | S15: 960 | T15: 966 | U15: 966 | V15: 942 | W15: 948 | X15: 948 | Y15: 960 | Z15: 930 | AA15: 954 | AB15: 936 | AC15: 948 | AD15: 954 | AE15: 942
A16: 5：00 | B16: 984 | C16: 912 | D16: 930 | E16: 936 | F16: 924 | G16: 918 | H16: 960 | I16: 960 | J16: 900 | K16: 972 | L16: 948 | M16: 948 | N16: 966 | O16: 942 | P16: 954 | Q16: 972 | R16: 954 | S16: 936 | T16: 960 | U16: 966 | V16: 942 | W16: 966 | X16: 960 | Y16: 942 | Z16: 936 | AA16: 960 | AB16: 942 | AC16: 954 | AD16: 966 | AE16: 936
A17: 5：30 | B17: 966 | C17: 912 | D17: 924 | E17: 918 | F17: 918 | G17: 948 | H17: 954 | I17: 954 | J17: 918 | K17: 966 | L17: 978 | M17: 936 | N17: 966 | O17: 948 | P17: 954 | Q17: 966 | R17: 960 | S17: 948 | T17: 942 | U17: 972 | V17: 924 | W17: 966 | X17: 960 | Y17: 960 | Z17: 948 | AA17: 930 | AB17: 960 | AC17: 942 | AD17: 960 | AE17: 948
A18: 6：00 | B18: 948 | C18: 900 | D18: 930 | E18: 906 | F18: 912 | G18: 948 | H18: 942 | I18: 954 | J18: 906 | K18: 954 | L18: 978 | M18: 966 | N18: 960 | O18: 924 | P18: 960 | Q18: 954 | R18: 942 | S18: 942 | T18: 948 | U18: 972 | V18: 930 | W18: 948 | X18: 966 | Y18: 972 | Z18: 942 | AA18: 960 | AB18: 966 | AC18: 960 | AD18: 954 | AE18: 936
... A52: 23：00 | B52: 924 | C52: 912 | D52: 912 | E52: 936 | F52: 906 | G52: 918 | H52: 936 | I52: 924 | J52: 972 | K52: 990 | L52: 966 | M52: 954 | N52: 936 | O52: 966 | P52: 942 | Q52: 966 | R52: 942 | S52: 960 | T52: 954 | U52: 936 | V52: 954 | W52: 960 | X52: 972 | Y52: 960 | Z52: 936 | AA52: 948 | AB52: 954 | AC52: 960 | AD52: 960 | AE52: 960
A53: 23：30 | B53: 924 | C53: 942 | D53: 912 | E53: 924 | F53: 906 | G53: 912 | H53: 960 | I53: 924 | J53: 972 | K53: 978 | L53: 978 | M53: 948 | N53: 960 | O53: 954 | P53: 966 | Q53: 936 | R53: 954 | S53: 960 | T53: 960 | U53: 942 | V53: 948 | W53: 954 | X53: 960 | Y53: 954 | Z53: 960 | AA53: 960 | AB53: 936 | AC53: 948 | AD53: 942 | AE53: 960 | AG53: =CONCATENATE(B3,"合計") -> 4月合計
A54: 24：00 | B54: 930 | C54: 936 | D54: 912 | E54: 924 | F54: 906 | G54: 912 | H54: 930 | I54: 888 | J54: 954 | K54: 972 | L54: 972 | M54: 954 | N54: 954 | O54: 960 | P54: 966 | Q54: 954 | R54: 960 | S54: 954 | T54: 954 | U54: 948 | V54: 966 | W54: 954 | X54: 942 | Y54: 948 | Z54: 954 | AA54: 954 | AB54: 954 | AC54: 966 | AD54: 942 | AE54: 948
A55: 計 | B55: =SUM(B7:B54) -> 43878 | C55: =SUM(C7:C54) -> 43470 | D55: =SUM(D7:D54) -> 42936 | E55: =SUM(E7:E54) -> 43416 | F55: =SUM(F7:F54) -> 43494 | G55: =SUM(G7:G54) -> 43794 | H55: =SUM(H7:H54) -> 44178 | I55: =SUM(I7:I54) -> 43812 | ... AE55: =SUM(AE7:AE54) -> 44268 | AG55: =SUM(B55:AE55) -> 1333860
A56: 平日昼間（その他季） | B56: =IF(B4="",SUM(B23:B50),0) -> 25122 | C56: =IF(C4="",SUM(C23:C50),0) -> 25188 | D56: =IF(D4="",SUM(D23:D50),0) -> 24612 | E56: =IF(E4="",SUM(E23:E50),0) -> 25164 | F56: =IF(F4="",SUM(F23:F50),0) -> 0 | G56: =IF(G4="",SUM(G23:G50),0) -> 25416 | H56: =IF(H4="",SUM(H23:H50),0) -> 25548 | I56: =IF(I4="",SUM(I23:I50),0) -> 25332 | ... AE56: =IF(AE4="",SUM(AE23:AE50),0) -> 0 | AG56: =SUM(B56:AE56) -> 615204
A57: 夜間及び休日 | B57: =IF(B4="",SUM(B7:B22,B51:B54),SUM(B7:B54)) -> 18756 | C57: =IF(C4="",SUM(C7:C22,C51:C54),SUM(C7:C54)) -> 18282 | D57: =IF(D4="",SUM(D7:D22,D51:D54),SUM(D7:D54)) -> 18324 | E57: =IF(E4="",SUM(E7:E22,E51:E54),SUM(E7:E54)) -> 18252 | F57: =IF(F4="",SUM(F7:F22,F51:F54),SUM(F7:F54)) -> 43494 | G57: =IF(G4="",SUM(G7:G22,G51:G54),SUM(G7:G54)) -> 18378 | H57: =IF(H4="",SUM(H7:H22,H51:H54),SUM(H7:H54)) -> 18630 | I57: =IF(I4="",SUM(I7:I22,I51:I54),SUM(I7:I54)) -> 18480 | ... AE57: =IF(AE4="",SUM(AE7:AE22,AE51:AE54),SUM(AE7:AE54)) -> 44268 | AG57: =SUM(B57:AE57) -> 718656
A59: 平均値 | B59: =AVERAGE(B7:B54) -> 914.125 | C59: =AVERAGE(C7:C54) -> 905.625 | D59: =AVERAGE(D7:D54) -> 894.5 | E59: =AVERAGE(E7:E54) -> 904.5 | F59: =AVERAGE(F7:F54) -> 906.125 | G59: =AVERAGE(G7:G54) -> 912.375 | H59: =AVERAGE(H7:H54) -> 920.375 | I59: =AVERAGE(I7:I54) -> 912.75 | ... AE59: =AVERAGE(AE7:AE54) -> 922.25
A60: 最大値 | B60: =MAX(B7:B54) -> 984 | C60: =MAX(C7:C54) -> 948 | D60: =MAX(D7:D54) -> 942 | E60: =MAX(E7:E54) -> 948 | F60: =MAX(F7:F54) -> 936 | G60: =MAX(G7:G54) -> 960 | H60: =MAX(H7:H54) -> 972 | I60: =MAX(I7:I54) -> 972 | ... AE60: =MAX(AE7:AE54) -> 966
A61: 最小値 | B61: =MIN(B7:B54) -> 822 | C61: =MIN(C7:C54) -> 804 | D61: =MIN(D7:D54) -> 786 | E61: =MIN(E7:E54) -> 822 | F61: =MIN(F7:F54) -> 810 | G61: =MIN(G7:G54) -> 828 | H61: =MIN(H7:H54) -> 834 | I61: =MIN(I7:I54) -> 810 | ... AE61: =MIN(AE7:AE54) -> 810

Sheet 5月
A1: ='4月'!A1 -> 令和８年度 時間帯別送電実績（３０分値）
A3: ='4月'!A3 -> 8 | B3: 5月 | AF3: 単位：ｋｗｈ
A4: =SUM(B4:AF4) -> 10 | B4: 1 | C4: 1 | D4: 1 | E4: 1 | F4: 1 | G4: 1 | H4: =IF(H6="日",1,"") | I4: =IF(I6="日",1,"") | J4: =IF(J6="日",1,"") | K4: =IF(K6="日",1,"") -> 1 | L4: =IF(L6="日",1,"") | M4: =IF(M6="日",1,"") | N4: =IF(N6="日",1,"") | O4: =IF(O6="日",1,"") | ... AF4: =IF(AF6="日",1,"") -> 1
A5: 日 時間帯 | B5: ='4月'!AE5+1 -> 46143 | C5: =B5+1 -> 46144 | D5: =C5+1 -> 46145 | E5: =D5+1 -> 46146 | F5: =E5+1 -> 46147 | G5: =F5+1 -> 46148 | H5: =G5+1 -> 46149 | I5: =H5+1 -> 46150 | J5: =I5+1 -> 46151 | ... AF5: =AE5+1 -> 46173
B6: =TEXT(B5,"aaa") -> 金 | C6: =TEXT(C5,"aaa") -> 土 | D6: =TEXT(D5,"aaa") -> 日 | E6: =TEXT(E5,"aaa") -> 月 | F6: =TEXT(F5,"aaa") -> 火 | G6: =TEXT(G5,"aaa") -> 水 | H6: =TEXT(H5,"aaa") -> 木 | I6: =TEXT(I5,"aaa") -> 金 | ... AF6: =TEXT(AF5,"aaa") -> 日
A7: 0：30 | B7: 972 | C7: 960 | D7: 942 | E7: 942 | F7: 978 | G7: 960 | H7: 972 | I7: 954 | J7: 948 | K7: 954 | L7: 930 | M7: 936 | N7: 948 | O7: 948 | P7: 942 | Q7: 942 | R7: 960 | S7: 960 | T7: 942 | U7: 942 | V7: 912 | W7: 954 | X7: 948 | Y7: 960 | Z7: 942 | AA7: 948 | AB7: 948 | AC7: 930 | AD7: 924 | AE7: 936 | AF7: 930
A8: 1：00 | B8: 942 | C8: 924 | D8: 960 | E8: 924 | F8: 984 | G8: 960 | H8: 942 | I8: 954 | J8: 960 | K8: 954 | L8: 924 | M8: 948 | N8: 930 | O8: 936 | P8: 942 | Q8: 954 | R8: 954 | S8: 942 | T8: 936 | U8: 918 | V8: 900 | W8: 960 | X8: 960 | Y8: 972 | Z8: 960 | AA8: 918 | AB8: 936 | AC8: 936 | AD8: 930 | AE8: 954 | AF8: 942
A9: 1：30 | B9: 942 | C9: 930 | D9: 954 | E9: 930 | F9: 972 | G9: 924 | H9: 966 | I9: 960 | J9: 948 | K9: 966 | L9: 924 | M9: 948 | N9: 936 | O9: 942 | P9: 948 | Q9: 942 | R9: 948 | S9: 960 | T9: 924 | U9: 936 | V9: 948 | W9: 954 | X9: 936 | Y9: 972 | Z9: 948 | AA9: 948 | AB9: 942 | AC9: 942 | AD9: 936 | AE9: 936 | AF9: 936
A10: 2：00 | B10: 960 | C10: 948 | D10: 960 | E10: 918 | F10: 972 | G10: 924 | H10: 942 | I10: 948 | J10: 948 | K10: 936 | L10: 948 | M10: 930 | N10: 918 | O10: 924 | P10: 948 | Q10: 936 | R10: 954 | S10: 948 | T10: 930 | U10: 912 | V10: 930 | W10: 942 | X10: 960 | Y10: 960 | Z10: 960 | AA10: 936 | AB10: 936 | AC10: 924 | AD10: 924 | AE10: 924 | AF10: 918
A11: 2：30 | B11: 942 | C11: 858 | D11: 870 | E11: 858 | F11: 906 | G11: 894 | H11: 876 | I11: 876 | J11: 924 | K11: 876 | L11: 864 | M11: 882 | N11: 846 | O11: 870 | P11: 858 | Q11: 846 | R11: 858 | S11: 858 | T11: 852 | U11: 840 | V11: 852 | W11: 876 | X11: 846 | Y11: 858 | Z11: 864 | AA11: 876 | AB11: 852 | AC11: 876 | AD11: 858 | AE11: 864 | AF11: 852
A12: 3：00 | B12: 942 | C12: 876 | D12: 876 | E12: 876 | F12: 930 | G12: 852 | H12: 858 | I12: 870 | J12: 900 | K12: 864 | L12: 864 | M12: 870 | N12: 912 | O12: 852 | P12: 864 | Q12: 882 | R12: 888 | S12: 882 | T12: 840 | U12: 846 | V12: 846 | W12: 912 | X12: 858 | Y12: 900 | Z12: 942 | AA12: 858 | AB12: 858 | AC12: 852 | AD12: 924 | AE12: 894 | AF12: 852
A13: 3：30 | B13: 888 | C13: 972 | D13: 960 | E13: 948 | F13: 942 | G13: 954 | H13: 960 | I13: 960 | J13: 942 | K13: 954 | L13: 942 | M13: 948 | N13: 858 | O13: 918 | P13: 954 | Q13: 954 | R13: 936 | S13: 936 | T13: 942 | U13: 930 | V13: 936 | W13: 966 | X13: 948 | Y13: 972 | Z13: 864 | AA13: 960 | AB13: 948 | AC13: 942 | AD13: 930 | AE13: 954 | AF13: 936
A14: 4：00 | B14: 900 | C14: 948 | D14: 936 | E14: 918 | F14: 954 | G14: 966 | H14: 948 | I14: 942 | J14: 924 | K14: 954 | L14: 948 | M14: 948 | N14: 924 | O14: 942 | P14: 960 | Q14: 936 | R14: 954 | S14: 960 | T14: 924 | U14: 918 | V14: 924 | W14: 966 | X14: 954 | Y14: 966 | Z14: 948 | AA14: 954 | AB14: 954 | AC14: 954 | AD14: 960 | AE14: 942 | AF14: 942
A15: 4：30 | B15: 912 | C15: 948 | D15: 954 | E15: 960 | F15: 948 | G15: 954 | H15: 948 | I15: 966 | J15: 960 | K15: 942 | L15: 930 | M15: 954 | N15: 936 | O15: 930 | P15: 948 | Q15: 912 | R15: 954 | S15: 966 | T15: 924 | U15: 942 | V15: 948 | W15: 918 | X15: 942 | Y15: 960 | Z15: 948 | AA15: 972 | AB15: 1002 | AC15: 996 | AD15: 960 | AE15: 948 | AF15: 942
A16: 5：00 | B16: 948 | C16: 948 | D16: 954 | E16: 936 | F16: 972 | G16: 948 | H16: 948 | I16: 960 | J16: 960 | K16: 948 | L16: 948 | M16: 954 | N16: 918 | O16: 948 | P16: 930 | Q16: 924 | R16: 948 | S16: 966 | T16: 924 | U16: 942 | V16: 936 | W16: 960 | X16: 948 | Y16: 942 | Z16: 954 | AA16: 990 | AB16: 984 | AC16: 972 | AD16: 978 | AE16: 942 | AF16: 942
A17: 5：30 | B17: 954 | C17: 942 | D17: 930 | E17: 930 | F17: 948 | G17: 954 | H17: 948 | I17: 954 | J17: 954 | K17: 960 | L17: 936 | M17: 936 | N17: 936 | O17: 942 | P17: 960 | Q17: 948 | R17: 942 | S17: 930 | T17: 948 | U17: 918 | V17: 972 | W17: 942 | X17: 966 | Y17: 972 | Z17: 978 | AA17: 1002 | AB17: 984 | AC17: 972 | AD17: 972 | AE17: 960 | AF17: 942
A18: 6：00 | B18: 966 | C18: 954 | D18: 942 | E18: 954 | F18: 954 | G18: 924 | H18: 960 | I18: 960 | J18: 966 | K18: 936 | L18: 948 | M18: 948 | N18: 906 | O18: 936 | P18: 960 | Q18: 942 | R18: 948 | S18: 966 | T18: 924 | U18: 942 | V18: 978 | W18: 990 | X18: 936 | Y18: 966 | Z18: 996 | AA18: 1002 | AB18: 996 | AC18: 990 | AD18: 942 | AE18: 948 | AF18: 942
... A52: 23：00 | B52: 942 | C52: 948 | D52: 948 | E52: 960 | F52: 948 | G52: 960 | H52: 948 | I52: 924 | J52: 960 | K52: 918 | L52: 942 | M52: 930 | N52: 918 | O52: 936 | P52: 948 | Q52: 930 | R52: 942 | S52: 942 | T52: 924 | U52: 942 | V52: 960 | W52: 966 | X52: 960 | Y52: 948 | Z52: 942 | AA52: 936 | AB52: 924 | AC52: 930 | AD52: 948 | AE52: 960 | AF52: 936
A53: 23：30 | B53: 960 | C53: 942 | D53: 954 | E53: 966 | F53: 954 | G53: 936 | H53: 948 | I53: 948 | J53: 954 | K53: 918 | L53: 942 | M53: 918 | N53: 942 | O53: 954 | P53: 918 | Q53: 930 | R53: 948 | S53: 924 | T53: 918 | U53: 918 | V53: 960 | W53: 954 | X53: 960 | Y53: 930 | Z53: 960 | AA53: 936 | AB53: 942 | AC53: 936 | AD53: 948 | AE53: 930 | AF53: 948 | AG53: =CONCATENATE(B3,"合計") -> 5月合計
A54: 24：00 | B54: 960 | C54: 948 | D54: 942 | E54: 978 | F54: 978 | G54: 948 | H54: 942 | I54: 942 | J54: 954 | K54: 942 | L54: 960 | M54: 930 | N54: 942 | O54: 948 | P54: 954 | Q54: 954 | R54: 936 | S54: 924 | T54: 924 | U54: 942 | V54: 960 | W54: 960 | X54: 966 | Y54: 948 | Z54: 948 | AA54: 924 | AB54: 924 | AC54: 912 | AD54: 924 | AE54: 948 | AF54: 930
A55: 計 | B55: =SUM(B7:B54) -> 44418 | C55: =SUM(C7:C54) -> 44952 | D55: =SUM(D7:D54) -> 44904 | E55: =SUM(E7:E54) -> 44586 | F55: =SUM(F7:F54) -> 45174 | G55: =SUM(G7:G54) -> 44958 | H55: =SUM(H7:H54) -> 44100 | I55: =SUM(I7:I54) -> 43974 | ... AF55: =SUM(AF7:AF54) -> 44136 | AG55: =SUM(B55:AF55) -> 1367724
A56: 平日昼間（その他季） | B56: =IF(B4="",SUM(B23:B50),0) -> 0 | C56: =IF(C4="",SUM(C23:C50),0) -> 0 | D56: =IF(D4="",SUM(D23:D50),0) -> 0 | E56: =IF(E4="",SUM(E23:E50),0) -> 0 | F56: =IF(F4="",SUM(F23:F50),0) -> 0 | G56: =IF(G4="",SUM(G23:G50),0) -> 0 | H56: =IF(H4="",SUM(H23:H50),0) -> 25224 | I56: =IF(I4="",SUM(I23:I50),0) -> 25206 | ... AF56: =IF(AF4="",SUM(AF23:AF50),0) -> 0 | AG56: =SUM(B56:AF56) -> 529680
A57: 夜間及び休日 | B57: =IF(B4="",SUM(B7:B22,B51:B54),SUM(B7:B54)) -> 44418 | C57: =IF(C4="",SUM(C7:C22,C51:C54),SUM(C7:C54)) -> 44952 | D57: =IF(D4="",SUM(D7:D22,D51:D54),SUM(D7:D54)) -> 44904 | E57: =IF(E4="",SUM(E7:E22,E51:E54),SUM(E7:E54)) -> 44586 | F57: =IF(F4="",SUM(F7:F22,F51:F54),SUM(F7:F54)) -> 45174 | G57: =IF(G4="",SUM(G7:G22,G51:G54),SUM(G7:G54)) -> 44958 | H57: =IF(H4="",SUM(H7:H22,H51:H54),SUM(H7:H54)) -> 18876 | I57: =IF(I4="",SUM(I7:I22,I51:I54),SUM(I7:I54)) -> 18768 | ... AF57: =IF(AF4="",SUM(AF7:AF22,AF51:AF54),SUM(AF7:AF54)) -> 44136 | AG57: =SUM(B57:AF57) -> 838044
A59: 平均値 | B59: =AVERAGE(B7:B54) -> 925.375 | C59: =AVERAGE(C7:C54) -> 936.5 | D59: =AVERAGE(D7:D54) -> 935.5 | E59: =AVERAGE(E7:E54) -> 928.875 | F59: =AVERAGE(F7:F54) -> 941.125 | G59: =AVERAGE(G7:G54) -> 936.625 | H59: =AVERAGE(H7:H54) -> 918.75 | I59: =AVERAGE(I7:I54) -> 916.125 | ... AF59: =AVERAGE(AF7:AF54) -> 919.5
A60: 最大値 | B60: =MAX(B7:B54) -> 972 | C60: =MAX(C7:C54) -> 972 | D60: =MAX(D7:D54) -> 972 | E60: =MAX(E7:E54) -> 978 | F60: =MAX(F7:F54) -> 984 | G60: =MAX(G7:G54) -> 966 | H60: =MAX(H7:H54) -> 972 | I60: =MAX(I7:I54) -> 966 | ... AF60: =MAX(AF7:AF54) -> 954
A61: 最小値 | B61: =MIN(B7:B54) -> 816 | C61: =MIN(C7:C54) -> 852 | D61: =MIN(D7:D54) -> 864 | E61: =MIN(E7:E54) -> 834 | F61: =MIN(F7:F54) -> 852 | G61: =MIN(G7:G54) -> 852 | H61: =MIN(H7:H54) -> 780 | I61: =MIN(I7:I54) -> 792 | ... AF61: =MIN(AF7:AF54) -> 846

Sheet 6月
A1: ='4月'!A1 -> 令和８年度 時間帯別送電実績（３０分値）
A3: ='4月'!A3 -> 8 | B3: 6月 | AF3: 単位：ｋｗｈ
A4: =SUM(B4:AF4) -> 4 | B4: =IF(B6="日",1,"") | C4: =IF(C6="日",1,"") | D4: =IF(D6="日",1,"") | E4: =IF(E6="日",1,"") | F4: =IF(F6="日",1,"") | G4: =IF(G6="日",1,"") | H4: =IF(H6="日",1,"") -> 1 | I4: =IF(I6="日",1,"") | ... AE4: =IF(AE6="日",1,"")
A5: 日 時間帯 | B5: ='5月'!AF5+1 -> 46174 | C5: =B5+1 -> 46175 | D5: =C5+1 -> 46176 | E5: =D5+1 -> 46177 | F5: =E5+1 -> 46178 | G5: =F5+1 -> 46179 | H5: =G5+1 -> 46180 | I5: =H5+1 -> 46181 | J5: =I5+1 -> 46182 | ... AE5: =AD5+1 -> 46203
B6: =TEXT(B5,"aaa") -> 月 | C6: =TEXT(C5,"aaa") -> 火 | D6: =TEXT(D5,"aaa") -> 水 | E6: =TEXT(E5,"aaa") -> 木 | F6: =TEXT(F5,"aaa") -> 金 | G6: =TEXT(G5,"aaa") -> 土 | H6: =TEXT(H5,"aaa") -> 日 | I6: =TEXT(I5,"aaa") -> 月 | ... AE6: =TEXT(AE5,"aaa") -> 火
A7: 0：30 | B7: 942 | C7: 936 | D7: 948 | E7: 900 | F7: 900 | G7: 900 | H7: 924 | I7: 912 | J7: 906 | K7: 894 | L7: 900 | M7: 924 | N7: 918 | O7: 924 | P7: 924 | Q7: 918 | R7: 906 | S7: 900 | T7: 894 | U7: 900 | V7: 900 | W7: 894 | X7: 0 | Y7: 0 | Z7: 0 | AA7: 0 | AB7: 900 | AC7: 906 | AD7: 918 | AE7: 906
A8: 1：00 | B8: 930 | C8: 930 | D8: 966 | E8: 930 | F8: 906 | G8: 918 | H8: 912 | I8: 894 | J8: 900 | K8: 888 | L8: 918 | M8: 918 | N8: 900 | O8: 912 | P8: 864 | Q8: 906 | R8: 912 | S8: 912 | T8: 894 | U8: 912 | V8: 906 | W8: 882 | X8: 0 | Y8: 0 | Z8: 0 | AA8: 0 | AB8: 900 | AC8: 912 | AD8: 924 | AE8: 918
A9: 1：30 | B9: 954 | C9: 918 | D9: 960 | E9: 930 | F9: 924 | G9: 912 | H9: 906 | I9: 930 | J9: 888 | K9: 894 | L9: 906 | M9: 894 | N9: 918 | O9: 900 | P9: 906 | Q9: 882 | R9: 912 | S9: 888 | T9: 828 | U9: 906 | V9: 912 | W9: 906 | X9: 0 | Y9: 0 | Z9: 0 | AA9: 0 | AB9: 900 | AC9: 924 | AD9: 912 | AE9: 912
A10: 2：00 | B10: 936 | C10: 936 | D10: 942 | E10: 936 | F10: 912 | G10: 918 | H10: 912 | I10: 924 | J10: 894 | K10: 894 | L10: 900 | M10: 918 | N10: 918 | O10: 912 | P10: 894 | Q10: 906 | R10: 900 | S10: 912 | T10: 816 | U10: 906 | V10: 882 | W10: 912 | X10: 0 | Y10: 0 | Z10: 0 | AA10: 0 | AB10: 888 | AC10: 900 | AD10: 918 | AE10: 924
A11: 2：30 | B11: 852 | C11: 834 | D11: 870 | E11: 876 | F11: 786 | G11: 840 | H11: 840 | I11: 828 | J11: 858 | K11: 840 | L11: 852 | M11: 822 | N11: 810 | O11: 852 | P11: 840 | Q11: 804 | R11: 840 | S11: 840 | T11: 828 | U11: 804 | V11: 822 | W11: 876 | X11: 0 | Y11: 0 | Z11: 0 | AA11: 0 | AB11: 852 | AC11: 840 | AD11: 840 | AE11: 858
A12: 3：00 | B12: 882 | C12: 864 | D12: 864 | E12: 870 | F12: 852 | G12: 864 | H12: 846 | I12: 858 | J12: 846 | K12: 810 | L12: 828 | M12: 846 | N12: 870 | O12: 852 | P12: 840 | Q12: 834 | R12: 840 | S12: 846 | T12: 858 | U12: 840 | V12: 864 | W12: 840 | X12: 0 | Y12: 0 | Z12: 0 | AA12: 0 | AB12: 840 | AC12: 828 | AD12: 828 | AE12: 834
A13: 3：30 | B13: 966 | C13: 960 | D13: 954 | E13: 948 | F13: 906 | G13: 900 | H13: 918 | I13: 912 | J13: 912 | K13: 888 | L13: 918 | M13: 900 | N13: 918 | O13: 840 | P13: 918 | Q13: 924 | R13: 912 | S13: 906 | T13: 924 | U13: 912 | V13: 900 | W13: 876 | X13: 0 | Y13: 0 | Z13: 0 | AA13: 0 | AB13: 912 | AC13: 900 | AD13: 918 | AE13: 870
A14: 4：00 | B14: 978 | C14: 960 | D14: 942 | E14: 972 | F14: 924 | G14: 906 | H14: 918 | I14: 912 | J14: 918 | K14: 888 | L14: 912 | M14: 924 | N14: 924 | O14: 912 | P14: 912 | Q14: 912 | R14: 918 | S14: 936 | T14: 912 | U14: 912 | V14: 906 | W14: 900 | X14: 0 | Y14: 0 | Z14: 0 | AA14: 0 | AB14: 894 | AC14: 918 | AD14: 894 | AE14: 918
A15: 4：30 | B15: 978 | C15: 966 | D15: 972 | E15: 954 | F15: 912 | G15: 924 | H15: 918 | I15: 900 | J15: 912 | K15: 876 | L15: 906 | M15: 912 | N15: 918 | O15: 918 | P15: 930 | Q15: 894 | R15: 918 | S15: 972 | T15: 924 | U15: 912 | V15: 912 | W15: 894 | X15: 0 | Y15: 0 | Z15: 0 | AA15: 0 | AB15: 906 | AC15: 906 | AD15: 912 | AE15: 900
A16: 5：00 | B16: 960 | C16: 972 | D16: 996 | E16: 972 | F16: 930 | G16: 924 | H16: 906 | I16: 912 | J16: 894 | K16: 870 | L16: 912 | M16: 906 | N16: 906 | O16: 912 | P16: 924 | Q16: 900 | R16: 900 | S16: 954 | T16: 894 | U16: 906 | V16: 912 | W16: 900 | X16: 0 | Y16: 0 | Z16: 0 | AA16: 0 | AB16: 900 | AC16: 888 | AD16: 900 | AE16: 918
A17: 5：30 | B17: 978 | C17: 960 | D17: 954 | E17: 960 | F17: 906 | G17: 924 | H17: 936 | I17: 912 | J17: 912 | K17: 900 | L17: 906 | M17: 894 | N17: 924 | O17: 906 | P17: 918 | Q17: 900 | R17: 906 | S17: 984 | T17: 912 | U17: 900 | V17: 900 | W17: 900 | X17: 0 | Y17: 0 | Z17: 0 | AA17: 0 | AB17: 906 | AC17: 930 | AD17: 918 | AE17: 918
A18: 6：00 | B18: 972 | C18: 960 | D18: 966 | E18: 972 | F18: 930 | G18: 894 | H18: 936 | I18: 918 | J18: 924 | K18: 900 | L18: 918 | M18: 924 | N18: 930 | O18: 918 | P18: 912 | Q18: 906 | R18: 900 | S18: 984 | T18: 918 | U18: 924 | V18: 918 | W18: 906 | X18: 0 | Y18: 0 | Z18: 0 | AA18: 0 | AB18: 912 | AC18: 906 | AD18: 912 | AE18: 924
... A52: 23：00 | B52: 936 | C52: 954 | D52: 936 | E52: 930 | F52: 900 | G52: 912 | H52: 906 | I52: 900 | J52: 912 | K52: 906 | L52: 906 | M52: 918 | N52: 906 | O52: 918 | P52: 924 | Q52: 900 | R52: 924 | S52: 918 | T52: 906 | U52: 918 | V52: 924 | W52: 0 | X52: 0 | Y52: 0 | Z52: 0 | AA52: 924 | AB52: 912 | AC52: 906 | AD52: 912 | AE52: 918
A53: 23：30 | B53: 948 | C53: 942 | D53: 918 | E53: 936 | F53: 918 | G53: 912 | H53: 906 | I53: 900 | J53: 912 | K53: 900 | L53: 912 | M53: 912 | N53: 918 | O53: 912 | P53: 912 | Q53: 912 | R53: 906 | S53: 888 | T53: 918 | U53: 918 | V53: 900 | W53: 0 | X53: 0 | Y53: 0 | Z53: 0 | AA53: 906 | AB53: 906 | AC53: 918 | AD53: 912 | AE53: 894 | AG53: =CONCATENATE(B3,"合計") -> 6月合計
A54: 24：00 | B54: 948 | C54: 954 | D54: 912 | E54: 912 | F54: 906 | G54: 924 | H54: 900 | I54: 906 | J54: 894 | K54: 894 | L54: 936 | M54: 918 | N54: 918 | O54: 942 | P54: 912 | Q54: 930 | R54: 882 | S54: 906 | T54: 876 | U54: 906 | V54: 906 | W54: 0 | X54: 0 | Y54: 0 | Z54: 0 | AA54: 906 | AB54: 912 | AC54: 912 | AD54: 906 | AE54: 912
A55: 計 | B55: =SUM(B7:B54) -> 43932 | C55: =SUM(C7:C54) -> 44406 | D55: =SUM(D7:D54) -> 45120 | E55: =SUM(E7:E54) -> 44358 | F55: =SUM(F7:F54) -> 42606 | G55: =SUM(G7:G54) -> 43080 | H55: =SUM(H7:H54) -> 43320 | I55: =SUM(I7:I54) -> 43056 | ... AE55: =SUM(AE7:AE54) -> 42726 | AG55: =SUM(B55:AE55) -> 1111944
A56: 平日昼間（その他季） | B56: =IF(B4="",SUM(B23:B50),0) -> 24960 | C56: =IF(C4="",SUM(C23:C50),0) -> 25770 | D56: =IF(D4="",SUM(D23:D50),0) -> 26172 | E56: =IF(E4="",SUM(E23:E50),0) -> 25542 | F56: =IF(F4="",SUM(F23:F50),0) -> 24522 | G56: =IF(G4="",SUM(G23:G50),0) -> 24906 | H56: =IF(H4="",SUM(H23:H50),0) -> 0 | I56: =IF(I4="",SUM(I23:I50),0) -> 24942 | ... AE56: =IF(AE4="",SUM(AE23:AE50),0) -> 24618 | AG56: =SUM(B56:AE56) -> 539052
A57: 夜間及び休日 | B57: =IF(B4="",SUM(B7:B22,B51:B54),SUM(B7:B54)) -> 18972 | C57: =IF(C4="",SUM(C7:C22,C51:C54),SUM(C7:C54)) -> 18636 | D57: =IF(D4="",SUM(D7:D22,D51:D54),SUM(D7:D54)) -> 18948 | E57: =IF(E4="",SUM(E7:E22,E51:E54),SUM(E7:E54)) -> 18816 | F57: =IF(F4="",SUM(F7:F22,F51:F54),SUM(F7:F54)) -> 18084 | G57: =IF(G4="",SUM(G7:G22,G51:G54),SUM(G7:G54)) -> 18174 | H57: =IF(H4="",SUM(H7:H22,H51:H54),SUM(H7:H54)) -> 43320 | I57: =IF(I4="",SUM(I7:I22,I51:I54),SUM(I7:I54)) -> 18114 | ... AE57: =IF(AE4="",SUM(AE7:AE22,AE51:AE54),SUM(AE7:AE54)) -> 18108 | AG57: =SUM(B57:AE57) -> 572892
A59: 平均値 | B59: =AVERAGE(B7:B54) -> 915.25 | C59: =AVERAGE(C7:C54) -> 925.125 | D59: =AVERAGE(D7:D54) -> 940 | E59: =AVERAGE(E7:E54) -> 924.125 | F59: =AVERAGE(F7:F54) -> 887.625 | G59: =AVERAGE(G7:G54) -> 897.5 | H59: =AVERAGE(H7:H54) -> 902.5 | I59: =AVERAGE(I7:I54) -> 897 | ... AE59: =AVERAGE(AE7:AE54) -> 890.125
A60: 最大値 | B60: =MAX(B7:B54) -> 984 | C60: =MAX(C7:C54) -> 972 | D60: =MAX(D7:D54) -> 996 | E60: =MAX(E7:E54) -> 984 | F60: =MAX(F7:F54) -> 942 | G60: =MAX(G7:G54) -> 936 | H60: =MAX(H7:H54) -> 942 | I60: =MAX(I7:I54) -> 942 | ... AE60: =MAX(AE7:AE54) -> 930
A61: 最小値 | B61: =MIN(B7:B54) -> 828 | C61: =MIN(C7:C54) -> 834 | D61: =MIN(D7:D54) -> 858 | E61: =MIN(E7:E54) -> 828 | F61: =MIN(F7:F54) -> 786 | G61: =MIN(G7:G54) -> 822 | H61: =MIN(H7:H54) -> 822 | I61: =MIN(I7:I54) -> 810 | ... AE61: =MIN(AE7:AE54) -> 774

Sheet 7月
A1: ='4月'!A1 -> 令和８年度 時間帯別送電実績（３０分値）
A3: ='4月'!A3 -> 8 | B3: 7月 | AF3: 単位：ｋｗｈ
A4: =SUM(B4:AF4) -> 5 | B4: =IF(B6="日",1,"") | C4: =IF(C6="日",1,"") | D4: =IF(D6="日",1,"") | E4: =IF(E6="日",1,"") | F4: =IF(F6="日",1,"") -> 1 | G4: =IF(G6="日",1,"") | H4: =IF(H6="日",1,"") | I4: =IF(I6="日",1,"") | ... T4: =IF(T6="日",1,"") -> 1 | U4: 1 | V4: =IF(V6="日",1,"") | W4: =IF(W6="日",1,"") | X4: =IF(X6="日",1,"") | Y4: =IF(Y6="日",1,"") | Z4: =IF(Z6="日",1,"") | AA4: =IF(AA6="日",1,"") -> 1 | AB4: =IF(AB6="日",1,"") | AC4: =IF(AC6="日",1,"") | ... AF4: =IF(AF6="日",1,"")
A5: 日 時間帯 | B5: ='6月'!AE5+1 -> 46204 | C5: =B5+1 -> 46205 | D5: =C5+1 -> 46206 | E5: =D5+1 -> 46207 | F5: =E5+1 -> 46208 | G5: =F5+1 -> 46209 | H5: =G5+1 -> 46210 | I5: =H5+1 -> 46211 | J5: =I5+1 -> 46212 | ... AF5: =AE5+1 -> 46234
B6: =TEXT(B5,"aaa") -> 水 | C6: =TEXT(C5,"aaa") -> 木 | D6: =TEXT(D5,"aaa") -> 金 | E6: =TEXT(E5,"aaa") -> 土 | F6: =TEXT(F5,"aaa") -> 日 | G6: =TEXT(G5,"aaa") -> 月 | H6: =TEXT(H5,"aaa") -> 火 | I6: =TEXT(I5,"aaa") -> 水 | ... AF6: =TEXT(AF5,"aaa") -> 金
A7: 0：30 | B7: 912 | C7: 900 | D7: 882 | E7: 924 | F7: 906 | G7: 912 | H7: 918 | I7: 906 | J7: 924 | K7: 894 | L7: 918 | M7: 894 | N7: 888 | O7: 882 | P7: 888 | Q7: 894 | R7: 852 | S7: 894 | T7: 912 | U7: 900 | V7: 900 | W7: 852 | X7: 888 | Y7: 894 | Z7: 894 | AA7: 894 | AB7: 912 | AC7: 906 | AD7: 894 | AE7: 876 | AF7: 864
A8: 1：00 | B8: 912 | C8: 912 | D8: 882 | E8: 912 | F8: 906 | G8: 912 | H8: 906 | I8: 906 | J8: 906 | K8: 918 | L8: 918 | M8: 894 | N8: 900 | O8: 888 | P8: 900 | Q8: 894 | R8: 894 | S8: 888 | T8: 888 | U8: 894 | V8: 882 | W8: 876 | X8: 870 | Y8: 888 | Z8: 894 | AA8: 888 | AB8: 900 | AC8: 900 | AD8: 900 | AE8: 882 | AF8: 900
A9: 1：30 | B9: 912 | C9: 894 | D9: 882 | E9: 894 | F9: 924 | G9: 912 | H9: 912 | I9: 906 | J9: 906 | K9: 912 | L9: 906 | M9: 918 | N9: 894 | O9: 888 | P9: 876 | Q9: 894 | R9: 900 | S9: 888 | T9: 912 | U9: 888 | V9: 876 | W9: 882 | X9: 888 | Y9: 906 | Z9: 912 | AA9: 888 | AB9: 900 | AC9: 894 | AD9: 906 | AE9: 876 | AF9: 900
A10: 2：00 | B10: 918 | C10: 894 | D10: 888 | E10: 900 | F10: 912 | G10: 912 | H10: 900 | I10: 900 | J10: 912 | K10: 882 | L10: 918 | M10: 900 | N10: 876 | O10: 876 | P10: 876 | Q10: 912 | R10: 888 | S10: 894 | T10: 882 | U10: 894 | V10: 864 | W10: 870 | X10: 888 | Y10: 906 | Z10: 882 | AA10: 906 | AB10: 888 | AC10: 900 | AD10: 906 | AE10: 894 | AF10: 894
A11: 2：30 | B11: 834 | C11: 834 | D11: 804 | E11: 834 | F11: 840 | G11: 822 | H11: 840 | I11: 822 | J11: 834 | K11: 840 | L11: 822 | M11: 840 | N11: 828 | O11: 822 | P11: 822 | Q11: 828 | R11: 822 | S11: 798 | T11: 828 | U11: 822 | V11: 828 | W11: 840 | X11: 816 | Y11: 816 | Z11: 810 | AA11: 834 | AB11: 810 | AC11: 834 | AD11: 846 | AE11: 816 | AF11: 828
A12: 3：00 | B12: 882 | C12: 834 | D12: 840 | E12: 900 | F12: 846 | G12: 858 | H12: 828 | I12: 840 | J12: 846 | K12: 852 | L12: 828 | M12: 816 | N12: 840 | O12: 816 | P12: 882 | Q12: 846 | R12: 852 | S12: 828 | T12: 840 | U12: 846 | V12: 822 | W12: 798 | X12: 810 | Y12: 816 | Z12: 828 | AA12: 828 | AB12: 828 | AC12: 858 | AD12: 828 | AE12: 822 | AF12: 834
A13: 3：30 | B13: 852 | C13: 906 | D13: 900 | E13: 852 | F13: 882 | G13: 930 | H13: 918 | I13: 930 | J13: 906 | K13: 906 | L13: 888 | M13: 900 | N13: 960 | O13: 942 | P13: 960 | Q13: 960 | R13: 948 | S13: 894 | T13: 906 | U13: 900 | V13: 888 | W13: 894 | X13: 882 | Y13: 882 | Z13: 912 | AA13: 900 | AB13: 906 | AC13: 876 | AD13: 942 | AE13: 966 | AF13: 954
A14: 4：00 | B14: 894 | C14: 918 | D14: 900 | E14: 900 | F14: 912 | G14: 942 | H14: 924 | I14: 906 | J14: 912 | K14: 912 | L14: 900 | M14: 918 | N14: 960 | O14: 948 | P14: 960 | Q14: 966 | R14: 972 | S14: 906 | T14: 900 | U14: 894 | V14: 888 | W14: 882 | X14: 888 | Y14: 888 | Z14: 900 | AA14: 906 | AB14: 912 | AC14: 912 | AD14: 972 | AE14: 948 | AF14: 972
A15: 4：30 | B15: 906 | C15: 918 | D15: 912 | E15: 912 | F15: 918 | G15: 918 | H15: 918 | I15: 906 | J15: 906 | K15: 906 | L15: 906 | M15: 882 | N15: 954 | O15: 966 | P15: 960 | Q15: 960 | R15: 966 | S15: 894 | T15: 906 | U15: 894 | V15: 882 | W15: 888 | X15: 894 | Y15: 894 | Z15: 912 | AA15: 900 | AB15: 906 | AC15: 906 | AD15: 954 | AE15: 960 | AF15: 978
A16: 5：00 | B16: 912 | C16: 918 | D16: 900 | E16: 906 | F16: 912 | G16: 912 | H16: 912 | I16: 906 | J16: 918 | K16: 906 | L16: 906 | M16: 906 | N16: 972 | O16: 942 | P16: 966 | Q16: 978 | R16: 972 | S16: 894 | T16: 912 | U16: 876 | V16: 888 | W16: 912 | X16: 882 | Y16: 894 | Z16: 888 | AA16: 918 | AB16: 894 | AC16: 912 | AD16: 966 | AE16: 966 | AF16: 972
A17: 5：30 | B17: 912 | C17: 918 | D17: 888 | E17: 912 | F17: 918 | G17: 912 | H17: 912 | I17: 912 | J17: 912 | K17: 918 | L17: 906 | M17: 912 | N17: 948 | O17: 960 | P17: 972 | Q17: 966 | R17: 972 | S17: 882 | T17: 882 | U17: 906 | V17: 894 | W17: 876 | X17: 876 | Y17: 900 | Z17: 912 | AA17: 912 | AB17: 906 | AC17: 900 | AD17: 954 | AE17: 972 | AF17: 948
A18: 6：00 | B18: 912 | C18: 912 | D18: 906 | E18: 906 | F18: 924 | G18: 918 | H18: 930 | I18: 906 | J18: 912 | K18: 894 | L18: 906 | M18: 912 | N18: 966 | O18: 972 | P18: 960 | Q18: 966 | R18: 966 | S18: 894 | T18: 894 | U18: 894 | V18: 894 | W18: 882 | X18: 900 | Y18: 894 | Z18: 900 | AA18: 906 | AB18: 900 | AC18: 780 | AD18: 966 | AE18: 966 | AF18: 948
... A52: 23：00 | B52: 912 | C52: 882 | D52: 912 | E52: 924 | F52: 918 | G52: 906 | H52: 912 | I52: 912 | J52: 918 | K52: 906 | L52: 894 | M52: 894 | N52: 900 | O52: 882 | P52: 894 | Q52: 900 | R52: 870 | S52: 900 | T52: 876 | U52: 882 | V52: 858 | W52: 648 | X52: 888 | Y52: 882 | Z52: 900 | AA52: 900 | AB52: 894 | AC52: 906 | AD52: 882 | AE52: 0 | AF52: 888
A53: 23：30 | B53: 906 | C53: 894 | D53: 918 | E53: 912 | F53: 912 | G53: 912 | H53: 906 | I53: 912 | J53: 900 | K53: 906 | L53: 918 | M53: 900 | N53: 888 | O53: 912 | P53: 894 | Q53: 882 | R53: 906 | S53: 900 | T53: 906 | U53: 900 | V53: 876 | W53: 876 | X53: 888 | Y53: 900 | Z53: 894 | AA53: 900 | AB53: 906 | AC53: 894 | AD53: 864 | AE53: 222 | AF53: 876 | AG53: =CONCATENATE(B3,"合計") -> 7月合計
A54: 24：00 | B54: 906 | C54: 894 | D54: 900 | E54: 936 | F54: 918 | G54: 918 | H54: 912 | I54: 900 | J54: 906 | K54: 912 | L54: 894 | M54: 888 | N54: 900 | O54: 882 | P54: 894 | Q54: 888 | R54: 876 | S54: 906 | T54: 888 | U54: 894 | V54: 900 | W54: 882 | X54: 882 | Y54: 894 | Z54: 894 | AA54: 906 | AB54: 906 | AC54: 906 | AD54: 894 | AE54: 678 | AF54: 900
A55: 計 | B55: =SUM(B7:B54) -> 42714 | C55: =SUM(C7:C54) -> 43032 | D55: =SUM(D7:D54) -> 42636 | E55: =SUM(E7:E54) -> 42990 | F55: =SUM(F7:F54) -> 43122 | G55: =SUM(G7:G54) -> 42702 | H55: =SUM(H7:H54) -> 42612 | I55: =SUM(I7:I54) -> 42024 | ... AF55: =SUM(AF7:AF54) -> 42264 | AG55: =SUM(B55:AF55) -> 1274706
A56: 平日昼間（夏季） | B56: =IF(B4="",SUM(B23:B50),0) -> 24684 | C56: =IF(C4="",SUM(C23:C50),0) -> 25182 | D56: =IF(D4="",SUM(D23:D50),0) -> 24786 | E56: =IF(E4="",SUM(E23:E50),0) -> 24912 | F56: =IF(F4="",SUM(F23:F50),0) -> 0 | G56: =IF(G4="",SUM(G23:G50),0) -> 24522 | H56: =IF(H4="",SUM(H23:H50),0) -> 24516 | I56: =IF(I4="",SUM(I23:I50),0) -> 23994 | ... AF56: =IF(AF4="",SUM(AF23:AF50),0) -> 23928 | AG56: =SUM(B56:AF56) -> 602460
A57: 夜間及び休日 | B57: =IF(B4="",SUM(B7:B22,B51:B54),SUM(B7:B54)) -> 18030 | C57: =IF(C4="",SUM(C7:C22,C51:C54),SUM(C7:C54)) -> 17850 | D57: =IF(D4="",SUM(D7:D22,D51:D54),SUM(D7:D54)) -> 17850 | E57: =IF(E4="",SUM(E7:E22,E51:E54),SUM(E7:E54)) -> 18078 | F57: =IF(F4="",SUM(F7:F22,F51:F54),SUM(F7:F54)) -> 43122 | G57: =IF(G4="",SUM(G7:G22,G51:G54),SUM(G7:G54)) -> 18180 | H57: =IF(H4="",SUM(H7:H22,H51:H54),SUM(H7:H54)) -> 18096 | I57: =IF(I4="",SUM(I7:I22,I51:I54),SUM(I7:I54)) -> 18030 | ... AF57: =IF(AF4="",SUM(AF7:AF22,AF51:AF54),SUM(AF7:AF54)) -> 18336 | AG57: =SUM(B57:AF57) -> 672246
A59: 平均値 | B59: =AVERAGE(B7:B54) -> 889.875 | C59: =AVERAGE(C7:C54) -> 896.5 | D59: =AVERAGE(D7:D54) -> 888.25 | E59: =AVERAGE(E7:E54) -> 895.625 | F59: =AVERAGE(F7:F54) -> 898.375 | G59: =AVERAGE(G7:G54) -> 889.625 | H59: =AVERAGE(H7:H54) -> 887.75 | I59: =AVERAGE(I7:I54) -> 875.5 | ... AF59: =AVERAGE(AF7:AF54) -> 880.5
A60: 最大値 | B60: =MAX(B7:B54) -> 930 | C60: =MAX(C7:C54) -> 936 | D60: =MAX(D7:D54) -> 924 | E60: =MAX(E7:E54) -> 936 | F60: =MAX(F7:F54) -> 924 | G60: =MAX(G7:G54) -> 942 | H60: =MAX(H7:H54) -> 930 | I60: =MAX(I7:I54) -> 930 | ... AF60: =MAX(AF7:AF54) -> 978
A61: 最小値 | B61: =MIN(B7:B54) -> 816 | C61: =MIN(C7:C54) -> 804 | D61: =MIN(D7:D54) -> 804 | E61: =MIN(E7:E54) -> 804 | F61: =MIN(F7:F54) -> 804 | G61: =MIN(G7:G54) -> 780 | H61: =MIN(H7:H54) -> 786 | I61: =MIN(I7:I54) -> 774 | ... AF61: =MIN(AF7:AF54) -> 792
